BEGIN:VCALENDAR
VERSION:2.0
PRODID:-//Cedeso//NONSGML kigkonsult.se iCalcreator 2.30.10//
CALSCALE:GREGORIAN
METHOD:PUBLISH
UID:16496cea-fe30-424e-a20a-315f45935524
X-WR-CALNAME:iCagenda
X-WR-CALDESC:Event Management Extension for Joomla!
X-WR-RELCALID:3E26604A-50F4-4449-8B3E-E4F4932D05B5
X-WR-TIMEZONE:America/Costa_Rica
BEGIN:VTIMEZONE
TZID:America/Costa_Rica
BEGIN:STANDARD
TZNAME:CST
DTSTART:20180827T060000
TZOFFSETFROM:+0000
TZOFFSETTO:-0600
END:STANDARD
END:VTIMEZONE
BEGIN:VEVENT
UID:8fa015ba-c605-45b4-b4cd-c10692d6433e
DTSTAMP:20260419T160709Z
CATEGORIES:Mejores Prácticas Organizacionales
CLASS:PUBLIC
DESCRIPTION;ALTREP="CID:<FFFF__=0ABBE548DFE235B58f9e8a93d@coffeebean.com>":
 Taller modalidad virtual:\nLa magia de enseñarFormación de formadores\nEl 
 objetivo de esta experiencia de aprendizaje es:Dotar a las personas partic
 ipantes de las herramientas necesarias para fortalecer las habilidades de 
 equipos de formadores mediante la comprensión de las últimas tendencias en
  el diseño\, forma de impartir y evaluar procesos de aprendizaje dirigidos
  a personas adultas\nPara graduarse como magos al finalizar la experiencia
  de aprendizaje\, todos los participantes habrán realizado diferentes desa
 fíos relacionados con los siguientes contenidos:\nAndragogía: El arte de e
 nseñar a personas adultas\nGestión de grupos de aprendizaje Tipología de p
 articipantes y su gestión en el entorno de aprendizaje El facilitador: rol
 es\, funciones y cualidades Manejo de situaciones desafiantes Inclusión y 
 equidad en los procesos de aprendizaje\nDiseñando experiencias de aprendiz
 aje efectivas Identificación de necesidades de capacitación  Diseño de obj
 etivos Criterios de selección de contenidos curriculares Estrategias didác
 ticas para facilitar el aprendizaje Criterios de evaluación de un programa
  de aprendizaje\nHerramientas para aprender más y mejor: Estrategias básic
 as de gamificación Principios básicos de Storytelling para favorecer el ap
 rendizaje Principios de diseño de recursos de aprendizaje (materiales didá
 cticos y presentaciones efectivas)\nLa metodología de aprendizaje será 20%
  magistral y 80% experiencial\, proponiendo retos\, misiones y desafíos qu
 e se diseñan de manera específica para promover los objetivos de aprendiza
 je esperados en los participantes.\nAl finalizar el proceso la metáfora de
 l Mago se traslada a la vida personal como la astucia que debe tener un fo
 rmador para crear experiencias de aprendizaje memorables\, inmersivas y qu
 e promuevan un verdadero aprendizaje significativo en los participantes.\n
 Licda. Gina Sequeira Psicóloga con Certificación Internacional en Business
  Coaching\, Estudios de posgrado en Gerencia y Evaluación de Proyectos\, c
 on más de 17 años en el diseño de procesos de capacitación para equipos de
  alto desempeño y experta en el diseño de experiencias de aprendizaje bajo
  el modelo de Gamificación.\nFecha: 28 y 29 de mayo y 4 y 5 de junio 2020H
 orario: 1:00 p.m. a 5:00 p.m.Duración: 16 horas.Modalidad: Virtual.Inversi
 ón: ¢160.000 + 2% IVA por participante.Incluye: Material didáctico y certi
 ficado de participación.\nInscripciones e Información al e-mail info@cedes
 o.co.crTel: (506) 2225-1007 Fax: (506) 2253-2774Visite nuestra página www.
 cedeso.co.crfacebook.com/cedesocostarica\n 
DTSTART:20200528T190000Z
DTEND:20200605T230000Z
GEO:00;0
LOCATION:Virtual
ORGANIZER;CN=:info@cedeso.co.cr
SEQUENCE:1
SUMMARY:La magia de enseñar Formación de formadores
TRANSP:OPAQUE
URL:https://cedeso.co.cr/eventos-anteriores/270-la-magia-de-ense%C3%B1ar-fo
 rmaci%C3%B3n-de-formadores
END:VEVENT
END:VCALENDAR
