BEGIN:VCALENDAR
VERSION:2.0
PRODID:-//Cedeso//NONSGML kigkonsult.se iCalcreator 2.30.10//
CALSCALE:GREGORIAN
METHOD:PUBLISH
UID:15862d1e-5883-4a81-8b46-481b8200e983
X-WR-CALNAME:iCagenda
X-WR-CALDESC:Event Management Extension for Joomla!
X-WR-RELCALID:3E26604A-50F4-4449-8B3E-E4F4932D05B5
X-WR-TIMEZONE:America/Costa_Rica
BEGIN:VTIMEZONE
TZID:America/Costa_Rica
BEGIN:STANDARD
TZNAME:CST
DTSTART:20180909T060000
TZOFFSETFROM:+0000
TZOFFSETTO:-0600
END:STANDARD
END:VTIMEZONE
BEGIN:VEVENT
UID:bfa9a82d-87b3-41d7-9a81-1bfff1292253
DTSTAMP:20260419T160608Z
CATEGORIES:Mejores Prácticas Organizacionales
CLASS:PUBLIC
DESCRIPTION;ALTREP="CID:<FFFF__=0ABBE548DFE235B58f9e8a93d@coffeebean.com>":
 Charla:\nAdaptándome positivamente al nuevo presente\nObjetivo general:Mot
 ivar a los participantes por medio de técnicas prácticas como lograr ver l
 as situaciones que se presentan a diario como una oportunidad de poder ada
 ptarse en una forma positiva\, creando nuevas oportunidades a través de su
 s experiencias y sus capacidades\, que harán el proceso de cambio más amig
 able y positivo.\nMetodología:La metodología de trabajo será mediante una 
 sesión On line en la que los participantes tendrán su material visual y po
 drán interactuar con el facilitador\, creando en conjunto un aprendizaje c
 ooperativo\, dinámico y ameno haciendo más ágil la curva de aprendizaje y 
 su práctica en la realidad.\nContenido Temático: • Etapas del cambio.• Tra
 mpas del cerebro: Tus pensamientos pueden transformar tu realidad.• Rompie
 ndo paradigmas: Renunciar con facilidad a prácticas antiguas.• Libero mied
 os.• Resiliencia: Mostrar flexibilidad ante situaciones nuevas.• Realista 
 optimista o realista pesimista.• Autocultivo: Creación de hábitos en momen
 tos de cambios.• Capacidad de adaptar mis respuestas ante necesidades camb
 iantes.• Le doy la bienvenida al nuevo presente.\nFecha: 10 junio del 2020
 .Horario: 8:15 a.m. a 10:00 a.m.Modalidad: Virtual.Inversión: ¢20.000 + 2%
  de IVA por participante.Incluye: Material didáctico y certificado de part
 icipación en pdf.\nFacilitadora: Hellen Fonseca Quesada. Licenciada en Adm
 inistración de Empresas con Énfasis en Recursos Humanos con 18 años de car
 rera profesional en el área de Recursos Humanos ocupando distintas posicio
 nes y los últimos 10 años niveles gerenciales en empresas como Aldesa y Gr
 upo Nación.Cuenta con una certificación del INA de su programa de idoneida
 d para poder ejercer como profesora en temas propios de la carrera de Recu
 rsos Humanos o similares.Certificada en el programa de facilitadores de la
  Universidad Corporativa de Grupo Nación\, facilitadora del Colegio de Cie
 ncias Económicas\, FUNDEPOS y además es Profesora Universitaria desde el 2
 013.Ha creado programas de Liderazgo\, Coaching\, Mentoring y Wellness\, T
 eletrabajo\, habilidades blandas\, valores y competencias\, es experta en 
 estudios de Clima y Cultura Organizacional\, además de proyectos de Respon
 sabilidad Social\, Medio Ambiente\, Balance: Vida TrabajoHa liderado equip
 os de trabajo de alto rendimiento obteniendo certificaciones como Great Pl
 ace to Work\, Calidad ISO 9001:2015\, Marca País\, Carbono Neutralidad y B
 andera Azul.\nTodas nuestras capacitaciones pueden ser impartidas en su or
 ganización.\nInscripciones e información al e-mail info@cedeso.co.crTel: (
 506) 2225-1007 Fax: (506) 2253-2774Visite nuestra página www.cedeso.co.crf
 acebook.com/cedesocostarica
DTSTART:20200610T141500Z
DTEND:20200610T163000Z
GEO:00;0
LOCATION:Virtual
ORGANIZER;CN=:info@cedeso.co.cr
SEQUENCE:1
SUMMARY:Adaptándome positivamente al nuevo presente
TRANSP:OPAQUE
URL:https://cedeso.co.cr/eventos-anteriores/271-adapt%C3%A1ndome-positivame
 nte-al-nuevo-presente
END:VEVENT
END:VCALENDAR
