BEGIN:VCALENDAR
VERSION:2.0
PRODID:-//Cedeso//NONSGML kigkonsult.se iCalcreator 2.30.10//
CALSCALE:GREGORIAN
METHOD:PUBLISH
UID:10f82218-214c-4f50-93a6-c7ed333f6ff6
X-WR-CALNAME:iCagenda
X-WR-CALDESC:Event Management Extension for Joomla!
X-WR-RELCALID:3E26604A-50F4-4449-8B3E-E4F4932D05B5
X-WR-TIMEZONE:America/Costa_Rica
BEGIN:VTIMEZONE
TZID:America/Costa_Rica
BEGIN:STANDARD
TZNAME:CST
DTSTART:20180916T060000
TZOFFSETFROM:+0000
TZOFFSETTO:-0600
END:STANDARD
END:VTIMEZONE
BEGIN:VEVENT
UID:c29d7f3b-7580-4aa4-97cc-0e442ada38cc
DTSTAMP:20260419T172324Z
CATEGORIES:Mejores Prácticas Organizacionales
CLASS:PUBLIC
DESCRIPTION;ALTREP="CID:<FFFF__=0ABBE548DFE235B58f9e8a93d@coffeebean.com>":
 Charla:\nLiderazgo a distancia centrado en la confianza\nObjetivo general:
 Brindar a los participantes consejos prácticos y actuales de como poder se
 r un Líder que ayuda a que su equipo se adapte al cambio\, bajo un sistema
  de confianza mutua y los motiva y guía con su ejemplo para que juntos pue
 dan lograr los resultados necesarios.\nMetodología:La metodología de traba
 jo será mediante una sesión On line en la que los participantes tendrán su
  material visual y podrán interactuar con el facilitador\, creando en conj
 unto un aprendizaje cooperativo\, dinámico y ameno haciendo más ágil la cu
 rva de aprendizaje y su práctica en la realidad.\nContenido Temático: • El
  arte de liderarme a mí mismo.• Gestión emocional estratégica.  - Guía prá
 ctica para conservar la calma.  - Técnicas para ir hacia adentro.  - Ser u
 n líder resiliente.• Elementos de la interacción humana.• Somos lo que hac
 emos.• Comunicación.  - Los 4 silencios.  - Confrontación positiva.  - Esc
 ucha y empatía.  - Comunicación generosa (dónde estamos y hacia dónde vamo
 s). • Reconocimiento a la medida.• Experiencias transformadoras. • Control
 o el resultado no el horario.\nFecha: 17 de junio del 2020.Horario: 8:15 a
 .m. a 10:00 a.m.Modalidad: Virtual.Inversión: ¢20.000 + 2% de IVA por part
 icipante.Incluye: Material didáctico y certificado de participación en PDF
 .\nFacilitadora: Hellen Fonseca Quesada. Licenciada en Administración de E
 mpresas con Énfasis en Recursos Humanos con 18 años de carrera profesional
  en el área de Recursos Humanos ocupando distintas posiciones y los último
 s 10 años niveles gerenciales en empresas como Aldesa y Grupo Nación.Cuent
 a con una certificación del INA de su programa de idoneidad para poder eje
 rcer como profesora en temas propios de la carrera de Recursos Humanos o s
 imilares.Certificada en el programa de facilitadores de la Universidad Cor
 porativa de Grupo Nación\, facilitadora del Colegio de Ciencias Económicas
 \, FUNDEPOS y además es Profesora Universitaria desde el 2013.Ha creado pr
 ogramas de Liderazgo\, Coaching\, Mentoring y Wellness\, Teletrabajo\, hab
 ilidades blandas\, valores y competencias\, es experta en estudios de Clim
 a y Cultura Organizacional\, además de proyectos de Responsabilidad Social
 \, Medio Ambiente\, Balance: Vida TrabajoHa liderado equipos de trabajo de
  alto rendimiento obteniendo certificaciones como Great Place to Work\, Ca
 lidad ISO 9001:2015\, Marca País\, Carbono Neutralidad y Bandera Azul.\nTo
 das nuestras capacitaciones pueden ser impartidas en su organización.\nIns
 cripciones e información al e-mail info@cedeso.co.crTel: (506) 2225-1007 F
 ax: (506) 2253-2774Visite nuestra página www.cedeso.co.crfacebook.com/cede
 socostarica
DTSTART:20200617T141500Z
DTEND:20200617T163000Z
GEO:00;0
LOCATION:Virtual
ORGANIZER;CN=:info@cedeso.co.cr
SEQUENCE:1
SUMMARY:Liderazgo a distancia centrado en la confianza
TRANSP:OPAQUE
URL:https://cedeso.co.cr/eventos-anteriores/272-liderazgo-a-distancia-centr
 ado-en-la-confianza
END:VEVENT
END:VCALENDAR
