BEGIN:VCALENDAR
VERSION:2.0
PRODID:-//Cedeso//NONSGML kigkonsult.se iCalcreator 2.30.10//
CALSCALE:GREGORIAN
METHOD:PUBLISH
UID:220ab2e8-51d9-492b-8391-82c79ca7dfd4
X-WR-CALNAME:iCagenda
X-WR-CALDESC:Event Management Extension for Joomla!
X-WR-RELCALID:3E26604A-50F4-4449-8B3E-E4F4932D05B5
X-WR-TIMEZONE:America/Costa_Rica
BEGIN:VTIMEZONE
TZID:America/Costa_Rica
BEGIN:STANDARD
TZNAME:CST
DTSTART:20180923T060000
TZOFFSETFROM:+0000
TZOFFSETTO:-0600
END:STANDARD
END:VTIMEZONE
BEGIN:VEVENT
UID:b67509b6-e937-41de-b786-7854be00e795
DTSTAMP:20260419T185940Z
CATEGORIES:Mejores Prácticas Organizacionales
CLASS:PUBLIC
DESCRIPTION;ALTREP="CID:<FFFF__=0ABBE548DFE235B58f9e8a93d@coffeebean.com>":
 Charla:\nTeletrabajo y cómo lograr que siga siendo un beneficio\nObjetivo 
 general:Brindar a los participantes tanto jefes como colaboradores informa
 ción valiosa sobre el beneficio del Teletrabajo la función y responsabilid
 ades que tendrá cada uno y el paso a paso en forma detallada de como imple
 mentarlo y como obtener la productividad deseada y a su vez el balance vid
 a-trabajo de los colaboradores\, logrando que se siga viendo y valorando c
 omo un beneficio y un plus para los colaboradores y las organizaciones.\nM
 etodología:La metodología de trabajo será mediante una sesión On line en l
 a que los participantes tendrán su material visual y podrán interactuar co
 n el facilitador\, creando en conjunto un aprendizaje cooperativo\, dinámi
 co y ameno haciendo más ágil la curva de aprendizaje y su práctica en la r
 ealidad.\nContenido Temático: Requisitos   • Colaboradores.  • Tecnología 
 de información.   • Legal.   • Ambiente. Mejores prácticas (Brindar a los 
 colaboradores el apoyo necesario).  • Espacio físico.  • Descansos.    - P
 ausas activas.    - Tiempos de alimentación.    - Experiencias brillantes.
    • Comunicación generosa.    - Hablando.    - Escuchando.    - Llamada p
 oderosa.  • Equipo: Salud y seguridad.  • Planificación.    - Reglas clara
 s.  • Plan de repuesto.  • Medición y Control.     - Control los resultado
 s no el horario.    - Realimentación positiva.\nFecha: 24 de junio del 202
 0.Horario: 8:15 a.m. a 10:00 a.m.Modalidad: Virtual.Inversión: ¢20.000 + 2
 % de IVA por participante.Incluye: Material didáctico y certificado de par
 ticipación en PDF.\nFacilitadora: Hellen Fonseca Quesada. Licenciada en Ad
 ministración de Empresas con Énfasis en Recursos Humanos con 18 años de ca
 rrera profesional en el área de Recursos Humanos ocupando distintas posici
 ones y los últimos 10 años niveles gerenciales en empresas como Aldesa y G
 rupo Nación.Cuenta con una certificación del INA de su programa de idoneid
 ad para poder ejercer como profesora en temas propios de la carrera de Rec
 ursos Humanos o similares.Certificada en el programa de facilitadores de l
 a Universidad Corporativa de Grupo Nación\, facilitadora del Colegio de Ci
 encias Económicas\, FUNDEPOS y además es Profesora Universitaria desde el 
 2013.Ha creado programas de Liderazgo\, Coaching\, Mentoring y Wellness\, 
 Teletrabajo\, habilidades blandas\, valores y competencias\, es experta en
  estudios de Clima y Cultura Organizacional\, además de proyectos de Respo
 nsabilidad Social\, Medio Ambiente\, Balance: Vida TrabajoHa liderado equi
 pos de trabajo de alto rendimiento obteniendo certificaciones como Great P
 lace to Work\, Calidad ISO 9001:2015\, Marca País\, Carbono Neutralidad y 
 Bandera Azul.\nTodas nuestras capacitaciones pueden ser impartidas en su o
 rganización.\nInscripciones e información al e-mail info@cedeso.co.crTel: 
 (506) 2225-1007 Fax: (506) 2253-2774Visite nuestra página www.cedeso.co.cr
 facebook.com/cedesocostarica
DTSTART:20200624T141500Z
DTEND:20200624T163000Z
GEO:00;0
LOCATION:Virtual
ORGANIZER;CN=:info@cedeso.co.cr
SEQUENCE:1
SUMMARY:Teletrabajo y cómo lograr que siga siendo un beneficio
TRANSP:OPAQUE
URL:https://cedeso.co.cr/eventos-anteriores/273-teletrabajo-y-c%C3%B3mo-log
 rar-que-siga-siendo-un-beneficio
END:VEVENT
END:VCALENDAR
