BEGIN:VCALENDAR
VERSION:2.0
PRODID:-//Cedeso//NONSGML kigkonsult.se iCalcreator 2.30.10//
CALSCALE:GREGORIAN
METHOD:PUBLISH
UID:4749acdb-6a16-4456-b4ce-918bf19bf73b
X-WR-CALNAME:iCagenda
X-WR-CALDESC:Event Management Extension for Joomla!
X-WR-RELCALID:3E26604A-50F4-4449-8B3E-E4F4932D05B5
X-WR-TIMEZONE:America/Costa_Rica
BEGIN:VTIMEZONE
TZID:America/Costa_Rica
BEGIN:STANDARD
TZNAME:CST
DTSTART:20180909T060000
TZOFFSETFROM:+0000
TZOFFSETTO:-0600
END:STANDARD
END:VTIMEZONE
BEGIN:VEVENT
UID:a0ca9406-b960-409b-ac31-4c0098a38d95
DTSTAMP:20260419T160935Z
CATEGORIES:Mejores Prácticas Organizacionales
CLASS:PUBLIC
DESCRIPTION;ALTREP="CID:<FFFF__=0ABBE548DFE235B58f9e8a93d@coffeebean.com>":
 Taller:\nCumplimiento de objetivos en escenarios adversos\nCuando hablamos
  de cumplimiento de objetivos\, es muy común el que pensemos en un proceso
  estructurado basado en análisis sistemáticos y mecánicos que debemos segu
 ir para tener éxito. Sin embargo\, cuando está involucrada la mente humana
 \, la situación se hace más compleja por estar involucrados creencias\, em
 ociones y juicios los cuales condicionan la conducta y toma de decisiones 
 del ser humano\, lo cual conlleva a retrasar o no culminar con nuestros ob
 jetivos.\nCon este taller se dará un enfoque conductual sobre el porqué no
  llegamos a nuestras metas\, los factores determinantes y la disposición a
  llegar a los objetivos en situaciones adversas.\nObjetivo: Aprender a ges
 tionar nuestra conducta para el cumplimiento de los objetivos ante situaci
 ones adversas considerando la forma en que nuestro cerebro actúa en la tom
 a de decisiones y resolución de problemas.\nDirigido a: Profesionales y pe
 rsonas dentro o fuera de las organizaciones que busquen el éxito profesion
 al y personal en el cumplimiento de los objetivos y metas planteadas en la
 s diferentes facetas en la vida.\nContenidos:* Los objetivos en nuestra vi
 da.* Objetivos y metas: conociendo el Modelo Smart* Una retrospectiva sobr
 e nosotros mismos: fortalezas Vs oportunidades de mejora.* El entorno que 
 nos rodea: lo que escapa de mi control.* ¿Cómo funciona nuestro cerebro?  
 - Toma de decisiones  - Juicios  - Intuición  - Las emociones  - La heurís
 tica en la búsqueda de objetivos.  - La interpretación de la realidad por 
 parte del cerebro.* ¿Qué falla en el logro de nuestros objetivos en moment
 os adversos?  - Creencias Limitantes  - Pretextos y distracciones de nuest
 ra mente.  - Anclajes positivos y negativos.  - Factores Externos.* Calibr
 ando nuestros objetivos\, metas y estrategias.* La Pasión como elemento cl
 ave en el cumplimiento de objetivos.* Visualizando nuestro estado de éxito
 .* Reencuadrando la forma de ver las cosas.* Apuntando a los objetivos: El
  camino en búsqueda del éxito.* Gestionado nuestro tiempo.* Competencias y
  habilidades necesarias para el cumplimiento de objetivos y metas.* Como s
 aber si he llegado. Armando mis propios indicadores.* ¿Y después qué? El d
 ía siguiente al cumplimiento de mis objetivos.\nFecha: 10\, 11\, 17 y 18 d
 e junio 2020Horario: 2:00 p.m. a 4:00 p.m.Duración: 8 horas.Modalidad: Vir
 tual (Plataforma Zoom).Inversión: ¢80.000 + 2% IVA por participante.Incluy
 e: Material didáctico y certificado de participación en PDF.Facilitadores:
  Gabriela Roberti. Especialista en captación ejecutiva y desarrollo del ta
 lento a través herramientas que permiten impulsar competencias. Coach prof
 esional orientada a potenciar equipos y emprendedores.Salvador Ismayel. Co
 nsultor de emprendedores\, coach organizacional y de emprendimiento orient
 ado a impulsar el crecimiento de srtatups. Especialista en proyectos y est
 udios de factibilidad económica.\nInscripciones e información al e-mail in
 fo@cedeso.co.crTel: (506) 2225-1007 Fax: (506) 2253-2774Visite nuestra pág
 ina www.cedeso.co.crfacebook.com/cedesocostarica
DTSTART:20200610T200000Z
DTEND:20200618T220000Z
GEO:00;0
LOCATION:Vitual
ORGANIZER;CN=:info@cedeso.co.cr
SEQUENCE:1
SUMMARY:Cumplimiento de objetivos en escenarios adversos
TRANSP:OPAQUE
URL:https://cedeso.co.cr/eventos-anteriores/275-cumplimiento-de-objetivos-e
 n-escenarios-adversos
END:VEVENT
END:VCALENDAR
