BEGIN:VCALENDAR
VERSION:2.0
PRODID:-//Cedeso//NONSGML kigkonsult.se iCalcreator 2.30.10//
CALSCALE:GREGORIAN
METHOD:PUBLISH
UID:6f87f2ec-7a14-42bf-8999-ef8288ec912e
X-WR-CALNAME:iCagenda
X-WR-CALDESC:Event Management Extension for Joomla!
X-WR-RELCALID:3E26604A-50F4-4449-8B3E-E4F4932D05B5
X-WR-TIMEZONE:America/Costa_Rica
BEGIN:VTIMEZONE
TZID:America/Costa_Rica
BEGIN:STANDARD
TZNAME:CST
DTSTART:20181111T060000
TZOFFSETFROM:+0000
TZOFFSETTO:-0600
END:STANDARD
END:VTIMEZONE
BEGIN:VEVENT
UID:6a98b457-60ae-421c-97a8-bdb056f68b26
DTSTAMP:20260419T173947Z
CATEGORIES:Mejores Prácticas Organizacionales
CLASS:PUBLIC
DESCRIPTION;ALTREP="CID:<FFFF__=0ABBE548DFE235B58f9e8a93d@coffeebean.com>":
 Taller:\n \nAgilidad Organizacional\n \nLa única forma de competir en un e
 ntorno que no admite segundos lugares\n \n \nContenidos:\n\nEntender la ne
 cesidad de incorporar la agilidad a la organización.\n\nProceso de planeac
 ión estratégica.\nOrganización ágil vs. Proyectos ágiles.\nMáximas ágiles.
 \nPrincipios ágiles.\nMetodología tradicional de administración de proyect
 os vs. Agilidad.\nEl peor enemigo cultural de la agilidad: Micromanagement
 .\n\n\nDescribir los roles de SCRUM y sus responsabilidades.\n\nEl dueño d
 e producto.\nEl facilitador ágil.\nEl equipo de desarrollo.\n\n\nDetallar 
 y comprender los artefactos utilizados en el marco de trabajo.\n\nPizarra 
 Scrum.\nPila de producto.\nPila de iteración.\n\n\nExplicar la importancia
  de los eventos SCRUM en el cumplimiento adecuado del marco de trabajo y l
 a mejora continua.\n\nPlanificación de la iteración.\nSesión diaria.\nSesi
 ón de refinamiento.\nSesión de revisión.\nSesión de retrospectiva.\n\n\n\n
  \nDirigido a: Profesionales a cargo de áreas que tengan necesidades de tr
 ansformación y proyectos en el corto plazo.\n \nFecha: 12\, 14\, 19 y 21 d
 e agosto 2020\nHorario: 8:00 a.m. a 10:00 a.m.\nDuración: 8 horas.\nModali
 dad: Virtual (Plataforma Zoom).\nInversión: ¢80.000 + 2% IVA por participa
 nte.\nIncluye: Material didáctico y certificado de participación en PDF.\n
  \nFacilitador: Esteban Solís Durán. Licenciado Dirección de Empresas\, po
 see Maestrías Profesionales en Administración y Dirección de Empresas con 
 énfasis en Finanzas (UCR) e Ingeniería Industrial con énfasis en Administr
 ación Industrial. Profesional certificado como Scrum Master\, Product Owne
 r y LeSS Basics por CERTIPROF\, SCRUM ALLIANCE y LeSS respectivamente. Pro
 fesional con experiencia en Recursos Humanos\, Finanzas\, Automatización d
 e procesos en PBMN y Desarrollo Organizacional.
DTSTART:20200812T140000Z
DTEND:20200821T160000Z
GEO:00;0
LOCATION:Virtual
ORGANIZER;CN=:info@cedeso.co.cr
SEQUENCE:1
SUMMARY:Agilidad Organizacional
TRANSP:OPAQUE
URL:https://cedeso.co.cr/eventos-anteriores/276-agilidad-organizacional
END:VEVENT
END:VCALENDAR
