BEGIN:VCALENDAR
VERSION:2.0
PRODID:-//Cedeso//NONSGML kigkonsult.se iCalcreator 2.30.10//
CALSCALE:GREGORIAN
METHOD:PUBLISH
UID:66657c95-1508-4506-8a71-dc32211f6656
X-WR-CALNAME:iCagenda
X-WR-CALDESC:Event Management Extension for Joomla!
X-WR-RELCALID:3E26604A-50F4-4449-8B3E-E4F4932D05B5
X-WR-TIMEZONE:America/Costa_Rica
BEGIN:VTIMEZONE
TZID:America/Costa_Rica
BEGIN:STANDARD
TZNAME:CST
DTSTART:20180915T060000
TZOFFSETFROM:+0000
TZOFFSETTO:-0600
END:STANDARD
END:VTIMEZONE
BEGIN:VEVENT
UID:26feead8-7a10-4201-9130-aee77cb641b5
DTSTAMP:20260419T161358Z
CATEGORIES:Mejores Prácticas Organizacionales
CLASS:PUBLIC
DESCRIPTION;ALTREP="CID:<FFFF__=0ABBE548DFE235B58f9e8a93d@coffeebean.com>":
 Programa avanzado para líderes de capacitación y desarrollo\nSesiones pres
 enciales\, con todas las medidas de protección\nCurse el Programa completo
  o solo aquellas sesiones de su interés\nTemas alineados con COVID-19\nEst
 e programa tiene contenidos especiales para la versión in-house\, 'llévelo
  a su organización'.\n*Contenido VICA (Volátil\, Incierto\, Complejo y Amb
 iguo) es el 'nuevo normal'\nSesión 1\nDidáctica para líderesTrain the trei
 ner para formadores\nContenidos:- Modelos 10.20.70 óptimos de aprendizaje 
 laboral y su manejo en nuestra organización.- El ciclo de Kolb\, el aprend
 izaje autodirigido y la neurociencia del desempeño: ¡Andragogía TOP!- Acti
 vidades instruccionales\, aprendizajes de salida\, soft skills\, engagemen
 t y desempeño.- Mediación\, storytelling y modelos de microtraining en el 
 mundo VICA*\nFecha: 16 de junio del 2020.Horario: 8:00 a.m. a 12:00 m.d.Du
 ración: 4 horas.Lugar: Hotel Radisson\, B° Tournón.Inversión: ¢65.000 + 2%
  de IVA por participante.Incluye: Refrigerio\, material didáctico y certif
 icado de participación.\nSesión 2\nDetección de Necesidades de Capacitació
 n\nContenidos:- La “Encuesta de Necesidades de Capacitación” y otras malas
  ideas en DNC…- Manejo de clusters de cargos y brechas de desempeño (model
 o Mager2.0 aplicado).- DNC por evidencias y opciones para cierre de brecha
 s.- DNC para el 'nuevo normal': aprender ágil en VICA*\nFecha: 17 de junio
  del 2020.Horario: 8:00 a.m. a 12:00 m.d.Duración: 4 horas.Lugar: Hotel Ra
 disson\, B° Tournón.Inversión: ¢65.000 + 2% de IVA por participante.Incluy
 e: Refrigerio\, material didáctico y certificado de participación.\nSesión
  3\nUniversidades EmpresarialesRunning Training lika a Business\nContenido
 s:- ¿Qué es una Universidad Empresarial (UE)?- ¿Qué diferencia la UE de un
  área de Capacitación en el 'nuevo normal'?- El modelo 3C (ciudadanía/onbo
 arding\, contexto competitivo\, capacidades Z).- Estructura de la UE: facu
 ltades\, escuelas\, programas\, socios\, centros de excelencia y alineamie
 nto estratégico.\nFecha: 23 de junio del 2020.Horario: 8:00 a.m. a 12:00 m
 .d.Duración: 4 horas.Lugar: Hotel Radisson\, B° Tournón.Inversión: ¢65.000
  + 2% de IVA por participante.Incluye: Refrigerio\, material didáctico y c
 ertificado de participación.\nSesión 4\nEvaluación de impacto y rentabilid
 ad de la capacitación\nContenidos:- Transferencia\, alineamiento y otros f
 actores a considerar antes de calcular el impacto…- Niveles de evaluación 
 de reacción\, aprendizaje\, conductas e indicadores: ¿Qué miden (o no)?- D
 iseños más efectivos para aislar el impacto de la capacitación.- Modelo FD
 C: como calcular\, paso a paso\, cuánto ganamos por cada peso invertido en
  capacitación ¡Ejemplos concretos!\nFecha: 24 de junio del 2020.Horario: 8
 :00 a.m. a 12:00 m.d.Duración: 4 horas.Lugar: Hotel Radisson\, B° Tournón.
 Inversión: ¢65.000 + 2% de IVA por participante.Incluye: Refrigerio\, mate
 rial didáctico y certificado de participación.\nFacilitador: Dr. Enrique M
 argery• Doctor en Educación y TEDx speaker.• Profesor de la Maestría en Ps
 icología del Trabajo en la Universidad de Costa Rica. Profesor invitado de
  la Universidad de Querétaro (UAQ\, México) y la Universidad UAGM (Puerto 
 Rico).• Diseña capacitación para desarrollo de soft skills basado en apren
 dizaje por la experiencia\, GBL y “reto-aprendizaje”.• Coach especialista 
 en ciencia de la colaboración y manejo de top performers.• Diseña herramie
 ntas para medir el Sentido de Urgencia\, el “termómetro de la colaboración
 ” y la rentabilidad de la capacitación\, entre otros.• Autor de los libros
  “Complejidad y Competencias”\, “Herramientas de Coaching”\, “El Viaje” (E
 ditorial Norma\; uno de los primeros libros de psicología positiva publica
 dos) y 'Complejidad\, Transdisciplinariedad y Compentencias'\nTodas nuestr
 as capacitaciones pueden ser impartidas en su organización\nInscripciones 
 e Información al e-mail info@cedeso.co.crTel: (506) 2225-1007 · Fax: (506)
  2253-2774Visite nuestra página www.cedeso.co.crfacebook.com/cedesocostari
 ca
DTSTART:20200616T140000Z
DTEND:20200624T180000Z
GEO:+09.943364;-84.077087
LOCATION:Hotel Radisson\, B° Tournón
ORGANIZER;CN=:info@cedeso.co.cr
SEQUENCE:1
SUMMARY:Programa avanzado para líderes de capacitación y desarrollo
TRANSP:OPAQUE
URL:https://cedeso.co.cr/eventos-anteriores/277-fecha-16-de-junio-del-2020-
 horario-8-00-a-m-a-12-00-m-d-duraci%C3%B3n-4-horas-lugar-hotel-radisson,-b
 %C2%B0-tourn%C3%B3n-inversi%C3%B3n-%C2%A265-000-2-de-iva-por-participante-
 incluye-refrigerio,-material-did%C3%A1ctico-y-certificado-de-participaci%C
 3%B3n
END:VEVENT
END:VCALENDAR
