BEGIN:VCALENDAR
VERSION:2.0
PRODID:-//Cedeso//NONSGML kigkonsult.se iCalcreator 2.30.10//
CALSCALE:GREGORIAN
METHOD:PUBLISH
UID:095b4103-e84e-4378-8a60-f7954a2323ce
X-WR-CALNAME:iCagenda
X-WR-CALDESC:Event Management Extension for Joomla!
X-WR-RELCALID:3E26604A-50F4-4449-8B3E-E4F4932D05B5
X-WR-TIMEZONE:America/Costa_Rica
BEGIN:VTIMEZONE
TZID:America/Costa_Rica
BEGIN:STANDARD
TZNAME:CST
DTSTART:20181006T060000
TZOFFSETFROM:+0000
TZOFFSETTO:-0600
END:STANDARD
END:VTIMEZONE
BEGIN:VEVENT
UID:47b99402-65ef-47d3-bbeb-9ff8cdd92dc3
DTSTAMP:20260419T171841Z
CATEGORIES:Mejores Prácticas Organizacionales
CLASS:PUBLIC
DESCRIPTION;ALTREP="CID:<FFFF__=0ABBE548DFE235B58f9e8a93d@coffeebean.com>":
 Taller online:\nRedes laborales inteligentes\nConvierto relaciones complej
 as en resultados\n¿Qué es una red laboral inteligente?En nuestro trabajo e
 xisten diversos protagonistas: quien dirige\, colaboradores\, otras áreas.
  Cada uno con objetivos que no siempre coinciden con los nuestros. Una red
  laboral inteligente es: usar estrategia para manejar la complejidad de es
 tas relaciones laborales y el impacto que tienen sobre nuestro trabajo y a
 sí cumplir nuestras metas exitosamente.\nAprendizajes de este taller- Herr
 amientas para analizar científicamente nuestra red y analizar sus priorida
 des.- Identificar el estilo de comunicación de contactos clave.- Técnicas 
 para manejar situaciones y personas 'difíciles'.- Creación de estrategias 
 para tratar a cada uno de estos contactos\, considerando: relación laboral
 \, personalidad\, contexto y objetivos de trabajo.\nFecha: 7 y 8 de julio 
 del 2020.Horario: 9:00 a.m. a 11:30 a.m.Duración: 5 horas.Medio: Plataform
 a Zoom.Inversión: ¢40.000 + 2% de IVA por participante.Incluye: Material d
 idáctico y certificado de participación en PDF.\nFacilitadora: Tanya Leiva
 . Experta en mejoras de negocio en América Latina. MBA\, PMP\, Data Scient
 ist\, Asesora y especialista en PYMES. Líder de proyectos en Latinoamérica
  con más de 10 años de experiencia en mejora o creación de organizaciones 
 y modelos de negocio\, impactando a más de 2\,000 personas.\nTodas nuestra
 s capacitaciones pueden ser impartidas en su organización\nInscripciones e
  información al e-mail info@cedeso.co.crTel: (506) 2225-1007 · Tel/Fax: (5
 06) 2253-2774Visite nuestra página www.cedeso.co.crfacebook.com/cedesocost
 arica
DTSTART:20200707T150000Z
DTEND:20200708T173000Z
GEO:00;0
LOCATION:En línea
ORGANIZER;CN=:info@cedeso.co.cr
SEQUENCE:1
SUMMARY:Redes laborales inteligentes
TRANSP:OPAQUE
URL:https://cedeso.co.cr/eventos-anteriores/284-redes-laborales-inteligente
 s
END:VEVENT
END:VCALENDAR
