BEGIN:VCALENDAR
VERSION:2.0
PRODID:-//Cedeso//NONSGML kigkonsult.se iCalcreator 2.30.10//
CALSCALE:GREGORIAN
METHOD:PUBLISH
UID:6b23baeb-36a1-43b3-ac1f-a79e0b7f48dd
X-WR-CALNAME:iCagenda
X-WR-CALDESC:Event Management Extension for Joomla!
X-WR-RELCALID:3E26604A-50F4-4449-8B3E-E4F4932D05B5
X-WR-TIMEZONE:America/Costa_Rica
BEGIN:VTIMEZONE
TZID:America/Costa_Rica
BEGIN:STANDARD
TZNAME:CST
DTSTART:20181208T060000
TZOFFSETFROM:+0000
TZOFFSETTO:-0600
END:STANDARD
END:VTIMEZONE
BEGIN:VEVENT
UID:d6bbdf2a-4755-4820-9af9-25804801cc53
DTSTAMP:20260419T173507Z
CATEGORIES:Mejores Prácticas Organizacionales
CLASS:PUBLIC
DESCRIPTION;ALTREP="CID:<FFFF__=0ABBE548DFE235B58f9e8a93d@coffeebean.com>":
 Taller online:\nComunicador Rockstar\nPensamiento estratégico\n¿Qué es un 
 rockstar?Aquel que sabe bien su 'show'\, construye su personaje y lo vuelv
 e figura\, un fenómeno mediático\, un espectáculo.\nAprendizajes de este t
 aller:- Cómo utilizar mis habilidades de comunicación a favor del mensaje.
 - Cómo hacer un análisis correcto de la audiencia.- Cómo leer y transmitir
  el 'What's in it for me?' (¿qué hay ahí para mí?) e interesar a su audien
 cia o receptor.- Cómo llevar a la audiencia a tomar acciones.- Qué hacer y
  qué no hacer a todo nivel jerárquico.- Cómo leer y manejar situaciones\, 
 conflictos e intereses hábilmente.\nEnseñamos pensamiento estratégico para
  utilizarlo en al comunicación: la herramienta más importante en negocios.
 \nFecha: 8 y 9 de setiembre del 2020.Horario: 9:00 a.m. a 11:30 a.m.Duraci
 ón: 5 horas.Medio: Plataforma Zoom.Inversión: ¢40.000 + 2% de IVA por part
 icipante.Incluye: Material didáctico y certificado de participación en PDF
 .\nFacilitadora: Tanya Leiva. Experta en mejoras de negocio en América Lat
 ina. MBA\, PMP\, Data Scientist\, Asesora y especialista en PYMES. Líder d
 e proyectos en Latinoamérica con más de 10 años de experiencia en mejora o
  creación de organizaciones y modelos de negocio\, impactando a más de 2\,
 000 personas.\nTodas nuestras capacitaciones pueden ser impartidas en su o
 rganización\nInscripciones e información al e-mail info@cedeso.co.crTel: (
 506) 2225-1007 · Tel/Fax: (506) 2253-2774Visite nuestra página www.cedeso.
 co.crfacebook.com/cedesocostarica
DTSTART:20200908T150000Z
DTEND:20200909T173000Z
GEO:00;0
LOCATION:En línea
ORGANIZER;CN=:info@cedeso.co.cr
SEQUENCE:1
SUMMARY:Comunicador Rockstar
TRANSP:OPAQUE
URL:https://cedeso.co.cr/eventos-anteriores/286-comunicador-rockstar
END:VEVENT
END:VCALENDAR
