BEGIN:VCALENDAR
VERSION:2.0
PRODID:-//Cedeso//NONSGML kigkonsult.se iCalcreator 2.30.10//
CALSCALE:GREGORIAN
METHOD:PUBLISH
UID:93e3156a-8b7b-41b3-bb69-92617489a01e
X-WR-CALNAME:iCagenda
X-WR-CALDESC:Event Management Extension for Joomla!
X-WR-RELCALID:3E26604A-50F4-4449-8B3E-E4F4932D05B5
X-WR-TIMEZONE:America/Costa_Rica
BEGIN:VTIMEZONE
TZID:America/Costa_Rica
BEGIN:STANDARD
TZNAME:CST
DTSTART:20181210T060000
TZOFFSETFROM:+0000
TZOFFSETTO:-0600
END:STANDARD
END:VTIMEZONE
BEGIN:VEVENT
UID:1e5d7e48-ecf8-4930-b30d-97b56c93a15c
DTSTAMP:20260419T185642Z
CATEGORIES:Mejores Prácticas Organizacionales
CLASS:PUBLIC
DESCRIPTION;ALTREP="CID:<FFFF__=0ABBE548DFE235B58f9e8a93d@coffeebean.com>":
 e-Formadores: cómo capacitar en entornos virtuales\nHerramientas para desa
 rrollar capacitación en modalidad virtual\n  \nObjetivo orientativo: las y
  los participantes podrán explicar\, aplicar y apreciar un conjunto integr
 ado de herramientas para desarrollar capacitación empresarial remota bajo 
 la modalidad de virtual classroom.\n Contenidos y actividades:\n\nMediació
 n virtual\, didáctica y claves de neurociencia en la virtualidad.\nCapacid
 ades cruciales del entrenador\, fatiga de la virtualidad\, calidad del e-l
 earning y condiciones de entrada de los participantes.\n¡Combata la Inmuni
 dad al Cambio! ¿Qué debe empezar a hacer distinto como e-formador(a)?\nDNC
  basado en evidencias\, ciclo de Kolb y las prácticas para la transferenci
 a de los aprendizajes.\nCurando contenidos: un diseño instruccional con im
 pacto en el desempeño.\n15 mejores prácticas en didáctica virtual en adult
 os: ¡destreza comunicativa en acción\, manejo de conductas de entrada y má
 s!\nFlipped classroom y transferencia como claves del formador (trainer em
 presarial).\nTema especial: ¡un tema diferente en cada entrega de este sem
 inario! (SBE-Scenario based approach\, modelo ADDIE\, etc.)\nStorytelling 
 y microtraining: ¡liderazgo didáctico en entornos virtuales enriquecidos!
 \nBreakout rooms\, Mentimeter© y Padle©: triadas tecnológicas para apoyar 
 el aprendizaje.\n\n \nFecha: 10\, 11\, 17 y 18 de setiembre del 2020\nHora
 rio: 8:30 p.m. a 10:00 p.m.\nDuración: 6 horas.\nPlataforma: Zoom.\nInvers
 ión: ¢60.000 + 2% de IVA por participante.\nIncluye: Material didáctico y 
 certificado de participación en PDF.\n \nFacilitador: Enrique Margery Bert
 oglia.\nDoctor en Educación. TEDx speaker. Director del Open Institute. Pr
 ofesor de la Maestría en Psicología del Trabajo y las Organizaciones (UCR)
 . Director de la revista empresarial Mundo VICA. Profesor invitado de las 
 Universidades Autónoma de Querétaro (UAQ\, Méx) y UAGM (Puerto Rico). Repr
 esentante residente de Entrenadores del Talento (España). Miembro del Obse
 rvatorio del Juego y del Diplomado Internacional en Pedagogía del Juego. A
 utor de los libros “El Viaje”\, “Herramientas de Coaching”\, “¡Aléjate de 
 la Escalera!” / “Step away from the ladder!” y “Complejidad\, transdiscipl
 inariedad y competencias”.\n \nTodas nuestras capacitaciones pueden ser im
 partidas en su organización.\n \nInscripciones e información al e-mail inf
 o@cedeso.co.cr\nTel: (506) 2225-1007 Fax: (506) 2253-2774\nVisite nuestra 
 página www.cedeso.co.cr\nfacebook.com/cedesocostarica
DTSTART:20200910T143000Z
DTEND:20200918T160000Z
GEO:00;0
LOCATION:En línea
ORGANIZER;CN=:info@cedeso.co.cr
SEQUENCE:1
SUMMARY:e-Formadores: cómo capacitar en entornos virtuales
TRANSP:OPAQUE
URL:https://cedeso.co.cr/eventos-anteriores/287-e-formadores-c%C3%B3mo-capa
 citar-en-entornos-virtuales
END:VEVENT
END:VCALENDAR
