BEGIN:VCALENDAR
VERSION:2.0
PRODID:-//Cedeso//NONSGML kigkonsult.se iCalcreator 2.30.10//
CALSCALE:GREGORIAN
METHOD:PUBLISH
UID:2beb5df6-58d6-434f-a472-eb869ac38adc
X-WR-CALNAME:iCagenda
X-WR-CALDESC:Event Management Extension for Joomla!
X-WR-RELCALID:3E26604A-50F4-4449-8B3E-E4F4932D05B5
X-WR-TIMEZONE:America/Costa_Rica
BEGIN:VTIMEZONE
TZID:America/Costa_Rica
BEGIN:STANDARD
TZNAME:CST
DTSTART:20181021T060000
TZOFFSETFROM:+0000
TZOFFSETTO:-0600
END:STANDARD
END:VTIMEZONE
BEGIN:VEVENT
UID:a8022caa-1074-4e57-b60c-2661a6a6df28
DTSTAMP:20260419T173510Z
CATEGORIES:Mejores Prácticas Organizacionales
CLASS:PUBLIC
DESCRIPTION;ALTREP="CID:<FFFF__=0ABBE548DFE235B58f9e8a93d@coffeebean.com>":
 Taller:\nCómo lidiar con personas problemáticas\n¿Se siente inseguro\, est
 resado o abrumado en el trabajo?¿Siente que necesita mucho esfuerzo para a
 lcanzar los objetivos de trabajo?¿Experimenta cansancio y desmotivación en
  su oficina?¿Su organización es buena\, pero hay personas conflictivas que
  contaminan el ambiente?\nIdentifique las causas de estrés laboral más com
 unes\nSe verán temas como:• ¿Qué tienen que ver las personas problemáticas
  con la baja producción y la perdida de dinero en la organización?• ¿Cuále
 s son los juegos psicológicos en que participamos aun sin darnos cuenta?• 
 ¿Cómo las personas problemáticas suprimen a los colegas de forma abierta y
  encubierta?• ¿Cómo dominar pensamientos\, emociones y comunicaciones difí
 ciles?• ¿Qué tácticas son las más efectivas para lidiar según los tipos de
  personas conflictivas?• ¿Cuáles son las estrategias para contra restar la
  mala vibra en el ambiente laboral?• ¿Cómo elevar su producción a nuevas a
 lturas dejando atrás a las personas negativas?\nFecha: 22 y 29 de julio 20
 20.Horario: 9:00 a.m. a 11:00 a.m.Duración total: 4 horas.Medio: Virtual p
 or plataforma Zoom.Inversión: ¢40.000 + 2% de IVA por participante.Incluye
 : Material y certificado de participación en PDF.\nFacilitador: Joel Maldo
 nado RodríguezActual Director Ejecutivo de Akadimia Consultores México. Co
 nsultor y conferencista con más de 200 conferencias y talleres por más de 
 12 años en Venezuela\, México\, República Dominicana\, Nicaragua y Costa R
 ica.Especialista en desarrollo de Competencias Suaves.\nTodas nuestras cap
 acitaciones pueden ser impartidas en su organización\nInscripciones e info
 rmación al e-mail info@cedeso.co.crTel: (506) 2225-1007 / Fax: (506) 2253-
 2774 Visite nuestra página www.cedeso.co.crfacebook.com/cedesocostarica
DTSTART:20200722T150000Z
DTEND:20200722T170000Z
GEO:00;0
LOCATION:Virtual
ORGANIZER;CN=:info@cedeso.co.cr
SEQUENCE:1
SUMMARY:Cómo lidiar con personas problemáticas
TRANSP:OPAQUE
URL:https://cedeso.co.cr/eventos-anteriores/290-c%C3%B3mo-lidiar-con-person
 as-problem%C3%A1ticas
END:VEVENT
END:VCALENDAR
