BEGIN:VCALENDAR
VERSION:2.0
PRODID:-//Cedeso//NONSGML kigkonsult.se iCalcreator 2.30.10//
CALSCALE:GREGORIAN
METHOD:PUBLISH
UID:40b7e37e-7737-446c-a6cd-86cfc1172f66
X-WR-CALNAME:iCagenda
X-WR-CALDESC:Event Management Extension for Joomla!
X-WR-RELCALID:3E26604A-50F4-4449-8B3E-E4F4932D05B5
X-WR-TIMEZONE:America/Costa_Rica
BEGIN:VTIMEZONE
TZID:America/Costa_Rica
BEGIN:STANDARD
TZNAME:CST
DTSTART:20181027T060000
TZOFFSETFROM:+0000
TZOFFSETTO:-0600
END:STANDARD
END:VTIMEZONE
BEGIN:VEVENT
UID:eba6e83b-8c2f-4456-8748-472ecacac092
DTSTAMP:20260419T174205Z
CATEGORIES:Ventas
CLASS:PUBLIC
DESCRIPTION;ALTREP="CID:<FFFF__=0ABBE548DFE235B58f9e8a93d@coffeebean.com>":
 NUEVAS TÁCTICAS Y ESTRATEGIAS DE VENTAS 2020\n \nObjetivo general: Aumenta
 r sus ventas por medio de técnicas novedosas y de rápida aplicación en tem
 as de: tácticas de prospección\, entrevista vendedora y estrategias de cie
 rre.\nContenidos:\n\nCómo superar falsos paradigmas que limitan a un vende
 dor.\nTácticas para generar prospectos calificados.\nCómo crear interés po
 r el producto sin matar la venta.\nClaves para hacer presentaciones vended
 oras.\nLeyes para argumentar beneficios de forma eficaz.\nPasos para persi
 stir en el cierre sin crear molestia en el cliente.\nTipos de cierre según
  el momento y la circunstancia.\n\n Facilitador: Joel Maldonado. Actual Di
 rector Ejecutivo de Akadimia Consultores México. Consultor y conferencista
  con más de 400 conferencias y talleres por más de 12 años en Venezuela\, 
 México\, República Dominicana\, Nicaragua y Costa Rica. Especialista en de
 sarrollo de Competencias Suaves\, ventas y comercialización.\n \nFecha: 28
  y 30 de julio del 2020.\nHorario: 2:00 p.m. a 4:00 p.m.\nDuración: 4 hora
 s.\nMedio: Plataforma Zoom.\nInversión: ¢40.000 + 2% de IVA por participan
 te.\nIncluye: Material didáctico y certificado de participación en PDF.\n 
 \nTodas nuestras capacitaciones pueden ser impartidas en su organización\n
  \nInscripciones e información al e-mail info@cedeso.co.cr\nTel: (506) 222
 5-1007 · Tel/Fax: (506) 2253-2774\nVisite nuestra página www.cedeso.co.cr
 \nfacebook.com/cedesocostarica
DTSTART:20200728T200000Z
DTEND:20200730T220000Z
GEO:00;0
LOCATION:Virtual
ORGANIZER;CN=:info@cedeso.co.cr
SEQUENCE:1
SUMMARY:Nuevas tácticas y estrategias de ventas 2020
TRANSP:OPAQUE
URL:https://cedeso.co.cr/eventos-anteriores/291-nuevas-t%C3%A1cticas-y-estr
 ategias-de-ventas-2020
END:VEVENT
END:VCALENDAR
