BEGIN:VCALENDAR
VERSION:2.0
PRODID:-//Cedeso//NONSGML kigkonsult.se iCalcreator 2.30.10//
CALSCALE:GREGORIAN
METHOD:PUBLISH
UID:50be3c98-9989-4f3a-91f9-7a2bb8788970
X-WR-CALNAME:iCagenda
X-WR-CALDESC:Event Management Extension for Joomla!
X-WR-RELCALID:3E26604A-50F4-4449-8B3E-E4F4932D05B5
X-WR-TIMEZONE:America/Costa_Rica
BEGIN:VTIMEZONE
TZID:America/Costa_Rica
BEGIN:STANDARD
TZNAME:CST
DTSTART:20181021T060000
TZOFFSETFROM:+0000
TZOFFSETTO:-0600
END:STANDARD
END:VTIMEZONE
BEGIN:VEVENT
UID:1efd3cbf-8a69-41c6-858f-207f030f4443
DTSTAMP:20260419T173934Z
CATEGORIES:Operaciones
CLASS:PUBLIC
DESCRIPTION;ALTREP="CID:<FFFF__=0ABBE548DFE235B58f9e8a93d@coffeebean.com>":
 Taller en línea:\nCómo negociar correctamente los términos de compra venta
  internacional: Obligaciones\, costos y riesgos\nDirigido a: El curso va d
 irigido a todas las personas que participan en los procesos de compras int
 ernacionales y procesos de importación y exportación o bien empresas de se
 rvicios logísticos y operativos que desean ampliar sus conocimientos en ar
 as de lograr una mayor competitividad en las negociaciones internacionales
 .\nObjetivo:Proporcionar a los profesionales y empresas relacionados con e
 l comercio exterior\, una guía práctica que les ayude a utilizar correctam
 ente los términos de compra venta internacional.\nTemario:• ¿Qué son los t
 érminos de compra venta internacional?• ¿Para qué se utilizan?• Generalida
 des de los términos de compra venta internacional.• Términos de compra ven
 ta internacional como herramienta transversal en el comercio de bienes que
  afectan: o La Negociación. o La Documentación. o El Transporte Internacio
 nal y seguros. o Los Impuestos y trámites aduaneros.• Los nuevos cambios e
 n los términos de compra venta internacional 2020.• Análisis y evaluación 
 de cada uno de los términos de compra venta internacional a nivel logístic
 o\, de costos y riesgos.• Criterios para la elección del término de compra
  venta internacional más adecuado.• Claves para el uso profesional de los 
 términos de compra venta internacional• Ejercicios y casos prácticos.\nMet
 odología:Uso de presentación de Power Point\, mediante un curso interactiv
 o\, basado en experiencias cotidianas que permiten dar un panorama más cla
 ro. Se realizarán casos prácticos con el objetivo de que el participante d
 esarrolle sus destrezas con relación al material visto. Todo el material s
 e desarrolla mediante ejemplos prácticos que permite maximizar el entendim
 iento y así estimular a los participantes a interponer casos reales propio
 s de su experiencia.\nFacilitadora: Lic. Yorleny Jiménez RojasGraduada con
  honores de la Universidad de Costa Rica en la carrera de Administración A
 duanera y Comercio Exterior. Certificada como especialista en Supply Chain
  de la Universidad de Nebrija en España\, especialista en Gestión de Compr
 as\, Aprovisionamiento y logística de la Escuela de Negocios INEAF en Espa
 ña. Actualmente consultora independiente con 20 años de experiencia en man
 ejo y desarrollo de procesos de internacionalización y logística especialm
 ente para el sector agrícola.Especialista en desarrollo de acompañamientos
  empresariales en temas de importación\, exportación\, logística internaci
 onal\, entre otros.Amplia experiencia laboral a través de los años en empr
 esas como CADEXCO\, DESACARGA\, DHL\, Banacol de Costa Rica.Profesora de l
 a Universidad de Costa Rica\, Universidad FUNDEPOS y capacitadora activa e
 n diferentes Cámaras que agremia exportadores\, importadores\, empresas PY
 MES\, entidades estatales\, colegios profesionales\, entre otros.\nFecha: 
 22 y 23 julio del 2020.Horario: 9:00 a.m. a 11:00 a.m.Duración: 4 horas.Me
 dio: Plataforma Zoom.Inversión: ¢40.000 + 2% de IVA por participante.Inclu
 ye: Material didáctico y certificado de participación en PDF.\nTodas nuest
 ras capacitaciones pueden ser impartidas en su organización\nInscripciones
  e información al e-mail info@cedeso.co.crTel: (506) 2225-1007 · Tel/Fax: 
 (506) 2253-2774Visite nuestra página www.cedeso.co.crfacebook.com/cedesoco
 starica
DTSTART:20200722T150000Z
DTEND:20200723T170000Z
GEO:00;0
LOCATION:Virtual
ORGANIZER;CN=:info@cedeso.co.cr
SEQUENCE:1
SUMMARY:Cómo negociar correctamente los términos de compra venta internacio
 nal
TRANSP:OPAQUE
URL:https://cedeso.co.cr/eventos-anteriores/292-c%C3%B3mo-negociar-correcta
 mente-los-t%C3%A9rminos-de-compra-venta-internacional
END:VEVENT
END:VCALENDAR
