BEGIN:VCALENDAR
VERSION:2.0
PRODID:-//Cedeso//NONSGML kigkonsult.se iCalcreator 2.30.10//
CALSCALE:GREGORIAN
METHOD:PUBLISH
UID:9c8dcac5-6a31-489a-8396-4c911b9ed922
X-WR-CALNAME:iCagenda
X-WR-CALDESC:Event Management Extension for Joomla!
X-WR-RELCALID:3E26604A-50F4-4449-8B3E-E4F4932D05B5
X-WR-TIMEZONE:America/Costa_Rica
BEGIN:VTIMEZONE
TZID:America/Costa_Rica
BEGIN:STANDARD
TZNAME:CST
DTSTART:20181021T060000
TZOFFSETFROM:+0000
TZOFFSETTO:-0600
END:STANDARD
END:VTIMEZONE
BEGIN:VEVENT
UID:6f9b6a81-fdce-40be-92c5-e933f0416b16
DTSTAMP:20260419T173947Z
CATEGORIES:Compensaciones y beneficios
CLASS:PUBLIC
DESCRIPTION;ALTREP="CID:<FFFF__=0ABBE548DFE235B58f9e8a93d@coffeebean.com>":
 Certificación Internacional para aplicar Gamificación en Procesos de Apren
 dizaje\n \n¿A quién va dirigido?\nLa Certificación está dirigida a docente
 s de todos los niveles educativos\, encargados de capacitación\, coaches\,
  facilitadores y personal de Recursos Humanos responsables de la formación
  y el desarrollo del talento humano.\n \n¿Qué beneficios le aportará certi
 ficarse en Gamificación aplicada al aprendizaje?\n\nActivar la motivación 
 por el aprendizaje.\nPromover un aprendizaje más significativo.\nUna mayor
  fidelización del estudiante con el contenido y con las tareas en sí.\nObt
 ener resultados medibles sobre el progreso de cada estudiante de manera pe
 rsonalizada y en tiempo real.\nContar con herramientas lúdicas para evalua
 r el aprendizaje y el logro de sus indicadores de desempeño.\n\n \nDescarg
 a el dossier completo aquí:  https://gamificacion-cedeso.subscribemenow.co
 m/
DTSTART:20200722T140000Z
DTEND:20200722T140000Z
GEO:00;0
LOCATION:Virtual
ORGANIZER;CN=:info@skillslabcr.com
SEQUENCE:1
SUMMARY:Certificación Internacional para aplicar Gamificación en Procesos d
 e Aprendizaje
TRANSP:OPAQUE
URL:https://cedeso.co.cr/eventos-anteriores/294-certificaci%C3%B3n-internac
 ional-para-aplicar-gamificaci%C3%B3n-en-procesos-de-aprendizaje
END:VEVENT
END:VCALENDAR
