BEGIN:VCALENDAR
VERSION:2.0
PRODID:-//Cedeso//NONSGML kigkonsult.se iCalcreator 2.30.10//
CALSCALE:GREGORIAN
METHOD:PUBLISH
UID:3379d691-ae9f-4369-b464-2a07a033e105
X-WR-CALNAME:iCagenda
X-WR-CALDESC:Event Management Extension for Joomla!
X-WR-RELCALID:3E26604A-50F4-4449-8B3E-E4F4932D05B5
X-WR-TIMEZONE:America/Costa_Rica
BEGIN:VTIMEZONE
TZID:America/Costa_Rica
BEGIN:STANDARD
TZNAME:CST
DTSTART:20181021T060000
TZOFFSETFROM:+0000
TZOFFSETTO:-0600
END:STANDARD
END:VTIMEZONE
BEGIN:VEVENT
UID:7b23c320-e57b-4c9c-8b9e-2389773be76f
DTSTAMP:20260419T174333Z
CATEGORIES:Mejores Prácticas Organizacionales
CLASS:PUBLIC
DESCRIPTION;ALTREP="CID:<FFFF__=0ABBE548DFE235B58f9e8a93d@coffeebean.com>":
 Charla:\nTeletrabajo y cómo lograr que siga siendo un beneficio\nObjetivo 
 general:Brindar a los participantes tanto jefes como colaboradores informa
 ción valiosa sobre el beneficio del Teletrabajo la función y responsabilid
 ades que tendrá cada uno y el paso a paso en forma detallada de como imple
 mentarlo y como obtener la productividad deseada y a su vez el balance vid
 a-trabajo de los colaboradores\, logrando que se siga viendo y valorando c
 omo un beneficio y un plus para los colaboradores y las organizaciones.\nM
 etodología:La metodología de trabajo será mediante una sesión On line en l
 a que los participantes tendrán su material visual y podrán interactuar co
 n el facilitador\, creando en conjunto un aprendizaje cooperativo\, dinámi
 co y ameno haciendo más ágil la curva de aprendizaje y su práctica en la r
 ealidad.\nContenido Temático: Requisitos  • Colaboradores. • Tecnología de
  información.  • Legal.  • Ambiente. Mejores prácticas (Brindar a los cola
 boradores el apoyo necesario). • Espacio físico. • Descansos. - Pausas act
 ivas. - Tiempos de alimentación. - Experiencias brillantes.  • Comunicació
 n generosa. - Hablando. - Escuchando. - Llamada poderosa. • Equipo: Salud 
 y seguridad. • Planificación. - Reglas claras. • Plan de repuesto. • Medic
 ión y Control.  - Control los resultados no el horario. - Realimentación p
 ositiva.\nFecha: 22 de julio del 2020.Horario: 8:15 a.m. a 10:00 a.m.Modal
 idad: Virtual (plataforma Zoom).Inversión: ¢20.000 + 2% de IVA por partici
 pante.Incluye: Material didáctico y certificado de participación en PDF.\n
 Facilitadora: Hellen Fonseca Quesada. Licenciada en Administración de Empr
 esas con Énfasis en Recursos Humanos con 18 años de carrera profesional en
  el área de Recursos Humanos ocupando distintas posiciones y los últimos 1
 0 años niveles gerenciales en empresas como Aldesa y Grupo Nación.Cuenta c
 on una certificación del INA de su programa de idoneidad para poder ejerce
 r como profesora en temas propios de la carrera de Recursos Humanos o simi
 lares.Certificada en el programa de facilitadores de la Universidad Corpor
 ativa de Grupo Nación\, facilitadora del Colegio de Ciencias Económicas\, 
 FUNDEPOS y además es Profesora Universitaria desde el 2013.Ha creado progr
 amas de Liderazgo\, Coaching\, Mentoring y Wellness\, Teletrabajo\, habili
 dades blandas\, valores y competencias\, es experta en estudios de Clima y
  Cultura Organizacional\, además de proyectos de Responsabilidad Social\, 
 Medio Ambiente\, Balance: Vida TrabajoHa liderado equipos de trabajo de al
 to rendimiento obteniendo certificaciones como Great Place to Work\, Calid
 ad ISO 9001:2015\, Marca País\, Carbono Neutralidad y Bandera Azul.\nTodas
  nuestras capacitaciones pueden ser impartidas en su organización.\nInscri
 pciones e información al e-mail info@cedeso.co.crTel: (506) 2225-1007 Fax:
  (506) 2253-2774Visite nuestra página www.cedeso.co.crfacebook.com/cedesoc
 ostarica
DTSTART:20200722T141500Z
DTEND:20200722T163000Z
GEO:00;0
LOCATION:Virtual
ORGANIZER;CN=:info@cedeso.co.cr
SEQUENCE:1
SUMMARY:Teletrabajo y cómo lograr que siga siendo un beneficio
TRANSP:OPAQUE
URL:https://cedeso.co.cr/eventos-anteriores/295-teletrabajo-y-c%C3%B3mo-log
 rar-que-siga-siendo-un-beneficio
END:VEVENT
END:VCALENDAR
