BEGIN:VCALENDAR
VERSION:2.0
PRODID:-//Cedeso//NONSGML kigkonsult.se iCalcreator 2.30.10//
CALSCALE:GREGORIAN
METHOD:PUBLISH
UID:5174bb61-a7c0-497f-a0c1-59dc278f099b
X-WR-CALNAME:iCagenda
X-WR-CALDESC:Event Management Extension for Joomla!
X-WR-RELCALID:3E26604A-50F4-4449-8B3E-E4F4932D05B5
X-WR-TIMEZONE:America/Costa_Rica
BEGIN:VTIMEZONE
TZID:America/Costa_Rica
BEGIN:STANDARD
TZNAME:CST
DTSTART:20181208T060000
TZOFFSETFROM:+0000
TZOFFSETTO:-0600
END:STANDARD
END:VTIMEZONE
BEGIN:VEVENT
UID:e6d88642-7e4e-4728-9a5b-09aa01c09318
DTSTAMP:20260419T174401Z
CATEGORIES:Mejores Prácticas Organizacionales
CLASS:PUBLIC
DESCRIPTION;ALTREP="CID:<FFFF__=0ABBE548DFE235B58f9e8a93d@coffeebean.com>":
 Curso:\n \nGestionando proyecto usando metodologías tradicionales\, híbrid
 as o Ágiles\n \n \nObjetivo General:\nIntroducir a los participantes en la
 s tendencias de gestión de proyectos actuales.\n \nResumen de temario:\n\n
 Visión general y marco de trabajo de la gestión de proyectos\nGestionando 
 proyecto con buenas prácticas tradicionales PMP\nGestionando proyectos de 
 manera Hybrida (PMP/SCRUM)\nAgilidad en la gestión de proyectos\, SCRUM.\n
 \n \nFacilitadora: Msc. Liseth Calvo G.\nCuenta con 13 años de experiencia
  en Dirección de Proyectos\, Implementando Oficinas de Proyectos\, Program
 as de Proyectos\, rescate de proyectos\, agilidad\, Supervisora de Service
  Desk\, procesos de negocio\, consultora Senior SAP (proyectos y soporte).
 \nEspecialista en Administración de Proyecto con sólida experiencia en bue
 nas prácticas del PMI y SCRUM. Transformación de la cultura organizacional
  en proyectos\, implementación de metodología según PMI\, agilísimo e hibr
 ida por medio de servicios en asesorías\, conferencista y profesora en est
 e ámbito. Para proyectos de software\, infraestructura y producción.\n \nF
 echa: 8\, 11\, 15 y 18 de setiembre del 2020.\nHorario: 5:30 p.m. a 7:30 p
 .m.\nDuración: 8 horas.\nMetodología: virtual\, plataforma Zoom.\nInversió
 n: ¢80.000 + 2% IVA por participante.\nIncluye: Material didáctico y certi
 ficado de participación en PDF.\n \nTodas nuestras capacitaciones pueden s
 er impartidas en su organización.\n \nInscripciones e información al e-mai
 l info@cedeso.co.cr\nTel: (506) 2225-1007 Fax: (506) 2253-2774\nVisite nue
 stra página www.cedeso.co.cr\nfacebook.com/cedesocostarica
DTSTART:20200908T233000Z
DTEND:20200919T013000Z
GEO:00;0
LOCATION:Virtual
ORGANIZER;CN=:info@cedeso.co.cr
SEQUENCE:1
SUMMARY:Gestionando proyecto usando metodologías tradicionales\, hibridas o
  Ágiles
TRANSP:OPAQUE
URL:https://cedeso.co.cr/eventos-anteriores/296-gestionando-proyecto-usando
 -metodolog%C3%ADas-tradicionales,-hibridas-o-%C3%A1giles
END:VEVENT
END:VCALENDAR
