BEGIN:VCALENDAR
VERSION:2.0
PRODID:-//Cedeso//NONSGML kigkonsult.se iCalcreator 2.30.10//
CALSCALE:GREGORIAN
METHOD:PUBLISH
UID:2bce94e4-c6da-4262-93fa-00f3749108e5
X-WR-CALNAME:iCagenda
X-WR-CALDESC:Event Management Extension for Joomla!
X-WR-RELCALID:3E26604A-50F4-4449-8B3E-E4F4932D05B5
X-WR-TIMEZONE:America/Costa_Rica
BEGIN:VTIMEZONE
TZID:America/Costa_Rica
BEGIN:STANDARD
TZNAME:CST
DTSTART:20181103T060000
TZOFFSETFROM:+0000
TZOFFSETTO:-0600
END:STANDARD
END:VTIMEZONE
BEGIN:VEVENT
UID:9397c33d-b560-45e2-b8c6-fc9e38ca2b59
DTSTAMP:20260419T173045Z
CATEGORIES:Mejores Prácticas Organizacionales
CLASS:PUBLIC
DESCRIPTION;ALTREP="CID:<FFFF__=0ABBE548DFE235B58f9e8a93d@coffeebean.com>":
 Taller:\nMINDFULNESS para líderes integrales\n \nTaller dinámico\, sencill
 o y profundo en donde compartiremos algunos ejercicios y reflexiones\n \nE
 n el trabajo\, los tiempos son más rápidos\, las dinámicas son más complej
 as y la incertidumbre es casi la única certeza. La sobrecarga y la presión
  se extienden\, y el quehacer diario implica una lista de tareas intermina
 bles que se acumulan y superponen. Ante todo\, esta presión\, estrés\, ans
 iedad e hiperactividad el Mindfulness surge como una oportunidad para que 
 los líderes y colaboradores puedan afrontar con éxito la vida y labor diar
 ia.\nEl entrenamiento en Mindfulness incide y mejora los tres aspectos del
  éxito sostenible. Sirve como antídoto\, ayuda a recuperar el equilibrio a
 nte el impacto negativo de estresores\, y también puede actuar como estímu
 lo\, promoviendo estados positivos u optimizando procesos cognitivos y rel
 acionales. Aprenda a entrenar su Intención\, Atención y Actitud\, para ten
 er bienestar y calidad de vida.\n \nContenidos:\n\nEntendiendo el modo aut
 omático y sus consecuencias.\nAutodiagnóstico del estrés.\nEjercicios prác
 ticos:\n\nAtención plena con los sentidos.\nRespiración consciente.\nConsc
 iencia corporal.\nMeditación Mindfulness.\n\n\nSugerencias y plan de 21 dí
 as.\n\n \n“Cuando ya no somos capaces de cambiar una situación\, nos encon
 tramos ante el desafío de cambiarnos a nosotros mismos” Viktor Frankl\n \n
 Facilitadora: Yelitza Morón Rosales\nDirectora General de Potencial Humano
 \, S.A. Facilitadora de procesos de transformación\, mejoramiento y Mindfu
 lness. Terapeuta en Educación Emocional y Conciencia Plena. Se ha desempeñ
 ado como Asesora-Facilitadora desde hace 24 años en diversas Organizacione
 s Públicas y Privadas de Venezuela y Costa Rica en programas orientados a 
 trabajar el Desarrollo del Talento Humano. Más de 16.000 personas capacita
 das\, en más de 19.000 horas. Doctora en Educación. Especialista en Facili
 tación Creativa. Psicopedagoga\, en la especialidad de Problemas Emocional
 es y de Conducta. Ha participado en un sinnúmero de Seminarios\, Cursos y 
 Programas de actualización en el área de mejoramiento personal\, psicopeda
 gogía\, mindfulness\, liderazgo e inteligencia emocional.\n \nFecha: 4 y 6
  de agosto del 2020.\nHorario: 8:00 a.m. a 10:00 a.m.\nDuración: 4 horas.
 \nMetodología: Virtual por Plataforma Zoom.\nInversión: ¢40.000 + 2% de IV
 A por participante.\nIncluye: Material didáctico y certificado de particip
 ación en PDF.\nTodas nuestras capacitaciones pueden ser impartidas en su o
 rganización\n \nInscripciones e Información al e-mail info@cedeso.co.cr\nT
 el: (506) 2225-1007 / Fax: (506) 2253-2774\nVisite nuestra página www.cede
 so.co.cr\nfacebook.com/cedesocostarica\n 
DTSTART:20200804T140000Z
DTEND:20200806T160000Z
GEO:00;0
LOCATION:Virtual
ORGANIZER;CN=:info@cedeso.co.cr
SEQUENCE:1
SUMMARY:Mindfulness para líderes integrales
TRANSP:OPAQUE
URL:https://cedeso.co.cr/eventos-anteriores/298-mindfulness-para-l%C3%ADder
 es-integrales
END:VEVENT
END:VCALENDAR
