BEGIN:VCALENDAR
VERSION:2.0
PRODID:-//Cedeso//NONSGML kigkonsult.se iCalcreator 2.30.10//
CALSCALE:GREGORIAN
METHOD:PUBLISH
UID:935a9e62-224f-456e-b56d-19acf8e749bc
X-WR-CALNAME:iCagenda
X-WR-CALDESC:Event Management Extension for Joomla!
X-WR-RELCALID:3E26604A-50F4-4449-8B3E-E4F4932D05B5
X-WR-TIMEZONE:America/Costa_Rica
BEGIN:VTIMEZONE
TZID:America/Costa_Rica
BEGIN:STANDARD
TZNAME:CST
DTSTART:20181104T060000
TZOFFSETFROM:+0000
TZOFFSETTO:-0600
END:STANDARD
END:VTIMEZONE
BEGIN:VEVENT
UID:e9765763-b09a-446a-ac0d-eef03fca95d3
DTSTAMP:20260419T173046Z
CATEGORIES:Mejores Prácticas Organizacionales
CLASS:PUBLIC
DESCRIPTION;ALTREP="CID:<FFFF__=0ABBE548DFE235B58f9e8a93d@coffeebean.com>":
 Webinar:\nOportunidades con la transformación digital\n \nDirigido a: El c
 urso está dirigido a Jefaturas y Profesionales de todas las especialidades
 \, especialmente aquellos con responsabilidad en la mejora de los procesos
 .\nObjetivo general: Proporcionar orientación y herramientas a profesional
 es con diferentes roles sobre cómo utilizar de la mejor forma posible las 
 Tecnologías de Información para realizar una transformación digital en su 
 organización que les permita ofrecer servicios de mayor valor a sus client
 es.\nContenidos: \n\n¿Cómo son las empresas hoy?\nLa importancia de la inf
 ormación.\nEl papel de las tecnologías de información.\n¿Qué es la transfo
 rmación digital?\nEnfoque de la transformación digital:\n\nAnálisis de dat
 os.\nMinería de datos.\nAutomatización de procesos.\nInteligencia artifici
 al.\n\n\nCaso de Estudio.\n\n \nFecha: 5 de agosto del 2020.\nHorario: 8:3
 0 a.m. a 10:00 a.m.\nDuración: 1.5 horas.\nInversión: ¢15.000 + 2% de IVA 
 por participante.\nIncluye: Material didáctico y certificado de participac
 ión en PDF.\n \nFacilitador: Lic. Marlon Espinoza Ureña consultor e instru
 ctor en TI con más de 10 años de experiencia profesional en apoyar a difer
 entes organizaciones para involucrarse en la transformación digital. \n \n
 Todas nuestras capacitaciones pueden ser impartidas en su organización\n 
 \nInscripciones e Información al e-mail info@cedeso.co.cr\nTel: (506) 2225
 -1007 · Fax: (506) 2253-2774\nVisite nuestra página www.cedeso.co.cr\nface
 book.com/cedesocostarica
DTSTART:20200805T143000Z
DTEND:20200805T160000Z
GEO:00;0
LOCATION:Virtual
ORGANIZER;CN=:info@cedeso.co.cr
SEQUENCE:1
SUMMARY:Oportunidades con la transformación digital
TRANSP:OPAQUE
URL:https://cedeso.co.cr/eventos-anteriores/305-oportunidades-con-la-transf
 ormaci%C3%B3n-digital
END:VEVENT
END:VCALENDAR
