BEGIN:VCALENDAR
VERSION:2.0
PRODID:-//Cedeso//NONSGML kigkonsult.se iCalcreator 2.30.10//
CALSCALE:GREGORIAN
METHOD:PUBLISH
UID:c344ba7d-93eb-44c0-8837-9bcfe1999a08
X-WR-CALNAME:iCagenda
X-WR-CALDESC:Event Management Extension for Joomla!
X-WR-RELCALID:3E26604A-50F4-4449-8B3E-E4F4932D05B5
X-WR-TIMEZONE:America/Costa_Rica
BEGIN:VTIMEZONE
TZID:America/Costa_Rica
BEGIN:STANDARD
TZNAME:CST
DTSTART:20181110T060000
TZOFFSETFROM:+0000
TZOFFSETTO:-0600
END:STANDARD
END:VTIMEZONE
BEGIN:VEVENT
UID:f9d08d38-52fc-4460-bcf0-2e7caa4c04dc
DTSTAMP:20260419T174223Z
CATEGORIES:Mejores Prácticas Organizacionales
CLASS:PUBLIC
DESCRIPTION;ALTREP="CID:<FFFF__=0ABBE548DFE235B58f9e8a93d@coffeebean.com>":
 Webinar\nHabilidades gerenciales de supervisión\nDescripción de la activid
 ad:En virtud de la posición clave que ocupa todo supervisor en su organiza
 ción\, es necesario que desarrolle su capacidad de gestión de manera conti
 nua a fin de mejorar sus habilidades de tomar mejores decisiones\, crear y
  liderar equipos de trabajo con orientación a resultados\, favorecer la co
 municación interpersonal y administrar los conflictos mediante la negociac
 ión y la búsqueda del beneficio mutuo.Las habilidades de la supervisión en
  época de pandemia deben de estar en la posibilidad de provocar estrategia
 s participativas\, proactivas y propiciar un clima organizacional virtual 
 saludable para todos los colaboradores y de esta forma lograr los objetivo
 s fijados.\nObjetivo general:Analizar\, modificar y virtualizar las habili
 dades gerenciales de supervisión de cara a la pandemia que asegure su alto
  desempeño y el logro de los objetivos de la organización.\nObjetivos espe
 cíficos:- Identificar las habilidades gerenciales de supervisión que deben
  ser modificadas para el buen desempeño del supervisor en época de pandemi
 a.- Definir la forma de virtualizar las habilidades gerenciales de supervi
 sión.- Definir un plan de acción para desarrollar habilidades gerenciales 
 de supervisión.\nDirigido a:A todos los involucrados y responsables de ali
 near la organización a una nueva visión para contrarrestar la crisis gener
 ada por la pandemia.\nFecha: 11 y 13 de agosto del 2020.Horario: 8:00 a.m.
  a 10:30 a.m.Duración total: 5 horas.Modalidad: Virtual por plataforma Zoo
 m.Inversión: ¢50.000 + 2% de IVA por participante.Incluye: Material y cert
 ificado de participación en PDF.\nFacilitador: MBA Mario Miño.Ingeniero me
 cánico con un MBA con énfasis en Banca y Finanzas\, cuenta con experiencia
  profesional en diferentes industrias como la eléctrica\, química\, de la 
 construcción\, consultoría y comercial.Ha laborado para compañías multinac
 ionales y locales\, tiene amplio conocimiento en áreas de Manufactura\, Lo
 gística\, Supply Chain\, Sistemas de información\, Mercadeo\, Ventas y Fin
 anzas.Con experiencia en administración de procesos de Startup\, se ha des
 envuelto en el mercado centroamericano y en los últimos años ha ocupado la
  posición de Gerente General.\n \nTodas nuestras capacitaciones pueden ser
  impartidas en su organización.\nInscripciones e información al e-mail inf
 o@cedeso.co.crTel: (506) 2225-1007 Fax: (506) 2253-2774Visite nuestra pági
 na www.cedeso.co.crfacebook.com/cedesocostarica
DTSTART:20200811T140000Z
DTEND:20200813T163000Z
GEO:00;0
LOCATION:Virtual
ORGANIZER;CN=:info@cedeso.co.cr
SEQUENCE:1
SUMMARY:Habilidades gerenciales de supervisión
TRANSP:OPAQUE
URL:https://cedeso.co.cr/eventos-anteriores/306-habilidades-gerenciales-de-
 supervisi%C3%B3n
END:VEVENT
END:VCALENDAR
