BEGIN:VCALENDAR
VERSION:2.0
PRODID:-//Cedeso//NONSGML kigkonsult.se iCalcreator 2.30.10//
CALSCALE:GREGORIAN
METHOD:PUBLISH
UID:f8a409f9-2a5f-4073-9f56-3cda8a1b9d66
X-WR-CALNAME:iCagenda
X-WR-CALDESC:Event Management Extension for Joomla!
X-WR-RELCALID:3E26604A-50F4-4449-8B3E-E4F4932D05B5
X-WR-TIMEZONE:America/Costa_Rica
BEGIN:VTIMEZONE
TZID:America/Costa_Rica
BEGIN:STANDARD
TZNAME:CST
DTSTART:20181117T060000
TZOFFSETFROM:+0000
TZOFFSETTO:-0600
END:STANDARD
END:VTIMEZONE
BEGIN:VEVENT
UID:4c9f1371-c3bb-4de4-98af-da8e7e6e0a13
DTSTAMP:20260419T174203Z
CATEGORIES:Operaciones
CLASS:PUBLIC
DESCRIPTION;ALTREP="CID:<FFFF__=0ABBE548DFE235B58f9e8a93d@coffeebean.com>":
 Webinar:\nCómo mejorar la rentabilidad en las operaciones de importación\n
 Objetivo:Brindar un apoyo integral a la empresa con el fin de eficientizar
  y optimizar sus operaciones de importación\, proporcionando los conocimie
 ntos y ayuda necesaria para afrontar de forma exitosa su negocio\, bajo un
  marco preventivo que le garantice minimizar los riesgos que pueden impact
 ar el desarrollo de sus operaciones aduaneras.\nTemario:\nAnálisis de cost
 os de importación:• La participación de los términos de compra venta inter
 nacional en la distribución de los costos de importación y cálculo de impu
 estos.• Reparto de costos logísticos entre vendedor y comprador según los 
 términos de compra venta internacional.• Impacto del valor aduanero en la 
 negociación de los contratos internacionales y en la determinación de los 
 impuestos.• Cómo se determina el valor aduanero como base imponible para e
 l cálculo de impuestos.• Cálculo de impuestos de importación.• Los impuest
 os y su tratamiento en función de los Tratados de libre comercio.• Cálculo
  del seguro en base imponible para el cálculo de impuestos\, cuando la mer
 cancía no viene asegurada.• Cómo calcular costos de transporte de cargas c
 onsolidadas. • Costos que se deben contemplar como parte del valor del pro
 ducto de importación.• Tips para comprensión\, análisis y comparación de t
 arifas de transporte.• Casos prácticos.\nAnálisis de riesgos en el proceso
  de importación:• Definición de riesgo.• Procesos para gestionar el riesgo
  a nivel interno:- Identificación de riesgos internos.- Administración del
  riesgo: Ciclo de Deming.- Herramientas para análisis de riesgos.• Evaluac
 ión de proveedores internacionales.• Uso de los KPI's (Key Performance Ind
 icators).• Elaboración de matriz de gestión de riesgos a nivel de procesos
  de importación.• Análisis de riesgos internos:- Riesgos contractuales.- R
 iesgos de pérdida o deterioro de la mercancía.- Riesgos de no aceptación d
 e la mercancía.• Formas y medios de pago internacional.• Casos prácticos.
 \nFacilitadora: Lic. Yorleny Jiménez RojasGraduada con honores de la Unive
 rsidad de Costa Rica en la carrera de Administración Aduanera y Comercio E
 xterior. Certificada como especialista en Supply Chain de la Universidad d
 e Nebrija en España\, especialista en Gestión de Compras\, Aprovisionamien
 to y logística de la Escuela de Negocios INEAF en España. Actualmente cons
 ultora independiente con 20 años de experiencia en manejo y desarrollo de 
 procesos de internacionalización y logística especialmente para el sector 
 agrícola.Especialista en desarrollo de acompañamientos empresariales en te
 mas de importación\, exportación\, logística internacional\, entre otros.A
 mplia experiencia laboral a través de los años en empresas como CADEXCO\, 
 DESACARGA\, DHL\, Banacol de Costa Rica.Profesora de la Universidad de Cos
 ta Rica\, Universidad FUNDEPOS y capacitadora activa en diferentes Cámaras
  que agremia exportadores\, importadores\, empresas PYMES\, entidades esta
 tales\, colegios profesionales\, entre otros.\nFecha: 18\, 19\, 20 y 21 de
  agosto del 2020.Horario: 9:00 a.m. a 11:00 a.m.Duración total: 8 horas.Me
 dio: Plataforma Zoom.Inversión: ¢50.000 + 2% de IVA por participante.Inclu
 ye: Material didáctico y certificado de participación en PDF.\nTodas nuest
 ras capacitaciones pueden ser impartidas en su organización\nInscripciones
  e información al e-mail info@cedeso.co.crTel: (506) 2225-1007 · Tel/Fax: 
 (506) 2253-2774Visite nuestra página www.cedeso.co.crfacebook.com/cedesoco
 starica
DTSTART:20200818T150000Z
DTEND:20200821T170000Z
GEO:00;0
LOCATION:Virtual.
ORGANIZER;CN=:info@cedeso.co.cr
SEQUENCE:1
SUMMARY:Cómo mejorar la rentabilidad en las operaciones de importación
TRANSP:OPAQUE
URL:https://cedeso.co.cr/eventos-anteriores/309-c%C3%B3mo-mejorar-la-rentab
 ilidad-en-las-operaciones-de-importaci%C3%B3n
END:VEVENT
END:VCALENDAR
