BEGIN:VCALENDAR
VERSION:2.0
PRODID:-//Cedeso//NONSGML kigkonsult.se iCalcreator 2.30.10//
CALSCALE:GREGORIAN
METHOD:PUBLISH
UID:f61c1490-2d91-41c0-8d5f-3365bfcf1892
X-WR-CALNAME:iCagenda
X-WR-CALDESC:Event Management Extension for Joomla!
X-WR-RELCALID:3E26604A-50F4-4449-8B3E-E4F4932D05B5
X-WR-TIMEZONE:America/Costa_Rica
BEGIN:VTIMEZONE
TZID:America/Costa_Rica
BEGIN:STANDARD
TZNAME:CST
DTSTART:20190107T060000
TZOFFSETFROM:+0000
TZOFFSETTO:-0600
END:STANDARD
END:VTIMEZONE
BEGIN:VEVENT
UID:5886235d-4fbb-48d3-ba74-fb53892b0c4c
DTSTAMP:20260419T225139Z
CATEGORIES:Mejores Prácticas Organizacionales
CLASS:PUBLIC
DESCRIPTION;ALTREP="CID:<FFFF__=0ABBE548DFE235B58f9e8a93d@coffeebean.com>":
 Feedback Total (Herramientas de Retroalimentación)\n \nUn programa urgente
  para gerencias\, managers\, líderes\, jefaturas en la “nueva normalidad”
 \n3 talleres de cuatro horas cada uno\n \nCurse el programa completo o sol
 o aquellas sesiones de su interés\n \n1. ¡Cómo dar un buen Feedback!\n\nLa
  ciencia y arte de dar una retroalimentación que funcione. Manejo de casos
  especiales (retroalimentar a superkeepers\, lograr que un colaborador ace
 pte decisiones difíciles\,...)\nModos directivos y guiones para manejo de 
 4 tipos de colaborador.\nNeurociencia\, comunicación y SEP: una lista de c
 hequeo de mejores prácticas y comportamientos asociados con feedback exito
 so.\nFeedback Serious Play©: 11 estrategias esenciales.\n\n \nFecha: 8 y 9
  de octubre del 2020.\nHorario: 8:30 a.m. a 10:30 a.m.\nDuración: 4 horas.
 \nPlataforma: Zoom.\nInversión: ¢40.000 + 2% de IVA por participante.\nInc
 luye: Material didáctico y certificado de participación en PDF.\n \n 2. Co
 aching del Desempeño\n\nCuatro estrategias básicas de performance coaching
 .\nIntervenciones espacíficas para fortalecer la internalidad y la auto ef
 icacia de los colaboradores. \nLa estrategia para volver las debilidades i
 rrelevantes: las cuatro estrategias del coaching basado en fortalezas.\nCa
 mpo de prácticas: modelos PRACTICE1\, “Escenario de reemplazo”2 e Indagaci
 ón Motivacional3.\n\n \nFecha: 22 y 23 de octubre del 2020.\nHorario: 8:30
  a.m. a 10:30 a.m.\nDuración: 4 horas.\nPlataforma: Zoom.\nInversión: ¢40.
 000 + 2% de IVA por participante.\nIncluye: Material didáctico y certifica
 do de participación en PDF.\n \n3. Feedback Apreciativo (la ciencia de la 
 retroalimentación positiva) \n\n¿Cómo dar una retroalimentación positiva?
 \n¿Porqué estamos naturalmente sesgados a ser negativos? \nEl modelo PEA y
  el feedback positivo (apreciativo): desempeño basado en evidencias y neur
 ociencia. Transferencia y Padle con los participantes.\nEntrenamiento en e
 l patrón de comportamientos para dar una retroalimentación positiva (feedb
 ack apreciativo).\n\n \nFecha: 24 y 25 de setiembre del 2020.\nHorario: 3:
 00 p.m. a 5:00 p.m.\nDuración: 4 horas.\nPlataforma: Zoom.\nInversión: ¢40
 .000 + 2% de IVA por participante.\nIncluye: Material didáctico y certific
 ado de participación en PDF.\n \nFacilitador: Dr. Enrique Margery\n\nDocto
 r en Educación y TEDx speaker.\nProfesor de la Maestría en Psicología del 
 Trabajo en la Universidad de Costa Rica. Profesor invitado de la Universid
 ad de Querétaro (UAQ\, México) y la Universidad UAGM (Puerto Rico).\nDiseñ
 a capacitación para desarrollo de soft skills basado en aprendizaje por la
  experiencia\, GBL y “reto-aprendizaje”.\nCoach especialista en ciencia de
  la colaboración y manejo de top performers.\nDiseña herramientas para med
 ir el Sentido de Urgencia\, el “termómetro de la colaboración” y la rentab
 ilidad de la capacitación\, entre otros.\nAutor de los libros “Complejidad
  y Competencias”\, “Herramientas de Coaching”\, “El Viaje” (Editorial Norm
 a\; uno de los primeros libros de psicología positiva publicados) y 'Compl
 ejidad\, Transdisciplinariedad y Compentencias'\n\n \nTodas nuestras capac
 itaciones pueden ser impartidas en su organización\n \nInscripciones e Inf
 ormación al e-mail info@cedeso.co.cr\nTel: (506) 2225-1007 · Fax: (506) 22
 53-2774\nVisite nuestra página www.cedeso.co.cr\nfacebook.com/cedesocostar
 ica
DTSTART:20201008T143000Z
DTEND:20201023T163000Z
GEO:00;0
LOCATION:Virtual.
ORGANIZER;CN=:info@cedeso.co.cr
SEQUENCE:1
SUMMARY:Feedback Total (Herramientas de Retroalimentación)
TRANSP:OPAQUE
URL:https://cedeso.co.cr/eventos-anteriores/310-feedback-total-herramientas
 -de-retroalimentaci%C3%B3n
END:VEVENT
END:VCALENDAR
