BEGIN:VCALENDAR
VERSION:2.0
PRODID:-//Cedeso//NONSGML kigkonsult.se iCalcreator 2.30.10//
CALSCALE:GREGORIAN
METHOD:PUBLISH
UID:a57bb768-e4d5-4e78-b85c-538017510110
X-WR-CALNAME:iCagenda
X-WR-CALDESC:Event Management Extension for Joomla!
X-WR-RELCALID:3E26604A-50F4-4449-8B3E-E4F4932D05B5
X-WR-TIMEZONE:America/Costa_Rica
BEGIN:VTIMEZONE
TZID:America/Costa_Rica
BEGIN:STANDARD
TZNAME:CST
DTSTART:20181117T060000
TZOFFSETFROM:+0000
TZOFFSETTO:-0600
END:STANDARD
END:VTIMEZONE
BEGIN:VEVENT
UID:8eb8307d-767a-44f8-b2a3-7fbfc56a8fe7
DTSTAMP:20260419T173025Z
CATEGORIES:Mejores Prácticas Organizacionales
CLASS:PUBLIC
DESCRIPTION;ALTREP="CID:<FFFF__=0ABBE548DFE235B58f9e8a93d@coffeebean.com>":
 Programa de desarrollo del potencial (PDP)\n \nUn programa para desarrolla
 r recursos urgentes para la nueva normalidad\n3 talleres de cuatro horas c
 ada uno\n \nCurse el programa completo o solo aquellas sesiones de su inte
 rés\n \n\nIntelemoción\n\n\nIntelemoción: la mecánica de la inteligencia e
 mocional y sus dimensiones.\n“Campo de práctica”. Ejercicios para desarrol
 lo de cada dimensión: “Botones calientes”/ “El Helicóptero” (SA) Ù “Habla 
 interior” (SR)Ù “Etnografía de 15 min+” (SOA) Ù “Betari+” (RV).\nIntelemoc
 ión y Soft Skills: recursos para mejorar la inmunidad al cambio\, flow\, i
 -motivación\, decisiones\, prioridades y comunicación asertiva.\n\n \nFech
 a: 18 y 19 de agosto del 2020.\nHorario: 9:00 a.m. a 11:00 a.m.\nDuración:
  4 horas.\nPlataforma: Zoom.\nInversión: ¢40.000 + 2% de IVA por participa
 nte.\nIncluye: Material didáctico y certificado de participación en PDF.\n
  \n\n Mentalidad de crecimiento=\n\n\nModelos mentales: ¿mentalidad fija o
  de crecimiento? Con instrumento de autoevaluación y desarrollo\n20 estrat
 egias potentes para desarrollar el Growth Mindset: ¡Con ejercicio GM Serio
 us Play®! \nFortalecer la curiosidad\, la flexibilidad y el aprendizaje ág
 il: la caja de herramientas de la GM. Trabajo con Jamboard© para trasferir
  estas estrategias a la acción diaria-\nSiete (¡7!) indicadores y comporta
 mientos de GM para líderes y coaches.\n\n \nFecha: 25 y 26 de agosto del 2
 020.\nHorario: 9:00 a.m. a 11:00 a.m.\nDuración: 4 horas.\nPlataforma: Zoo
 m.\nInversión: ¢40.000 + 2% de IVA por participante.\nIncluye: Material di
 dáctico y certificado de participación en PDF.\n \n\n Herramientas de resi
 liencia=\n\n\nLa resiliencia se aprende: cuatro estrategias de perfil resi
 liente para aplicar “aquí y ahora” en la “nueva normalidad”.\nResiliencia 
 en el trabajo: nueve estrategias para desarrollar la capacidad de sobrepon
 erse. Trabajo individual/grupal de reconocimiento y aplicación de estrateg
 ias (reencuadrar resultados\, cultivar el optimismo y hacer redes\, desarr
 ollar el autocontrol y manejar expectativas razonables).\nEjercicio: “comb
 atiendo hormigas”. Manejo y control de automatic negative thoughts (ANTs).
 \nResiliencia grupal: 10 guías para la acción en equipos resilientes\, con
  autoevaluación.\n\n \nFecha: 1 y 2 de setiembre del 2020.\nHorario: 9:00 
 a.m. a 11:00 a.m.\nDuración: 4 horas.\nPlataforma: Zoom.\nInversión: ¢40.0
 00 + 2% de IVA por participante.\nIncluye: Material didáctico y certificad
 o de participación en PDF.\n \nFacilitador: Dr. Enrique Margery\n\nDoctor 
 en Educación y TEDx speaker.\nProfesor de la Maestría en Psicología del Tr
 abajo en la Universidad de Costa Rica. Profesor invitado de la Universidad
  de Querétaro (UAQ\, México) y la Universidad UAGM (Puerto Rico).\nDiseña 
 capacitación para desarrollo de soft skills basado en aprendizaje por la e
 xperiencia\, GBL y “reto-aprendizaje”.\nCoach especialista en ciencia de l
 a colaboración y manejo de top performers.\nDiseña herramientas para medir
  el Sentido de Urgencia\, el “termómetro de la colaboración” y la rentabil
 idad de la capacitación\, entre otros.\nAutor de los libros “Complejidad y
  Competencias”\, “Herramientas de Coaching”\, “El Viaje” (Editorial Norma\
 ; uno de los primeros libros de psicología positiva publicados) y 'Complej
 idad\, Transdisciplinariedad y Compentencias'\n\n \nTodas nuestras capacit
 aciones pueden ser impartidas en su organización\n \nInscripciones e Infor
 mación al e-mail info@cedeso.co.cr\nTel: (506) 2225-1007 · Fax: (506) 2253
 -2774\nVisite nuestra página www.cedeso.co.cr\nfacebook.com/cedesocostaric
 a
DTSTART:20200818T150000Z
DTEND:20200902T170000Z
GEO:00;0
LOCATION:Virtual.
ORGANIZER;CN=:info@cedeso.co.cr
SEQUENCE:1
SUMMARY:Programa de desarrollo del potencial (PDP)
TRANSP:OPAQUE
URL:https://cedeso.co.cr/eventos-anteriores/311-programa-de-desarrollo-del-
 potencial-pdp
END:VEVENT
END:VCALENDAR
