BEGIN:VCALENDAR
VERSION:2.0
PRODID:-//Cedeso//NONSGML kigkonsult.se iCalcreator 2.30.10//
CALSCALE:GREGORIAN
METHOD:PUBLISH
UID:9ed452f2-c140-4ce8-9299-825c07f0394a
X-WR-CALNAME:iCagenda
X-WR-CALDESC:Event Management Extension for Joomla!
X-WR-RELCALID:3E26604A-50F4-4449-8B3E-E4F4932D05B5
X-WR-TIMEZONE:America/Costa_Rica
BEGIN:VTIMEZONE
TZID:America/Costa_Rica
BEGIN:STANDARD
TZNAME:CST
DTSTART:20181125T060000
TZOFFSETFROM:+0000
TZOFFSETTO:-0600
END:STANDARD
END:VTIMEZONE
BEGIN:VEVENT
UID:eb1e1a18-1e96-4b63-b146-528cd2a2e523
DTSTAMP:20260419T174316Z
CATEGORIES:Mejores Prácticas Organizacionales
CLASS:PUBLIC
DESCRIPTION;ALTREP="CID:<FFFF__=0ABBE548DFE235B58f9e8a93d@coffeebean.com>":
 Webinar:\nCómo lograr la continuidad del negocio ante la crisis de la COVI
 D-19\nDescripción de la actividad:La crisis producida por la pandemia de l
 a COVID-19 interrumpió abruptamente los procesos de los negocios y ha obli
 gado a replantear la estrategia de las empresas para poder mantenerse en f
 uncionamiento\; cómo hacer esto es de fundamental importancia para la sobr
 evivencia de los negocios.\nObjetivo:Brindar a los participantes los eleme
 ntos fundamentales a considerar en la estrategia empresarial\, para manten
 er la continuidad del negocio a lo largo de los retos que impone la pandem
 ia.\nDirigido a: Empresarios\, encargados de las áreas de: estrategia\, ri
 esgos\, comercial\, ventas\, finanzas. Fecha: 26 de agosto 2020. Horario: 
 8:30 a.m. a 11:00 a.m.Duración: 2.5 horas.Modalidad: Virtual por plataform
 a Zoom.Inversión: ¢25.000 + 2% de IVA por participante.Incluye: Material y
  certificado de participación en PDF.\nFacilitadora: MEE Hilda María Miño.
 Graduada como licenciada en Economía Agrícola de la UCR y en Psicología de
  la Universidad Católica\; con Maestría en Economía Empresarial del INCAE 
 Business School\, cuenta con una certificación como Coach Internacional y 
 es especialista y pionera en Costa Rica en la Prevención de la Legitimació
 n de Capitales y el Financiamiento al Terrorismo.Tiene una amplia experien
 cia profesional de 30 años y más de 20 años en los servicios de consultorí
 a y capacitación brindados en América Latina a los sectores financieros y 
 empresariales. Se ha distinguido por su desempeño en puestos ejecutivos de
  alto nivel en el sector bursátil y financiero en Costa Rica.Consultora In
 ternacional para el BID\, Banco Mundial\, BCIE\, FOMIN\, INCAE\, CLACDS\, 
 CAHI y es la Directora y fundadora de la firma de consultoría Miño Consult
 ores.\nTodas nuestras capacitaciones pueden ser impartidas en su organizac
 ión.\nInscripciones e información al e-mail info@cedeso.co.crTel: (506) 22
 25-1007 Fax: (506) 2253-2774Visite nuestra página www.cedeso.co.crfacebook
 .com/cedesocostarica
DTSTART:20200826T143000Z
DTEND:20200826T170000Z
GEO:00;0
LOCATION:Virtual.
ORGANIZER;CN=:info@cedeso.co.cr
SEQUENCE:1
SUMMARY:Cómo lograr la continuidad del negocio ante la crisis de la COVID-1
 9
TRANSP:OPAQUE
URL:https://cedeso.co.cr/eventos-anteriores/312-c%C3%B3mo-lograr-la-continu
 idad-del-negocio-ante-la-crisis-de-la-covid-19
END:VEVENT
END:VCALENDAR
