BEGIN:VCALENDAR
VERSION:2.0
PRODID:-//Cedeso//NONSGML kigkonsult.se iCalcreator 2.30.10//
CALSCALE:GREGORIAN
METHOD:PUBLISH
UID:886383a9-0ca0-444c-86ea-b101e36e8cd4
X-WR-CALNAME:iCagenda
X-WR-CALDESC:Event Management Extension for Joomla!
X-WR-RELCALID:3E26604A-50F4-4449-8B3E-E4F4932D05B5
X-WR-TIMEZONE:America/Costa_Rica
BEGIN:VTIMEZONE
TZID:America/Costa_Rica
BEGIN:STANDARD
TZNAME:CST
DTSTART:20181216T060000
TZOFFSETFROM:+0000
TZOFFSETTO:-0600
END:STANDARD
END:VTIMEZONE
BEGIN:VEVENT
UID:0d43f5ec-fc29-4aaa-b5a7-2f7ac5d874ec
DTSTAMP:20260419T174319Z
CATEGORIES:Ventas
CLASS:PUBLIC
DESCRIPTION;ALTREP="CID:<FFFF__=0ABBE548DFE235B58f9e8a93d@coffeebean.com>":
 Webinar:\nLos factores clave para lograr ventas exitosas durante la pandem
 ia\nDescripción de la actividad:La pandemia de la COVID-19 ha provocado ca
 mbios en los comportamientos de los consumidores y en sus experiencias de 
 compra\, para lograr ventas exitosas se necesita aprender las nuevas regla
 s.\nObjetivo:Dar información a los participantes sobre los factores clave 
 que se requieren para lograr concretar ventas en la época de la covid-19.
 \nDirigido a:Empresarios\, encargados de las áreas: comercial\, ventas\, m
 ercadeo.\nFecha: 16 de setiembre del 2020. Horario: 8:30 a.m. a 11:00 a.m.
 Duración: 2.5 horas.Modalidad: Virtual por plataforma Zoom.Inversión: ¢25.
 000 + 2% de IVA por participante.Incluye: Material y certificado de partic
 ipación en PDF.\nFacilitadora: MEE Hilda María Miño.Graduada como licencia
 da en Economía Agrícola de la UCR y en Psicología de la Universidad Católi
 ca\; con Maestría en Economía Empresarial del INCAE Business School\, cuen
 ta con una certificación como Coach Internacional y es especialista y pion
 era en Costa Rica en la Prevención de la Legitimación de Capitales y el Fi
 nanciamiento al Terrorismo.Tiene una amplia experiencia profesional de 30 
 años y más de 20 años en los servicios de consultoría y capacitación brind
 ados en América Latina a los sectores financieros y empresariales. Se ha d
 istinguido por su desempeño en puestos ejecutivos de alto nivel en el sect
 or bursátil y financiero en Costa Rica.Consultora Internacional para el BI
 D\, Banco Mundial\, BCIE\, FOMIN\, INCAE\, CLACDS\, CAHI y es la Directora
  y fundadora de la firma de consultoría Miño Consultores.\nTodas nuestras 
 capacitaciones pueden ser impartidas en su organización.\nInscripciones e 
 información al e-mail info@cedeso.co.crTel: (506) 2225-1007 Fax: (506) 225
 3-2774Visite nuestra página www.cedeso.co.crfacebook.com/cedesocostarica
DTSTART:20200916T143000Z
DTEND:20200916T170000Z
GEO:00;0
LOCATION:Virtual.
ORGANIZER;CN=:info@cedeso.co.cr
SEQUENCE:1
SUMMARY:Los factores clave para lograr ventas exitosas durante la pandemia
TRANSP:OPAQUE
URL:https://cedeso.co.cr/eventos-anteriores/313-los-factores-clave-para-log
 rar-ventas-exitosas-durante-la-pandemia-de-la-covid-19
END:VEVENT
END:VCALENDAR
