BEGIN:VCALENDAR
VERSION:2.0
PRODID:-//Cedeso//NONSGML kigkonsult.se iCalcreator 2.30.10//
CALSCALE:GREGORIAN
METHOD:PUBLISH
UID:69f56bf3-125a-4387-a131-47aa7850d393
X-WR-CALNAME:iCagenda
X-WR-CALDESC:Event Management Extension for Joomla!
X-WR-RELCALID:3E26604A-50F4-4449-8B3E-E4F4932D05B5
X-WR-TIMEZONE:America/Costa_Rica
BEGIN:VTIMEZONE
TZID:America/Costa_Rica
BEGIN:STANDARD
TZNAME:CST
DTSTART:20190113T060000
TZOFFSETFROM:+0000
TZOFFSETTO:-0600
END:STANDARD
END:VTIMEZONE
BEGIN:VEVENT
UID:31639146-942d-43c2-bc45-2ba27233446e
DTSTAMP:20260419T185902Z
CATEGORIES:Mejores Prácticas Organizacionales
CLASS:PUBLIC
DESCRIPTION;ALTREP="CID:<FFFF__=0ABBE548DFE235B58f9e8a93d@coffeebean.com>":
 Taller:\n¿Cómo abordar la gestión de riesgos ante la nueva realidad?\nActu
 alización dinámica de la gestión de riesgos\, aplicando la teoría en la co
 nstrucción de una matriz de riesgos.\nDirigido a: Gestores de riesgos\, mi
 embros de comisiones y comités de riesgos\, facilitadores de control inter
 no\, responsables de control interno\, responsables de auditoría\, partici
 pantes en gestión de proyectos y tomadores de decisiones.\nContenidos:Tema
  1: EL ABC DE RIESGOS (2 sesiones de 2 horas).- Conceptos esenciales para 
 gestionar riesgos.- Análisis de las metodologías actuales.- Errores comune
 s en la gestión de riesgos.- PRÁCTICA: 'Haciendo nuestra matriz parte I'.
 \nTema 2: IDENTIFICACIÓN Y ANÁLISIS DE RIESGOS (2 sesiones de 2 horas).- T
 écnicas para identificación de riesgo.- Matriz de insumo vs eventos.- Méto
 dos de análisis de riesgos.- PRÁCTICA: 'Haciendo nuestra matriz parte II'
 \nTema 3: ADMINISTRACIÓN Y SEGUIMIENTO DE LOS RIESGOS (2 sesiones de 2 hor
 as).- Evaluación de los riesgos.- Administración de los riesgos.- Revisión
  y actualización de los riesgos.- De la improvisación a la capacidad de re
 acción.- PRÁCTICA: 'Haciendo nuestra matriz parte III'\nFecha: 14\, 16\, 2
 1\, 23\, 28 y 30 de octubre del 2020.Horario: 9:00 a.m. a 11:00 a.m.Duraci
 ón total: 12 horas. Modalidad: Virtual por plataforma Zoom.Inversión: ¢120
 .000 + 2% de IVA por participante.Incluye: Material y certificado de parti
 cipación en PDF.\nFacilitador. Jonathan Cedeño Caballero\, Máster en Geren
 cia de Proyectos\, Máster Administración en Empresas con énfasis en Finanz
 as y Licenciado en Contaduría Pública. con amplia experiencia en temas de 
 gestión de riesgos y control interno en 19 años de trabajo en el sector pr
 ivado\, público y consultor. Además\, cuenta con diez años de experiencia 
 en capacitaciones y docencia universitaria.\nTodas nuestras capacitaciones
  pueden ser impartidas en su organización.\nInscripciones e información al
  e-mail info@cedeso.co.crTel: (506) 2225-1007 Fax: (506) 2253-2774Visite n
 uestra página www.cedeso.co.crfacebook.com/cedesocostarica
DTSTART:20201014T150000Z
DTEND:20201030T170000Z
GEO:00;0
LOCATION:Virtual.
ORGANIZER;CN=:info@cedeso.co.cr
SEQUENCE:1
SUMMARY:¿Cómo abordar la gestión de riesgos ante la nueva realidad?
TRANSP:OPAQUE
URL:https://cedeso.co.cr/eventos-anteriores/314-%C2%BFc%C3%B3mo-abordar-la-
 gesti%C3%B3n-de-riesgos-ante-la-nueva-realidad
END:VEVENT
END:VCALENDAR
