BEGIN:VCALENDAR
VERSION:2.0
PRODID:-//Cedeso//NONSGML kigkonsult.se iCalcreator 2.30.10//
CALSCALE:GREGORIAN
METHOD:PUBLISH
UID:4347f352-41e2-488d-8430-8b8c7f101684
X-WR-CALNAME:iCagenda
X-WR-CALDESC:Event Management Extension for Joomla!
X-WR-RELCALID:3E26604A-50F4-4449-8B3E-E4F4932D05B5
X-WR-TIMEZONE:America/Costa_Rica
BEGIN:VTIMEZONE
TZID:America/Costa_Rica
BEGIN:STANDARD
TZNAME:CST
DTSTART:20181028T060000
TZOFFSETFROM:+0000
TZOFFSETTO:-0600
END:STANDARD
END:VTIMEZONE
BEGIN:VEVENT
UID:a7d168d3-e18c-4da9-8ab4-d1f321f8e52a
DTSTAMP:20260419T174203Z
CATEGORIES:Ventas
CLASS:PUBLIC
DESCRIPTION;ALTREP="CID:<FFFF__=0ABBE548DFE235B58f9e8a93d@coffeebean.com>":
 NUEVAS TÁCTICAS Y ESTRATEGIAS DE VENTAS 2020\n \nObjetivo general: Aumenta
 r sus ventas por medio de técnicas novedosas y de rápida aplicación en tem
 as de: tácticas de prospección\, entrevista vendedora y estrategias de cie
 rre.\nContenidos:\n\nCómo superar falsos paradigmas que limitan a un vende
 dor.\nTácticas para generar prospectos calificados.\nCómo crear interés po
 r el producto sin matar la venta.\nClaves para hacer presentaciones vended
 oras.\nLeyes para argumentar beneficios de forma eficaz.\nPasos para persi
 stir en el cierre sin crear molestia en el cliente.\nTipos de cierre según
  el momento y la circunstancia.\n\n \nFacilitador: David Rodríguez. Admini
 strador de empresas\, con especialidad en comportamiento humano en México 
 y en California. Ha laborado en Recursos Humanos en Florida y durante los 
 últimos 9 años se ha desempeñado como Gerente de Ventas Internacionales en
  una empresa costarricense. Ha dictado conferencias\, cursos\, capacitacio
 nes y realizado asesorías en Estados Unidos\, Guatemala\, El Salvador\, Ni
 caragua\, Panamá\, Ecuador\, y otros países de Sur América y el Caribe. Au
 tor del libro 'La ingeniería de vender'.\n \nFecha: 29 y 30 de julio del 2
 020.\nHorario: 2:00 p.m. a 4:00 p.m.\nDuración: 4 horas.\nMedio: Plataform
 a Zoom.\nInversión: ¢40.000 + 2% de IVA por participante.\nIncluye: Materi
 al didáctico y certificado de participación en PDF.\n \nTodas nuestras cap
 acitaciones pueden ser impartidas en su organización\n \nInscripciones e i
 nformación al e-mail info@cedeso.co.cr\nTel: (506) 2225-1007 · Tel/Fax: (5
 06) 2253-2774\nVisite nuestra página www.cedeso.co.cr\nfacebook.com/cedeso
 costarica
DTSTART:20200729T200000Z
DTEND:20200730T220000Z
GEO:00;0
LOCATION:Virtual.
ORGANIZER;CN=:info@cedeso.co.cr
SEQUENCE:1
SUMMARY:Nuevas tácticas y estrategias de ventas 2020
TRANSP:OPAQUE
URL:https://cedeso.co.cr/eventos-anteriores/316-nuevas-t%C3%A1cticas-y-estr
 ategias-de-ventas-2020
END:VEVENT
END:VCALENDAR
