BEGIN:VCALENDAR
VERSION:2.0
PRODID:-//Cedeso//NONSGML kigkonsult.se iCalcreator 2.30.10//
CALSCALE:GREGORIAN
METHOD:PUBLISH
UID:aae25fb1-a6f3-4952-acca-c6d6956f1f12
X-WR-CALNAME:iCagenda
X-WR-CALDESC:Event Management Extension for Joomla!
X-WR-RELCALID:3E26604A-50F4-4449-8B3E-E4F4932D05B5
X-WR-TIMEZONE:America/Costa_Rica
BEGIN:VTIMEZONE
TZID:America/Costa_Rica
BEGIN:STANDARD
TZNAME:CST
DTSTART:20181209T060000
TZOFFSETFROM:+0000
TZOFFSETTO:-0600
END:STANDARD
END:VTIMEZONE
BEGIN:VEVENT
UID:8c7721ec-0c71-4398-9314-6e14e7e6b964
DTSTAMP:20260419T174400Z
CATEGORIES:Operaciones
CLASS:PUBLIC
DESCRIPTION;ALTREP="CID:<FFFF__=0ABBE548DFE235B58f9e8a93d@coffeebean.com>":
 Webinar:\n¿Por qué abrir oportunidades en mercados internacionales en tiem
 pos de cambio?\n \nObjetivos:Potenciar las capacidades de los participante
 s para que conozcan mejor los instrumentos técnicos y estratégicos en mate
 ria de exportación y así facilitar la incursión de la empresa a nuevos mer
 cados internacionales.\nTemario:• ¿Qué es un plan de internacionalización?
 • Requisitos del plan de internacionalización.• Análisis de la situación i
 nterna y de entorno de la empresa.• Selección de países objetivo.• Estrate
 gia de forma de entrada.• Marketing Mix.• Análisis de procesos logísticos.
 • Cómo mejorar la competitividad a través de certificaciones voluntarias.
 \nMetodología:Uso de presentación de Power Point\, mediante un curso inter
 activo\, basado en experiencias cotidianas que permiten dar un panorama má
 s claro. Se realizarán casos prácticos con el objetivo de que el participa
 nte desarrolle sus destrezas con relación al material visto. Todo el mater
 ial se desarrolla mediante ejemplos prácticos que permite maximizar el ent
 endimiento y así estimular a los participantes a interponer casos reales p
 ropios de su experiencia.\nFacilitadora: Lic. Yorleny Jiménez RojasGraduad
 a con honores de la Universidad de Costa Rica en la carrera de Administrac
 ión Aduanera y Comercio Exterior. Certificada como especialista en Supply 
 Chain de la Universidad de Nebrija en España\, especialista en Gestión de 
 Compras\, Aprovisionamiento y logística de la Escuela de Negocios INEAF en
  España. Actualmente consultora independiente con 20 años de experiencia e
 n manejo y desarrollo de procesos de internacionalización y logística espe
 cialmente para el sector agrícola.Especialista en desarrollo de acompañami
 entos empresariales en temas de importación\, exportación\, logística inte
 rnacional\, entre otros.Amplia experiencia laboral a través de los años en
  empresas como CADEXCO\, DESACARGA\, DHL\, Banacol de Costa Rica.Profesora
  de la Universidad de Costa Rica\, Universidad FUNDEPOS y capacitadora act
 iva en diferentes Cámaras que agremia exportadores\, importadores\, empres
 as PYMES\, entidades estatales\, colegios profesionales\, entre otros.\nFe
 cha: 9 y 10 de setiembre del 2020.Horario: 8:00 a.m. a 12:00 m.d.Duración:
  8 horas.Medio: Plataforma Zoom.Inversión: ¢80.000 + 2% de IVA por partici
 pante.Incluye: Material didáctico y certificado de participación en PDF.\n
 Todas nuestras capacitaciones pueden ser impartidas en su organización\nIn
 scripciones e información al e-mail info@cedeso.co.crTel: (506) 2225-1007 
 · Tel/Fax: (506) 2253-2774Visite nuestra página www.cedeso.co.crfacebook.c
 om/cedesocostarica
DTSTART:20200909T140000Z
DTEND:20200910T180000Z
GEO:00;0
LOCATION:Plataforma Zoom.
ORGANIZER;CN=:info@cedeso.co.cr
SEQUENCE:1
SUMMARY:¿Por qué abrir oportunidades en mercados internacionales en tiempos
  de cambio?
TRANSP:OPAQUE
URL:https://cedeso.co.cr/eventos-anteriores/317-%C2%BFpor-qu%C3%A9-abrir-op
 ortunidades-en-mercados-internacionales-en-tiempos-de-cambio
END:VEVENT
END:VCALENDAR
