BEGIN:VCALENDAR
VERSION:2.0
PRODID:-//Cedeso//NONSGML kigkonsult.se iCalcreator 2.30.10//
CALSCALE:GREGORIAN
METHOD:PUBLISH
UID:cb0bee11-3e45-4084-a98f-e088c199ba7a
X-WR-CALNAME:iCagenda
X-WR-CALDESC:Event Management Extension for Joomla!
X-WR-RELCALID:3E26604A-50F4-4449-8B3E-E4F4932D05B5
X-WR-TIMEZONE:America/Costa_Rica
BEGIN:VTIMEZONE
TZID:America/Costa_Rica
BEGIN:STANDARD
TZNAME:CST
DTSTART:20190120T060000
TZOFFSETFROM:+0000
TZOFFSETTO:-0600
END:STANDARD
END:VTIMEZONE
BEGIN:VEVENT
UID:f45108af-dd3e-466a-acdd-d111e12df4bb
DTSTAMP:20260423T112234Z
CATEGORIES:Operaciones
CLASS:PUBLIC
DESCRIPTION;ALTREP="CID:<FFFF__=0ABBE548DFE235B58f9e8a93d@coffeebean.com>":
 Webinar:\nNormas de origen y su importancia para la aplicación de benefici
 os arancelarios en los Tratados de Libre Comercio\nObjetivo: Identificar l
 as oportunidades de crecimiento y competitividad que puede tener una empre
 sa mediante la aplicación de los beneficios arancelarios que puede ofrecer
  un Tratado de Libre Comercio.\nTemario:• ¿Qué es una clasificación arance
 laria?• Importancia de la clasificación arancelaria• ¿Qué implicaciones ti
 ene el clasificar incorrectamente?• ¿Qué injerencia tiene la clasificación
  arancelaria en la aplicación de los TLC´s?• ¿Qué es un TLC?• ¿Qué benefic
 ios tiene un TLC?• Cómo puedo saber si mi producto de exportación o de imp
 ortación puede gozar de las preferencias arancelarias de un TLC.• ¿Qué son
  normas de origen?• Algunos ejemplos de normas de origen.• ¿Qué es un Cert
 ificado de Origen?• ¿Quién emite el certificado de origen?• ¿Cuánto debo a
 plicar un Certificado de origen y cuándo no es necesario?• Procedimiento a
  seguir si mi producto es originario y no cuento con el Certificado de ori
 gen al momento de importación• ¿Qué impuestos puedo eliminar o reducir con
  la aplicación de un TLC?• Recomendaciones importantes para que el certifi
 cado de origen se aceptado sin problema por la aduana.• Reglas básicas de 
 la correcta aplicación del certificado origen según algunos Tratados de Li
 bre Comercio específicos tales como CAFTA\, AACUE\, Centroamérica\, China.
 • Ejercicios prácticos.\nMetodología:Uso de presentación de Power Point\, 
 mediante un curso interactivo\, basado en experiencias cotidianas que perm
 iten dar un panorama más claro. Se realizarán casos prácticos con el objet
 ivo de que el participante desarrolle sus destrezas con relación al materi
 al visto. Todo el material se desarrolla mediante ejemplos prácticos que p
 ermite maximizar el entendimiento y así estimular a los participantes a in
 terponer casos reales propios de su experiencia.\nFacilitadora: Lic. Yorle
 ny Jiménez RojasGraduada con honores de la Universidad de Costa Rica en la
  carrera de Administración Aduanera y Comercio Exterior. Certificada como 
 especialista en Supply Chain de la Universidad de Nebrija en España\, espe
 cialista en Gestión de Compras\, Aprovisionamiento y logística de la Escue
 la de Negocios INEAF en España. Actualmente consultora independiente con 2
 0 años de experiencia en manejo y desarrollo de procesos de internacionali
 zación y logística especialmente para el sector agrícola.Especialista en d
 esarrollo de acompañamientos empresariales en temas de importación\, expor
 tación\, logística internacional\, entre otros.Amplia experiencia laboral 
 a través de los años en empresas como CADEXCO\, DESACARGA\, DHL\, Banacol 
 de Costa Rica.Profesora de la Universidad de Costa Rica\, Universidad FUND
 EPOS y capacitadora activa en diferentes Cámaras que agremia exportadores\
 , importadores\, empresas PYMES\, entidades estatales\, colegios profesion
 ales\, entre otros.\nFecha: 21 de octubre del 2020.Horario: 8:00 a.m. a 12
 :00 m.d.Duración: 4 horas.Medio: Plataforma Zoom.Inversión: ¢40.000 + 2% d
 e IVA por participante.Incluye: Material didáctico y certificado de partic
 ipación en PDF.\nTodas nuestras capacitaciones pueden ser impartidas en su
  organización\nInscripciones e información al e-mail info@cedeso.co.crTel:
  (506) 2225-1007 · Tel/Fax: (506) 2253-2774Visite nuestra página www.cedes
 o.co.crfacebook.com/cedesocostarica\n 
DTSTART:20201021T140000Z
DTEND:20201021T180000Z
GEO:00;0
LOCATION:Virtual
ORGANIZER;CN=:info@cedeso.co.cr
SEQUENCE:1
SUMMARY:Normas de origen y su importancia para la aplicación de beneficios 
 arancelarios en los Tratados de Libre Comercio
TRANSP:OPAQUE
URL:https://cedeso.co.cr/eventos-anteriores/318-normas-de-origen-y-su-impor
 tancia-para-la-aplicaci%C3%B3n-de-beneficios-arancelarios-en-los-tratados-
 de-libre-comercio
END:VEVENT
END:VCALENDAR
