BEGIN:VCALENDAR
VERSION:2.0
PRODID:-//Cedeso//NONSGML kigkonsult.se iCalcreator 2.30.10//
CALSCALE:GREGORIAN
METHOD:PUBLISH
UID:405ed9ed-1171-4dff-b80f-e1e329110f52
X-WR-CALNAME:iCagenda
X-WR-CALDESC:Event Management Extension for Joomla!
X-WR-RELCALID:3E26604A-50F4-4449-8B3E-E4F4932D05B5
X-WR-TIMEZONE:America/Costa_Rica
BEGIN:VTIMEZONE
TZID:America/Costa_Rica
BEGIN:STANDARD
TZNAME:CST
DTSTART:20190203T060000
TZOFFSETFROM:+0000
TZOFFSETTO:-0600
END:STANDARD
END:VTIMEZONE
BEGIN:VEVENT
UID:bc02510b-5b0b-4682-a7c1-1fa0b0e22401
DTSTAMP:20260419T203617Z
CATEGORIES:Operaciones
CLASS:PUBLIC
DESCRIPTION;ALTREP="CID:<FFFF__=0ABBE548DFE235B58f9e8a93d@coffeebean.com>":
 Webinar:\nValoración aduanera como eje principal para el cálculo correcto 
 de los impuestos de aduana\n \nObjetivo:Conocer el impacto de la Valoració
 n Aduanera no sólo para la correcta liquidación de los derechos arancelari
 os a la importación\, sino también con base a su papel significativo en ot
 ros aspectos del comercio internacional\, a nivel de estadísticas\, contin
 gentes y otros gravámenes percibidos de la importación\, así como en la ap
 licación de sistemas preferenciales.\nTemario:- Obligaciones relativas a l
 as importaciones.- Requerimientos de importación.- Aspectos importantes pa
 ra determinar el Valor (uso de cánones\, licencias\, aplicación de descuen
 tos\, vinculación comercial\, muestras sin valor comercial\, ventas sucesi
 vas\, métodos secundarios para obtener el valor aduanero\, etc.). Según el
  Acuerdo de Valoración Aduanera de la OMC.- Registros de Importadores.- Im
 portancia y alcances de la presentación de la declaración de valor aduaner
 a.- Valor Aduanero y su afectación en el cálculo de los impuestos de aduan
 as.\nMetodología:Uso de presentación de Power Point\, mediante un curso in
 teractivo\, basado en experiencias cotidianas que permiten dar un panorama
  más claro. Se realizarán casos prácticos con el objetivo de que el partic
 ipante desarrolle sus destrezas con relación al material visto. Todo el ma
 terial se desarrolla mediante ejemplos prácticos que permite maximizar el 
 entendimiento y así estimular a los participantes a interponer casos reale
 s propios de su experiencia.\nFacilitadora: Lic. Yorleny Jiménez RojasGrad
 uada con honores de la Universidad de Costa Rica en la carrera de Administ
 ración Aduanera y Comercio Exterior. Certificada como especialista en Supp
 ly Chain de la Universidad de Nebrija en España\, especialista en Gestión 
 de Compras\, Aprovisionamiento y logística de la Escuela de Negocios INEAF
  en España. Actualmente consultora independiente con 20 años de experienci
 a en manejo y desarrollo de procesos de internacionalización y logística e
 specialmente para el sector agrícola.Especialista en desarrollo de acompañ
 amientos empresariales en temas de importación\, exportación\, logística i
 nternacional\, entre otros.Amplia experiencia laboral a través de los años
  en empresas como CADEXCO\, DESACARGA\, DHL\, Banacol de Costa Rica.Profes
 ora de la Universidad de Costa Rica\, Universidad FUNDEPOS y capacitadora 
 activa en diferentes Cámaras que agremia exportadores\, importadores\, emp
 resas PYMES\, entidades estatales\, colegios profesionales\, entre otros.
 \nFecha: 4 de noviembre del 2020.Horario: 8:00 a.m. a 12:00 m.d.Duración: 
 4 horas.Medio: Plataforma Zoom.Inversión: ¢40.000 + 2% de IVA por particip
 ante.Incluye: Material didáctico y certificado de participación en PDF.\nT
 odas nuestras capacitaciones pueden ser impartidas en su organización\nIns
 cripciones e información al e-mail info@cedeso.co.crTel: (506) 2225-1007 ·
  Tel/Fax: (506) 2253-2774Visite nuestra página www.cedeso.co.crfacebook.co
 m/cedesocostarica
DTSTART:20201104T140000Z
DTEND:20201104T180000Z
GEO:00;0
LOCATION:Virtual.
ORGANIZER;CN=:info@cedeso.co.cr
SEQUENCE:1
SUMMARY:Valoración aduanera como eje principal para el cálculo correcto de 
 los impuestos de aduana
TRANSP:OPAQUE
URL:https://cedeso.co.cr/eventos-anteriores/320-valoraci%C3%B3n-aduanera-co
 mo-eje-principal-para-el-c%C3%A1lculo-correcto-de-los-impuestos-de-aduana
END:VEVENT
END:VCALENDAR
