BEGIN:VCALENDAR
VERSION:2.0
PRODID:-//Cedeso//NONSGML kigkonsult.se iCalcreator 2.30.10//
CALSCALE:GREGORIAN
METHOD:PUBLISH
UID:4ca688c7-769a-4c91-9087-d7ac0ec70cdc
X-WR-CALNAME:iCagenda
X-WR-CALDESC:Event Management Extension for Joomla!
X-WR-RELCALID:3E26604A-50F4-4449-8B3E-E4F4932D05B5
X-WR-TIMEZONE:America/Costa_Rica
BEGIN:VTIMEZONE
TZID:America/Costa_Rica
BEGIN:STANDARD
TZNAME:CST
DTSTART:20190113T060000
TZOFFSETFROM:+0000
TZOFFSETTO:-0600
END:STANDARD
END:VTIMEZONE
BEGIN:VEVENT
UID:bf1d0ff8-aa88-4689-b7ba-982d2ffb1f10
DTSTAMP:20260419T185821Z
CATEGORIES:Mejores Prácticas Organizacionales
CLASS:PUBLIC
DESCRIPTION;ALTREP="CID:<FFFF__=0ABBE548DFE235B58f9e8a93d@coffeebean.com>":
 Certificación Internacional para aplicar Gamificación en Procesos de Apren
 dizaje\n \nInicio: 14 de octubre 2020\nAcreditación: 100 horas\nModalidad:
  100% Virtual\n \nDescargue toda la información aquí:\nhttps://gamificacio
 n-cedeso.subscribemenow.com/
DTSTART:20201014T060000Z
DTEND:20201014T060000Z
GEO:00;0
LOCATION:Virtual
ORGANIZER;CN=:info@cedeso.co.cr
SEQUENCE:1
SUMMARY:Certificación Internacional para aplicar Gamificación en procesos d
 e aprendizaje
TRANSP:OPAQUE
URL:https://cedeso.co.cr/eventos-anteriores/321-certificaci%C3%B3n-internac
 ional-para-aplicar-gamificaci%C3%B3n-en-procesos-de-aprendizaje
END:VEVENT
END:VCALENDAR
