BEGIN:VCALENDAR
VERSION:2.0
PRODID:-//Cedeso//NONSGML kigkonsult.se iCalcreator 2.30.10//
CALSCALE:GREGORIAN
METHOD:PUBLISH
UID:71a187bb-64ec-44c8-a3a7-a92c2a05c54b
X-WR-CALNAME:iCagenda
X-WR-CALDESC:Event Management Extension for Joomla!
X-WR-RELCALID:3E26604A-50F4-4449-8B3E-E4F4932D05B5
X-WR-TIMEZONE:America/Costa_Rica
BEGIN:VTIMEZONE
TZID:America/Costa_Rica
BEGIN:STANDARD
TZNAME:CST
DTSTART:20190303T060000
TZOFFSETFROM:+0000
TZOFFSETTO:-0600
END:STANDARD
END:VTIMEZONE
BEGIN:VEVENT
UID:3e3baa5d-0faf-454e-b209-d3c1020d3d84
DTSTAMP:20260419T185438Z
CATEGORIES:Operaciones
CLASS:PUBLIC
DESCRIPTION;ALTREP="CID:<FFFF__=0ABBE548DFE235B58f9e8a93d@coffeebean.com>":
 Webinar:\nEl ABC de las exportaciones e importaciones\nObjetivo: Brindar u
 n apoyo integral a los interesados con el fin de optimizar sus operaciones
  de importación y exportación\, proporcionando los conocimientos y ayuda n
 ecesaria para afrontar de forma exitosa su negocio\, bajo un marco prevent
 ivo que le garantice minimizar los riesgos que pueden impactar el desarrol
 lo de sus operaciones aduaneras.\nTemario:\nPlan de exportación:• ¿Qué es 
 una exportación?• ¿Por qué exportar?• Ventajas y riesgos de una exportació
 n.• ¿Cómo determinar si mi empresa está preparada para exportar?• ¿Qué es 
 un plan de exportación y qué involucra?• Proceso de exportación.• Algunos 
 aspectos a considerar para que mi proceso de exportación sea exitoso.\nPla
 n de importación:• ¿Qué es una importación?• Condiciones que se debe tomar
  en cuenta previas a una importación.• Obligaciones que debe cumplir la em
 presa importadora.• Documentos que se deben presentar para realizar una im
 portación.• ¿Qué es una clasificación arancelaria y su importancia?• ¿Cuál
 es son los principales errores que se cometen al importar?• ¿Qué es Valora
 ción Aduanera?• Importancia de la Declaración de Valor Aduanero.• Cálculo 
 de impuestos aduaneros y costos de importación.• Normas de origen y su imp
 ortancia en la aplicación de los tratados de libre comercio.• Medidas no a
 rancelarias (notas técnicas).\nMetodología:Uso de presentación de Power Po
 int\, mediante un curso interactivo\, basado en experiencias cotidianas qu
 e permiten dar un panorama más claro. Se realizarán casos prácticos con el
  objetivo de que el participante desarrolle sus destrezas con relación al 
 material visto. Todo el material se desarrolla mediante ejemplos prácticos
  que permite maximizar el entendimiento y así estimular a los participante
 s a interponer casos reales propios de su experiencia.\nFacilitadora: Lic.
  Yorleny Jiménez RojasGraduada con honores de la Universidad de Costa Rica
  en la carrera de Administración Aduanera y Comercio Exterior. Certificada
  como especialista en Supply Chain de la Universidad de Nebrija en España\
 , especialista en Gestión de Compras\, Aprovisionamiento y logística de la
  Escuela de Negocios INEAF en España. Actualmente consultora independiente
  con 20 años de experiencia en manejo y desarrollo de procesos de internac
 ionalización y logística especialmente para el sector agrícola.Especialist
 a en desarrollo de acompañamientos empresariales en temas de importación\,
  exportación\, logística internacional\, entre otros.Amplia experiencia la
 boral a través de los años en empresas como CADEXCO\, DESACARGA\, DHL\, Ba
 nacol de Costa Rica.Profesora de la Universidad de Costa Rica\, Universida
 d FUNDEPOS y capacitadora activa en diferentes Cámaras que agremia exporta
 dores\, importadores\, empresas PYMES\, entidades estatales\, colegios pro
 fesionales\, entre otros.\nFecha: 2 y 3 de diciembre 2020.Horario: 8:00 a.
 m. a 12:00 m.d.Duración: 8 horas.Medio: Plataforma Zoom.Inversión: ¢60.000
  + 2% de IVA por participante.Incluye: Material didáctico y certificado de
  participación en PDF.\nTodas nuestras capacitaciones pueden ser impartida
 s en su organización\nInscripciones e información al e-mail info@cedeso.co
 .crTel: (506) 2225-1007 · Tel/Fax: (506) 2253-2774Visite nuestra página ww
 w.cedeso.co.crfacebook.com/cedesocostarica
DTSTART:20201202T140000Z
DTEND:20201203T180000Z
GEO:00;0
LOCATION:Virtual
ORGANIZER;CN=:info@cedeso.co.cr
SEQUENCE:1
SUMMARY:El ABC de las exportaciones e importaciones
TRANSP:OPAQUE
URL:https://cedeso.co.cr/eventos-anteriores/323-el-abc-de-las-exportaciones
 -e-importaciones
END:VEVENT
END:VCALENDAR
