BEGIN:VCALENDAR
VERSION:2.0
PRODID:-//Cedeso//NONSGML kigkonsult.se iCalcreator 2.30.10//
CALSCALE:GREGORIAN
METHOD:PUBLISH
UID:1dfb9ef4-5fd4-4798-9c26-74578b2a7839
X-WR-CALNAME:iCagenda
X-WR-CALDESC:Event Management Extension for Joomla!
X-WR-RELCALID:3E26604A-50F4-4449-8B3E-E4F4932D05B5
X-WR-TIMEZONE:America/Costa_Rica
BEGIN:VTIMEZONE
TZID:America/Costa_Rica
BEGIN:STANDARD
TZNAME:CST
DTSTART:20190210T060000
TZOFFSETFROM:+0000
TZOFFSETTO:-0600
END:STANDARD
END:VTIMEZONE
BEGIN:VEVENT
UID:6249861c-f60c-4ecf-9e40-f205ca1f1060
DTSTAMP:20260419T202659Z
CATEGORIES:Mejores Prácticas Organizacionales
CLASS:PUBLIC
DESCRIPTION;ALTREP="CID:<FFFF__=0ABBE548DFE235B58f9e8a93d@coffeebean.com>":
 Programa de desarrollo del potencial (PDP)\n \nUn programa para desarrolla
 r recursos urgentes para la nueva normalidad\n3 talleres de cuatro horas c
 ada uno\n \nCurse el programa completo o solo aquellas sesiones de su inte
 rés\n \n\nIntelemoción\n\n\nIntelemoción: la mecánica de la inteligencia e
 mocional y sus dimensiones.\n“Campo de práctica”. Ejercicios para desarrol
 lo de cada dimensión: “Botones calientes”/ “El Helicóptero” (SA) Ù “Habla 
 interior” (SR)Ù “Etnografía de 15 min+” (SOA) Ù “Betari+” (RV).\nIntelemoc
 ión y Soft Skills: recursos para mejorar la inmunidad al cambio\, flow\, i
 -motivación\, decisiones\, prioridades y comunicación asertiva.\n\n \nFech
 a: 11 y 13 se noviembre e del 2020.\nHorario: 8:00 a.m. a 10:00 a.m.\nDura
 ción: 4 horas.\nPlataforma: Zoom.\nInversión: ¢40.000 + 2% de IVA por part
 icipante.\nIncluye: Material didáctico y certificado de participación en P
 DF.\n \n\n Mentalidad de crecimiento\n\n\nModelos mentales: ¿mentalidad fi
 ja o de crecimiento? Con instrumento de autoevaluación y desarrollo\n20 es
 trategias potentes para desarrollar el Growth Mindset: ¡Con ejercicio GM S
 erious Play®! \nFortalecer la curiosidad\, la flexibilidad y el aprendizaj
 e ágil: la caja de herramientas de la GM. Trabajo con Jamboard© para trasf
 erir estas estrategias a la acción diaria-\nSiete (¡7!) indicadores y comp
 ortamientos de GM para líderes y coaches.\n\n \nFecha: 18 y 20 de noviembr
 e del 2020.\nHorario: 8:00 a.m. a 10:00 a.m.\nDuración: 4 horas.\nPlatafor
 ma: Zoom.\nInversión: ¢40.000 + 2% de IVA por participante.\nIncluye: Mate
 rial didáctico y certificado de participación en PDF.\n \n\n Herramientas 
 de resiliencia\n\n\nLa resiliencia se aprende: cuatro estrategias de perfi
 l resiliente para aplicar “aquí y ahora” en la “nueva normalidad”.\nResili
 encia en el trabajo: nueve estrategias para desarrollar la capacidad de so
 breponerse. Trabajo individual/grupal de reconocimiento y aplicación de es
 trategias (reencuadrar resultados\, cultivar el optimismo y hacer redes\, 
 desarrollar el autocontrol y manejar expectativas razonables).\nEjercicio:
  “combatiendo hormigas”. Manejo y control de automatic negative thoughts (
 ANTs).\nResiliencia grupal: 10 guías para la acción en equipos resilientes
 \, con autoevaluación.\n\nFecha: 25 y 27 de noviembre del 2020.\nHorario: 
 8:00 a.m. a 10:00 a.m.\nDuración: 4 horas.\nPlataforma: Zoom.\nInversión: 
 ¢40.000 + 2% de IVA por participante.\nIncluye: Material didáctico y certi
 ficado de participación en PDF.\n \nFacilitador: Dr. Enrique Margery\n\nDo
 ctor en Educación y TEDx speaker.\nProfesor de la Maestría en Psicología d
 el Trabajo en la Universidad de Costa Rica. Profesor invitado de la Univer
 sidad de Querétaro (UAQ\, México) y la Universidad UAGM (Puerto Rico).\nDi
 seña capacitación para desarrollo de soft skills basado en aprendizaje por
  la experiencia\, GBL y “reto-aprendizaje”.\nCoach especialista en ciencia
  de la colaboración y manejo de top performers.\nDiseña herramientas para 
 medir el Sentido de Urgencia\, el “termómetro de la colaboración” y la ren
 tabilidad de la capacitación\, entre otros.\nAutor de los libros “Compleji
 dad y Competencias”\, “Herramientas de Coaching”\, “El Viaje” (Editorial N
 orma\; uno de los primeros libros de psicología positiva publicados) y 'Co
 mplejidad\, Transdisciplinariedad y Compentencias'\n\n \nTodas nuestras ca
 pacitaciones pueden ser impartidas en su organización\n \nInscripciones e 
 Información al e-mail info@cedeso.co.cr\nTel: (506) 2225-1007 · Fax: (506)
  2253-2774\nVisite nuestra página www.cedeso.co.cr\nfacebook.com/cedesocos
 tarica
DTSTART:20201111T140000Z
DTEND:20201127T160000Z
GEO:00;0
LOCATION:Virtual
ORGANIZER;CN=:info@cedeso.co.cr
SEQUENCE:1
SUMMARY:Programa de desarrollo del potencial (PDP)
TRANSP:OPAQUE
URL:https://cedeso.co.cr/eventos-anteriores/324-programa-de-desarrollo-del-
 potencial-pdp
END:VEVENT
END:VCALENDAR
