BEGIN:VCALENDAR
VERSION:2.0
PRODID:-//Cedeso//NONSGML kigkonsult.se iCalcreator 2.30.10//
CALSCALE:GREGORIAN
METHOD:PUBLISH
UID:c2670c21-f87f-4898-ad6b-a0760cc99d50
X-WR-CALNAME:iCagenda
X-WR-CALDESC:Event Management Extension for Joomla!
X-WR-RELCALID:3E26604A-50F4-4449-8B3E-E4F4932D05B5
X-WR-TIMEZONE:America/Costa_Rica
BEGIN:VTIMEZONE
TZID:America/Costa_Rica
BEGIN:STANDARD
TZNAME:CST
DTSTART:20190106T060000
TZOFFSETFROM:+0000
TZOFFSETTO:-0600
END:STANDARD
END:VTIMEZONE
BEGIN:VEVENT
UID:1c7af152-3624-4eeb-8d1a-074a44b7334d
DTSTAMP:20260419T185900Z
CATEGORIES:Mejores Prácticas Organizacionales
CLASS:PUBLIC
DESCRIPTION;ALTREP="CID:<FFFF__=0ABBE548DFE235B58f9e8a93d@coffeebean.com>":
 Taller:\nHabilidades blandas para un liderazgo de impacto\n \nObjetivo: \n
 Implementar un programa de capacitación y entrenamiento práctico\, orienta
 do al desarrollo de habilidades básicas de liderazgo\, supervisión y manej
 o de personal desde un enfoque asertivo y orientado a resultados fortaleci
 endo el compromiso personal con la productividad individual y colectiva.\n
  \nContenidos:\n\nConociendo mi estilo de liderazgo (Tipos de liderazgo)\n
 ¿Qué se espera de mí como líder? (Habilidades indispensables)\nPrincipios 
 básicos de comunicación asertiva\n¿Cómo dar instrucciones de forma asertiv
 a?\nEstrategias para dar retroalimentación individual\nEl poder de la escu
 cha activa\nLos errores más comunes de los líderes\nMotivación de los equi
 pos de trabajo\nResolución de conflictos en los equipos de trabajo\nConsid
 eraciones básicas de la Reforma Procesal Laboral para líderes\nEstrategias
  básicas de administración adecuada del tiempo\nEstrategias para garantiza
 r la inclusión e integración de equipos multigeneracionales\nEstrategias p
 ara liderar equipos desde la virtualidad y el trabajo remoto.\n\n \n \nFec
 ha: 7\, 14\, 21 y 28 de octubre 2020\nHorario: 8:00 a.m. a 12:00 m.d.\nDur
 ación del proceso: Se organiza el proceso de capacitación en 4 sesiones de
  4 horas de duración cada una\, para un total de 16 horas. \nModalidad: Vi
 rtual por plataforma Zoom.\nInversión: ¢160.000 + 2% de IVA por participan
 te.\nIncluye: Material didáctico y certificado de participación en PDF.\n 
 \nFacilitadora: Licda. Gina Sequeira\, Psicóloga\, certificada en Business
  Coaching\, con posgrado de Gamificación y Técnicas de Ludificación. Estud
 ios de posgrado en Evaluación y Gerencia de Proyectos. Socia Fundadora de 
 Skills Lab. Más de 5 años de experiencia en el diseño de procesos de capac
 itación vinculados al desarrollo de habilidades blandas y el fortalecimien
 to de equipos de alto desempeño. Conferencista nacional e internacional.\n
  \nTodas nuestras capacitaciones pueden ser impartidas en su organización.
 \n \nInscripciones e información al e-mail info@cedeso.co.cr\nTel: (506) 2
 225-1007 Fax: (506) 2253-2774\nVisite nuestra página www.cedeso.co.cr\nfac
 ebook.com/cedesocostarica
DTSTART:20201007T140000Z
DTEND:20201028T180000Z
GEO:00;0
LOCATION:En línea
ORGANIZER;CN=:info@cedeso.co.cr
SEQUENCE:1
SUMMARY:Habilidades blandas para un liderazgo de impacto
TRANSP:OPAQUE
URL:https://cedeso.co.cr/eventos-anteriores/325-habilidades-blandas-para-un
 -liderazgo-de-impacto
END:VEVENT
END:VCALENDAR
