BEGIN:VCALENDAR
VERSION:2.0
PRODID:-//Cedeso//NONSGML kigkonsult.se iCalcreator 2.30.10//
CALSCALE:GREGORIAN
METHOD:PUBLISH
UID:3d0c92aa-075d-443a-844a-e87715d90417
X-WR-CALNAME:iCagenda
X-WR-CALDESC:Event Management Extension for Joomla!
X-WR-RELCALID:3E26604A-50F4-4449-8B3E-E4F4932D05B5
X-WR-TIMEZONE:America/Costa_Rica
BEGIN:VTIMEZONE
TZID:America/Costa_Rica
BEGIN:STANDARD
TZNAME:CST
DTSTART:20190120T060000
TZOFFSETFROM:+0000
TZOFFSETTO:-0600
END:STANDARD
END:VTIMEZONE
BEGIN:VEVENT
UID:806c129f-339d-44bd-8fde-78e313f6f980
DTSTAMP:20260419T185755Z
CATEGORIES:Operaciones
CLASS:PUBLIC
DESCRIPTION;ALTREP="CID:<FFFF__=0ABBE548DFE235B58f9e8a93d@coffeebean.com>":
 Webinar:\nCómo construir equipos de cobranzas de alto desempeño\nObjetivo 
 general:Construir equipos de cobranzas de alto desempeño.\nObjetivos espec
 íficos:• Desarrollar talentos.• Establecer metas.• Fomentar la proactivida
 d y el compromiso.• Incrementar la productividad.• Estimular la orientació
 n a resultados.\nDirigido a:Gerentes\, coordinadores\, jefes de departamen
 to\, supervisores\, gestores\, departamentos de crédito y cobro\, recupera
 doras\, agencias de cobranzas\, call centers\, aseguradoras\, bancos e ins
 tituciones financieras\, bufetes de abogados y público en general.\nConten
 idos:Construyendo equipos de cobranzas de alto desempeño según Mark Miller
 : Talento. Destreza. Comunidad. Pasos para crear equipos de alto desempeño
 . Equipos altamente efectivos según Stephen Covey. Proactividad. Enfoque. 
 Priorización. Cooperación. Comprensión. Sinergizar. Mejoramiento continuo.
  Factores claves para trabajar en equipo. Meta. Consejos prácticos para es
 tablecer metas. Compromiso. Complementariedad. Comunicación. Liderazgo com
 partido. Consejos prácticos para establecer metas. Salario emocional. Evol
 ución de los equipos de trabajo.\nFecha: 21 y 22 de octubre del 2020.Horar
 io: 1:00 p.m. a 3:00 p.m.Duración total: 4 horas.Medio: Plataforma Zoom.In
 versión: ¢40.000 + 2% de IVA por participante.Incluye: Material didáctico 
 y certificado de participación en PDF..\nFacilitador: Enrique Rosas Gonzál
 ez.Creador del paradigma de la cobranza moderna. Experto latinoamericano e
 n cobranzas y negociación. Licenciado en el área de las relaciones interna
 cionales con postrado en Derecho y Política Internacional de la Universida
 d Central de Venezuela. Cuenta con más de 30 años de experiencia en el din
 ámico mundo de las cobranzas. Ha desempeñado importantes cargos en departa
 mentos de crédito y cobranzas en destacadas empresas multinacionales.\nTod
 as nuestras capacitaciones pueden ser impartidas en su organización\nInscr
 ipciones e información al e-mail info@cedeso.co.crTel: (506) 2225-1007 · T
 el/Fax: (506) 2253-2774Visite nuestra página www.cedeso.co.crfacebook.com/
 cedesocostarica
DTSTART:20201021T190000Z
DTEND:20201022T210000Z
GEO:00;0
LOCATION:Virtual por Zoom.
ORGANIZER;CN=:info@cedeso.co.cr
SEQUENCE:1
SUMMARY:Cómo construir equipos de cobranzas de alto desempeño
TRANSP:OPAQUE
URL:https://cedeso.co.cr/eventos-anteriores/327-c%C3%B3mo-construir-equipos
 -de-cobranzas-de-alto-desempe%C3%B1o
END:VEVENT
END:VCALENDAR
