BEGIN:VCALENDAR
VERSION:2.0
PRODID:-//Cedeso//NONSGML kigkonsult.se iCalcreator 2.30.10//
CALSCALE:GREGORIAN
METHOD:PUBLISH
UID:1ae7088b-55f6-4cd6-9ca3-63c114c607ac
X-WR-CALNAME:iCagenda
X-WR-CALDESC:Event Management Extension for Joomla!
X-WR-RELCALID:3E26604A-50F4-4449-8B3E-E4F4932D05B5
X-WR-TIMEZONE:America/Costa_Rica
BEGIN:VTIMEZONE
TZID:America/Costa_Rica
BEGIN:STANDARD
TZNAME:CST
DTSTART:20190203T060000
TZOFFSETFROM:+0000
TZOFFSETTO:-0600
END:STANDARD
END:VTIMEZONE
BEGIN:VEVENT
UID:fd414e6a-80de-444d-be0d-2a934a5ac380
DTSTAMP:20260419T203056Z
CATEGORIES:Operaciones
CLASS:PUBLIC
DESCRIPTION;ALTREP="CID:<FFFF__=0ABBE548DFE235B58f9e8a93d@coffeebean.com>":
 Webinar:\nComunicación asertiva para equipos de cobranzas\nObjetivo genera
 l:Potenciar técnicas de comunicación basadas en programación neurolingüíst
 ica\, comunicación corporal y oral\, así como elementos claves de la comun
 icación.\nObjetivos específicos:- Comunicación Asertiva- Retroalimentación
 - Empatía profesional- PNL- Reforzamiento Positivo\nDirigido:Líderes de em
 presas\, directores\, tesoreros\, contralores\, gerentes\, coordinadores\,
  jefes de departamento\, supervisores\, gestores\, departamentos de crédit
 o y cobro\, recuperadoras\, agencias de cobranzas\, Call Centers\, asegura
 doras\, bancos e instituciones financieras\, bufetes de abogado\, público 
 en general.\nContenidos:\nMódulo 1- Entendiendo el Pensamiento. - Niveles 
 lógicos del pensamiento.- Programación Neurolingüística.- Empatía\, conoci
 miento y responsabilidad.- Niveles de comunicación.- Comunicación integral
  para equipos de cobranzas: oral y corporal.- 6 sombreros para pensar.- Té
 cnicas de retroalimentación.\nMódulo 2- Técnicas de comunicación para equi
 pos de cobranzas: reforzamiento positivo.- Efecto Pigmalión.- Rapport.- St
 orytelling.- Comunicación en los equipos de trabajo.- Comunicación con cli
 entes.- Comunicación en situaciones difíciles.\nFecha: 4 y 5 de noviembre 
 del 2020.Horario: 8:00 a.m. a 10:00 a.m.Duración total: 4 horas.Medio: Pla
 taforma Zoom.Inversión: ¢40.000 + 2% de IVA por participante.Incluye: Mate
 rial didáctico y certificado de participación en PDF.\nFacilitador: Enriqu
 e Rosas González.Creador del paradigma de la cobranza moderna. Experto lat
 inoamericano en cobranzas y negociación. Licenciado en el área de las rela
 ciones internacionales con postrado en Derecho y Política Internacional de
  la Universidad Central de Venezuela. Cuenta con más de 30 años de experie
 ncia en el dinámico mundo de las cobranzas. Ha desempeñado importantes car
 gos en departamentos de crédito y cobranzas en destacadas empresas multina
 cionales.\nTodas nuestras capacitaciones pueden ser impartidas en su organ
 ización\nInscripciones e información al e-mail info@cedeso.co.crTel: (506)
  2225-1007 · Tel/Fax: (506) 2253-2774Visite nuestra página www.cedeso.co.c
 rfacebook.com/cedesocostarica
DTSTART:20201104T140000Z
DTEND:20201105T160000Z
GEO:00;0
LOCATION:Virtual por Zoom.
ORGANIZER;CN=:info@cedeso.co.cr
SEQUENCE:1
SUMMARY:Comunicación asertiva para equipos de cobranzas
TRANSP:OPAQUE
URL:https://cedeso.co.cr/eventos-anteriores/329-comunicaci%C3%B3n-asertiva-
 para-equipos-de-cobranzas
END:VEVENT
END:VCALENDAR
