BEGIN:VCALENDAR
VERSION:2.0
PRODID:-//Cedeso//NONSGML kigkonsult.se iCalcreator 2.30.10//
CALSCALE:GREGORIAN
METHOD:PUBLISH
UID:16588d22-7310-485c-8524-360761650515
X-WR-CALNAME:iCagenda
X-WR-CALDESC:Event Management Extension for Joomla!
X-WR-RELCALID:3E26604A-50F4-4449-8B3E-E4F4932D05B5
X-WR-TIMEZONE:America/Costa_Rica
BEGIN:VTIMEZONE
TZID:America/Costa_Rica
BEGIN:STANDARD
TZNAME:CST
DTSTART:20190225T060000
TZOFFSETFROM:+0000
TZOFFSETTO:-0600
END:STANDARD
END:VTIMEZONE
BEGIN:VEVENT
UID:752a99cc-62df-4064-aa92-2d30eedc7678
DTSTAMP:20260419T191556Z
CATEGORIES:Mejores Prácticas Organizacionales
CLASS:PUBLIC
DESCRIPTION;ALTREP="CID:<FFFF__=0ABBE548DFE235B58f9e8a93d@coffeebean.com>":
 Taller:\nHerramientas ejecutivas para asistentes\, oficinistas y auxiliare
 s\nObjetivos:- Aprender a mejorar la comunicación- Crear relaciones exitos
 as con sus jefes y compañeros- Aumentar sus competencias y optimizar su ti
 empo\nContenidos:1.Reconociendo mi estilo preferido de trabajo - Cómo iden
 tificar el estilo de mi grupo y mis jefes - La manera de trabajar mejor co
 n cualquier estilo de trabajo2.Las claves para el manejo productivo del ti
 empo - El cuadrante Urgente-Importante - Fabricando tiempo3.Mejorando mi c
 omunicación - Aprendiendo a manejar el acuse de recibo - El ciclo de comun
 icación en la práctica - Claves para tener éxito en la comunicación4.Llevá
 ndose bien con todo tipo de personas - El ABC de la comprensión entre pers
 onas - Factores que nos otorgan liderazgo positivo - Cómo decir que no sin
  ofender\nMetodología:Análisis de casos\, uso de listas de verificación.Ej
 emplos propios de la realidad de nuestras organizaciones.\nFecha: 26 y 27 
 de noviembre 2020.Horario: 8:30 a.m. a 11:00 a.m.Duración: 5 horas.Platafo
 rma: Zoom.Inversión: ¢40.000 + 2% de IVA por participante.Incluye: Materia
 les y certificado de participación en PDF.\nFacilitador: Lic. Carlos Soler
 a Licenciado en administración de negocios\, técnico en seguros. Más de 30
  años de experiencia en todos los subprocesos de Gestión de RRHH. Amplia e
 xperiencia en organizaciones de manufactura\, servicios\, cooperativas y O
 NG’s. Actual fundador y director de CEDESO.S.A.\nTodas nuestras capacitaci
 ones pueden ser impartidas en su organización\nInscripciones e Información
  al e-mail info@cedeso.co.crTel: (506) 2225-1007 / Fax: (506) 2253-2774 Vi
 site nuestra página www.cedeso.co.crfacebook.com/cedesocostarica
DTSTART:20201126T143000Z
DTEND:20201127T170000Z
GEO:00;0
LOCATION:Virtual por Zoom.
ORGANIZER;CN=:info@cedeso.co.cr
SEQUENCE:1
SUMMARY:Herramientas ejecutivas para asistentes\, oficinistas y auxiliares
TRANSP:OPAQUE
URL:https://cedeso.co.cr/eventos-anteriores/332-herramientas-ejecutivas-par
 a-asistentes,-oficinistas-y-auxiliares
END:VEVENT
END:VCALENDAR
