BEGIN:VCALENDAR
VERSION:2.0
PRODID:-//Cedeso//NONSGML kigkonsult.se iCalcreator 2.30.10//
CALSCALE:GREGORIAN
METHOD:PUBLISH
UID:f46fba6a-c56a-4baa-8c53-1b91715d56cf
X-WR-CALNAME:iCagenda
X-WR-CALDESC:Event Management Extension for Joomla!
X-WR-RELCALID:3E26604A-50F4-4449-8B3E-E4F4932D05B5
X-WR-TIMEZONE:America/Costa_Rica
BEGIN:VTIMEZONE
TZID:America/Costa_Rica
BEGIN:STANDARD
TZNAME:CST
DTSTART:20190210T060000
TZOFFSETFROM:+0000
TZOFFSETTO:-0600
END:STANDARD
END:VTIMEZONE
BEGIN:VEVENT
UID:31251847-f42e-440f-81cd-43409f885509
DTSTAMP:20260419T203022Z
CATEGORIES:Mejores Prácticas Organizacionales
CLASS:PUBLIC
DESCRIPTION;ALTREP="CID:<FFFF__=0ABBE548DFE235B58f9e8a93d@coffeebean.com>":
 e-Formadores: cómo capacitar en entornos virtuales\n \nHerramientas para d
 esarrollar capacitación en modalidad virtual\n \nObjetivo orientativo: las
  y los participantes podrán explicar\, aplicar y apreciar un conjunto inte
 grado de herramientas para desarrollar capacitación empresarial remota baj
 o la modalidad de virtual classroom.\nContenidos y actividades:\n\nMediaci
 ón virtual\, didáctica y claves de neurociencia en la virtualidad.\nCapaci
 dades cruciales del entrenador\, fatiga de la virtualidad\, calidad del e-
 learning y condiciones de entrada de los participantes.\n¡Combata la Inmun
 idad al Cambio! ¿Qué debe empezar a hacer distinto como e-formador(a)?\nDN
 C basado en evidencias\, ciclo de Kolb y las prácticas para la transferenc
 ia de los aprendizajes.\nCurando contenidos: un diseño instruccional con i
 mpacto en el desempeño.\n15 mejores prácticas en didáctica virtual en adul
 tos: ¡destreza comunicativa en acción\, manejo de conductas de entrada y m
 ás!\nFlipped classroom y transferencia como claves del formador (trainer e
 mpresarial).\nTema especial: ¡un tema diferente en cada entrega de este se
 minario! (SBE-Scenario based approach\, modelo ADDIE\, etc.)\nStorytelling
  y microtraining: ¡liderazgo didáctico en entornos virtuales enriquecidos!
 \nBreakout rooms\, Mentimeter© y Padle©: triadas tecnológicas para apoyar 
 el aprendizaje.\n\n \nFecha: 11\, 13\, 18 y 20 de noviembre del 2020\nHora
 rio: 10:30 a.m. a 12:00 m.d.\nDuración: 6 horas.\nPlataforma: Zoom.\nInver
 sión: ¢60.000 + 2% de IVA por participante.\nIncluye: Material didáctico y
  certificado de participación en PDF.\n \nFacilitador: Enrique Margery Ber
 toglia.\nDoctor en Educación. TEDx speaker. Director del Open Institute. P
 rofesor de la Maestría en Psicología del Trabajo y las Organizaciones (UCR
 ). Director de la revista empresarial Mundo VICA. Profesor invitado de las
  Universidades Autónoma de Querétaro (UAQ\, Méx) y UAGM (Puerto Rico). Rep
 resentante residente de Entrenadores del Talento (España). Miembro del Obs
 ervatorio del Juego y del Diplomado Internacional en Pedagogía del Juego. 
 Autor de los libros “El Viaje”\, “Herramientas de Coaching”\, “¡Aléjate de
  la Escalera!” / “Step away from the ladder!” y “Complejidad\, transdiscip
 linariedad y competencias”.\n \nTodas nuestras capacitaciones pueden ser i
 mpartidas en su organización.\n \nInscripciones e información al e-mail in
 fo@cedeso.co.cr\nTel: (506) 2225-1007 Fax: (506) 2253-2774\nVisite nuestra
  página www.cedeso.co.cr\nfacebook.com/cedesocostarica
DTSTART:20201111T163000Z
DTEND:20201120T180000Z
GEO:00;0
LOCATION:Virtual por Zoom.
ORGANIZER;CN=:info@cedeso.co.cr
SEQUENCE:1
SUMMARY:e-Formadores: cómo capacitar en entornos virtuales
TRANSP:OPAQUE
URL:https://cedeso.co.cr/eventos-anteriores/334-e-formadores-c%C3%B3mo-capa
 citar-en-entornos-virtuales
END:VEVENT
END:VCALENDAR
