BEGIN:VCALENDAR
VERSION:2.0
PRODID:-//Cedeso//NONSGML kigkonsult.se iCalcreator 2.30.10//
CALSCALE:GREGORIAN
METHOD:PUBLISH
UID:410a8dbd-88ae-44ee-a5d3-c11c9f0b9f91
X-WR-CALNAME:iCagenda
X-WR-CALDESC:Event Management Extension for Joomla!
X-WR-RELCALID:3E26604A-50F4-4449-8B3E-E4F4932D05B5
X-WR-TIMEZONE:America/Costa_Rica
BEGIN:VTIMEZONE
TZID:America/Costa_Rica
BEGIN:STANDARD
TZNAME:CST
DTSTART:20190304T060000
TZOFFSETFROM:+0000
TZOFFSETTO:-0600
END:STANDARD
END:VTIMEZONE
BEGIN:VEVENT
UID:d1595af2-3bca-48e2-8ad5-d1b38daea6e5
DTSTAMP:20260419T191215Z
CATEGORIES:Mejores Prácticas Organizacionales
CLASS:PUBLIC
DESCRIPTION;ALTREP="CID:<FFFF__=0ABBE548DFE235B58f9e8a93d@coffeebean.com>":
 Webinar:\nLiderando equipos remotos\n \nObjetivo: Favorecer la apropiación
  de estrategia prácticas para liderar equipos desde la virtualidad y el tr
 abajo remoto\, favoreciendo la cohesión\, sentido de pertenencia y motivac
 ión del grupo.\nContenidos: • ¿Qué cambia en los equipos con el paso de la
  presencialidad a la virtualidad?• ¿A qué señales debe prestar especial at
 ención el líder?• Principales desafíos en el liderazgo de equipos remotos.
 • Estrategias para favorecer la cohesión\, el sentido de pertenencia y amo
 r por la marca desde la virtualidad.• Reglas básicas de comunicación asert
 iva para liderar equipos remotos.• Motivación de equipos remotos: ¡Es posi
 ble y necesario hacerlo! Estrategias para lograrlo.• Kit de acciones para 
 motivar a su equipo remoto.• Venciendo la tentación del micro management y
  el control excesivo.\nFecha: 3 de diciembre del 2020.Horario: 8:00 a.m. a
  12:00 m.d.Duración: 4 horas.Plataforma Zoom.Inversión: ¢40.000 + 2% de IV
 A por participante.Incluye: Material y certificado de participación en PDF
 .\nFacilitadora: Licda. Gina SequeiraPsicóloga\, certificada en Business C
 oaching\, con posgrado de Gamificación y Técnicas de Ludificación. Estudio
 s de posgrado en Evaluación y Gerencia de Proyectos. Más de 15 años de exp
 eriencia en el diseño de procesos de capacitación vinculados al desarrollo
  de habilidades blandas y el fortalecimiento de equipos de alto desempeño.
  Conferencista nacional e internacional.\nTodas nuestras capacitaciones pu
 eden ser impartidas en su organización\nInscripciones e Información al e-m
 ail info@cedeso.co.crTel: (506) 2225-1007 / Fax: (506) 2253-2774Visite nue
 stra página www.cedeso.co.crfacebook.com/cedesocostarica
DTSTART:20201203T140000Z
DTEND:20201203T180000Z
GEO:00;0
LOCATION:Virtual por Zoom
ORGANIZER;CN=:info@cedeso.co.cr
SEQUENCE:1
SUMMARY:Liderando equipos remotos
TRANSP:OPAQUE
URL:https://cedeso.co.cr/eventos-anteriores/336-liderando-equipos-remotos
END:VEVENT
END:VCALENDAR
