BEGIN:VCALENDAR
VERSION:2.0
PRODID:-//Cedeso//NONSGML kigkonsult.se iCalcreator 2.30.10//
CALSCALE:GREGORIAN
METHOD:PUBLISH
UID:93f0404d-bc7a-46d3-be45-51a5d4d9cb9a
X-WR-CALNAME:iCagenda
X-WR-CALDESC:Event Management Extension for Joomla!
X-WR-RELCALID:3E26604A-50F4-4449-8B3E-E4F4932D05B5
X-WR-TIMEZONE:America/Costa_Rica
BEGIN:VTIMEZONE
TZID:America/Costa_Rica
BEGIN:STANDARD
TZNAME:CST
DTSTART:20190209T060000
TZOFFSETFROM:+0000
TZOFFSETTO:-0600
END:STANDARD
END:VTIMEZONE
BEGIN:VEVENT
UID:1b2cef8f-ebcc-44d7-af50-da052814d968
DTSTAMP:20260419T191008Z
CATEGORIES:Operaciones
CLASS:PUBLIC
DESCRIPTION;ALTREP="CID:<FFFF__=0ABBE548DFE235B58f9e8a93d@coffeebean.com>":
 Webinar\nCatálogo de bienes y servicios (CAByS)\nDestinatarios:Gerentes y 
 Supervisores del área financiera y fiscal\, Asistentes del área financiera
 \, Equipo Comercial (Compras – Ventas)\, Encargados de facturación\, Colab
 oradores de almacén y otros interesados.\nObjetivos:• Explicar la función 
 y uso del Catálogo de Bienes y Servicios (CAByS).• Dar a conocer el Catálo
 go de Bienes y Servicios (CAByS) y el uso adecuado de los códigos.• Mostra
 r de forma práctica la clasificación de productos dentro de las categorías
  y subcategorías del catálogo.• Explicar el marco legal y teórico de esta 
 nueva regulación del Ministerio de Hacienda.\nInformación general:Duración
 : El programa completo tiene una duración total de una hora y media reloj\
 , desarrolladas de acuerdo a la siguiente modalidad: Una sesión virtual po
 r Zoom.Fecha del encuentro virtual: 10 de noviembre 2020.Horario: De 8:30 
 a.m. a 10:00 a.m.Precio por persona: $25 + 2% de IVA.Incluye: material did
 áctico y certificado de participación.Facilitadora: Maria Fernanda Villasm
 il. Experta en Materia Tributaria. Valencia\, Venezuela.\nTodas nuestras c
 apacitaciones pueden ser impartidas en su organización\nInscripciones e in
 formación al e-mail info@cedeso.co.crTel: (506) 2225-1007 · Tel/Fax: (506)
  2253-2774Visite nuestra página www.cedeso.co.crfacebook.com/cedesocostari
 ca
DTSTART:20201110T143000Z
DTEND:20201110T160000Z
GEO:00;0
LOCATION:Virtual por Zoom.
ORGANIZER;CN=:info@cedeso.co.cr
SEQUENCE:1
SUMMARY:Catálogo de bienes y servicios (CAByS)
TRANSP:OPAQUE
URL:https://cedeso.co.cr/eventos-anteriores/340-cat%C3%A1logo-de-bienes-y-s
 ervicios-cabys
END:VEVENT
END:VCALENDAR
