BEGIN:VCALENDAR
VERSION:2.0
PRODID:-//Cedeso//NONSGML kigkonsult.se iCalcreator 2.30.10//
CALSCALE:GREGORIAN
METHOD:PUBLISH
UID:d8e1e899-0daa-4ab6-ab61-0052934722cf
X-WR-CALNAME:iCagenda
X-WR-CALDESC:Event Management Extension for Joomla!
X-WR-RELCALID:3E26604A-50F4-4449-8B3E-E4F4932D05B5
X-WR-TIMEZONE:America/Costa_Rica
BEGIN:VTIMEZONE
TZID:America/Costa_Rica
BEGIN:STANDARD
TZNAME:CST
DTSTART:20190202T060000
TZOFFSETFROM:+0000
TZOFFSETTO:-0600
END:STANDARD
END:VTIMEZONE
BEGIN:VEVENT
UID:361c612e-f037-426a-8c25-46f6edbdeba7
DTSTAMP:20260419T190325Z
CATEGORIES:Mejores Prácticas Organizacionales
CLASS:PUBLIC
DESCRIPTION;ALTREP="CID:<FFFF__=0ABBE548DFE235B58f9e8a93d@coffeebean.com>":
 Programa de Desarrollo de la Agilidad (PDA)Un programa para desarrollar ca
 pacidades urgentes para el Mundo VICA3 talleres de cuatro horas cada uno\n
 Objetivo general del Programa: las y los participantes serán capaces de ex
 plicar1\, aplicar2 y apreciar3 herramientas para establecer prioridades\, 
 detectar comportamientos obstaculizadores y fomentar comportamientos orien
 tados a la agilidad y la tenacidad e identificar los obstáculos a la ejecu
 ción y las mejores prácticas para superarlos.\n1. Manejo de las Prioridade
 s (4 horas)• Priorizar: una exploración de las 10 capacidades que la compo
 nen.• Diseño de plan de acción personal con las 10 capacidades.• Plan 1-3-
 9: distinciones y manejo de lo urgente y lo importante (con tema nuevo: “1
 -3-9” en equipos remotos)• Reuniones ágiles: reglas de juego\, comportamie
 ntos positivos y obstáculos que debemos manejar.\nFecha: 3 y 5 de noviembr
 e del 2020.Horario: 8:30 a.m. a 10:30 a.m.Duración: 4 horas.Plataforma: Zo
 om.Inversión: ¢40.000 + 2% de IVA por participante.Incluye: Material didác
 tico y certificado de participación en PDF.\n2. Sentido de Urgencia (SU) (
 4 horas)• Acción ágil y libre de errores. Las cuatro dimensiones del Senti
 do de Urgencia. • Autoevaluación del SU en sus cuatro dimensiones (instrum
 ento exclusivo del Open Institute).• Comportamientos pro y contra Sentido 
 de Urgencia en promesas\, agilidad\, tenacidad y manejo de prioridades.• U
 rgencia e Inmunidad al Cambio: del “cambio por miedo” al “cambio apreciati
 vo”.\nFecha: 10 y 12 de noviembre del 2020.Horario: 8:30 a.m. a 10:30 a.m.
 Duración: 4 horas.Plataforma: Zoom.Inversión: ¢40.000 + 2% de IVA por part
 icipante.Incluye: Material didáctico y certificado de participación en PDF
 .\n3. Capacidad de Ejecución (4 horas)• Las nueve capacidades asociadas co
 n la Agilidad en personas\, grupos y organizaciones.• Hablando claro de la
 s fallas en la ejecución: el triángulo evitación-disciplina-placidez.• Guí
 as para la acción en Liderazgo para la Ejecución.• Factores de éxito para 
 la ejecución organizacional: comportamientos alineados y desalineados con 
 las capabilities\, sincronización y alineamiento.\nFecha: 17 y 19 de novie
 mbre del 2020.Horario: 8:30 a.m. a 10:30 a.m.Duración: 4 horas.Plataforma:
  Zoom.Inversión: ¢40.000 + 2% de IVA por participante.Incluye: Material di
 dáctico y certificado de participación en PDF.\nFacilitador: Dr. Enrique M
 argery- Doctor en Educación y TEDx speaker.- Profesor de la Maestría en Ps
 icología del Trabajo en la Universidad de Costa Rica. Profesor invitado de
  la Universidad de Querétaro (UAQ\, México) y la Universidad UAGM (Puerto 
 Rico).- Diseña capacitación para desarrollo de soft skills basado en apren
 dizaje por la experiencia\, GBL y “reto-aprendizaje”.- Coach especialista 
 en ciencia de la colaboración y manejo de top performers.- Diseña herramie
 ntas para medir el Sentido de Urgencia\, el “termómetro de la colaboración
 ” y la rentabilidad de la capacitación\, entre otros.- Autor de los libros
  “Complejidad y Competencias”\, “Herramientas de Coaching”\, “El Viaje” (E
 ditorial Norma\; uno de los primeros libros de psicología positiva publica
 dos) y 'Complejidad\, Transdisciplinariedad y Compentencias'\nTodas nuestr
 as capacitaciones pueden ser impartidas en su organización\nInscripciones 
 e Información al e-mail info@cedeso.co.crTel: (506) 2225-1007 · Fax: (506)
  2253-2774Visite nuestra página www.cedeso.co.crfacebook.com/cedesocostari
 ca\n 
DTSTART:20201103T143000Z
DTEND:20201119T163000Z
GEO:00;0
LOCATION:Virtual por Zoom.
ORGANIZER;CN=:info@cedeso.co.cr
SEQUENCE:1
SUMMARY:Programa de Desarrollo de la Agilidad (PDA)
TRANSP:OPAQUE
URL:https://cedeso.co.cr/eventos-anteriores/341-programa-de-desarrollo-de-l
 a-agilidad-pda
END:VEVENT
END:VCALENDAR
