BEGIN:VCALENDAR
VERSION:2.0
PRODID:-//Cedeso//NONSGML kigkonsult.se iCalcreator 2.30.10//
CALSCALE:GREGORIAN
METHOD:PUBLISH
UID:0230d4d9-af4c-4fa5-aa73-53920bef88ed
X-WR-CALNAME:iCagenda
X-WR-CALDESC:Event Management Extension for Joomla!
X-WR-RELCALID:3E26604A-50F4-4449-8B3E-E4F4932D05B5
X-WR-TIMEZONE:America/Costa_Rica
BEGIN:VTIMEZONE
TZID:America/Costa_Rica
BEGIN:STANDARD
TZNAME:CST
DTSTART:20190209T060000
TZOFFSETFROM:+0000
TZOFFSETTO:-0600
END:STANDARD
END:VTIMEZONE
BEGIN:VEVENT
UID:3dba0700-d91b-47fb-87f1-8388cc4f6514
DTSTAMP:20260419T185448Z
CATEGORIES:Mejores Prácticas Organizacionales
CLASS:PUBLIC
DESCRIPTION;ALTREP="CID:<FFFF__=0ABBE548DFE235B58f9e8a93d@coffeebean.com>":
 Webinar:\nNetiqueta: Reglas de Oro\nComunicación en línea productiva y cor
 recta\nNetiqueta es la etiqueta en internet. La forma que nos comunicamos 
 habla de cómo somos y hace que nuestras reuniones y experiencias en línea 
 sean productivas\, adecuadas y hasta eficientes. ¡Un mal uso de la netique
 ta lo puede llevar a realizar mucho trabajo para solucionar un malentendid
 o!\nAprendizajes de este taller:• Reuniones: Aspectos fundamentales en reu
 niones en línea.• Talleres y conferencias: ¿Cómo realizar conversaciones\,
  discusiones o lluvias de ideas?• Redes sociales: Lo que se debe hacer y l
 o que por ningún motivo se debe - desde la imagen hasta lo qué y cómo se e
 scribe.• Escribir: Usos de escritura correctos en medios digitales.• Infor
 mación: ¿Qué se puede y qué no? La línea entre lo jovial y lo inapropiado.
 • La regla de oro: no a la información falsa y las emociones.\nFecha: 10 n
 oviembre del 2020.Horario: 9:00 a.m. a 11:30 a.m. y de 1:30 p.m. a 4:00 p.
 m.Duración total: 5 horas.Medio: plataforma Zoom.Inversión: ¢50.000 + 2% d
 e IVA por participante.Incluye: Materiales y certificado de participación 
 en PDF.\nFacilitadora: Tanya Leiva. Experta en mejoras de negocio en Améri
 ca Latina. MBA\, PMP\, Data Scientist\, Asesora y especialista en PYMES. L
 íder de proyectos en Latinoamérica con más de 10 años de experiencia en me
 jora o creación de organizaciones y modelos de negocio\, impactando a más 
 de 2\,000 personas.\nTodas nuestras capacitaciones pueden ser impartidas e
 n su organización\nInscripciones e información al e-mail info@cedeso.co.cr
 Tel: (506) 2225-1007 · Tel/Fax: (506) 2253-2774Visite nuestra página www.c
 edeso.co.crfacebook.com/cedesocostarica
DTSTART:20201110T150000Z
DTEND:20201110T220000Z
GEO:00;0
LOCATION:Virtual por Zoom.
ORGANIZER;CN=:info@cedeso.co.cr
SEQUENCE:1
SUMMARY:Netiqueta: Reglas de Oro
TRANSP:OPAQUE
URL:https://cedeso.co.cr/eventos-anteriores/342-netiqueta-reglas-de-oro
END:VEVENT
END:VCALENDAR
