BEGIN:VCALENDAR
VERSION:2.0
PRODID:-//Cedeso//NONSGML kigkonsult.se iCalcreator 2.30.10//
CALSCALE:GREGORIAN
METHOD:PUBLISH
UID:94e5a41e-f971-434a-bfe0-72e233a2eded
X-WR-CALNAME:iCagenda
X-WR-CALDESC:Event Management Extension for Joomla!
X-WR-RELCALID:3E26604A-50F4-4449-8B3E-E4F4932D05B5
X-WR-TIMEZONE:America/Costa_Rica
BEGIN:VTIMEZONE
TZID:America/Costa_Rica
BEGIN:STANDARD
TZNAME:CST
DTSTART:20190216T060000
TZOFFSETFROM:+0000
TZOFFSETTO:-0600
END:STANDARD
END:VTIMEZONE
BEGIN:VEVENT
UID:feb0d384-0264-4560-b076-1e3a64c79a32
DTSTAMP:20260419T203719Z
CATEGORIES:Mejores Prácticas Organizacionales
CLASS:PUBLIC
DESCRIPTION;ALTREP="CID:<FFFF__=0ABBE548DFE235B58f9e8a93d@coffeebean.com>":
 Webinar\nCumplimiento Normativo ISO 19600\nDestinatarios:Comités de Admini
 stración de Riesgos\, Compliance\, Actuarial y Auditoría Interna\, Consejo
 s de Administración\, Consultores\, Auditores Internos y Externos\, Oficia
 les de Riesgos y de Cumplimiento\, Corredores y Mediadores\, Gerentes de S
 eguros\, Profesionales de Riesgos y Seguros\, Financieros y Contadores Púb
 licos\, otros interesados.\nObjetivos:Presentar una visión integral de la 
 Normativa de Gobierno Corporativo ISO 19600) y sus modificaciones.En el de
 sarrollo de este seminario el alumno profundizará en: Introducción y conce
 pto de compliance\, Conceptos de Ética Empresarial\, Gobierno Corporativo 
 y RSC\, Liderazgo y cultura\, Políticas y Procedimientos de Compliance\, R
 oles y Responsabilidades\, Normativa de Compliance: GDPR\, Abuso de Mercad
 o\, protección al consumidor\, diligencia debida\, blanqueo de capitales\,
  prevención del soborno\, etc.\nInformación general:Duración: El programa 
 completo tiene una duración total de 8 horas reloj\, desarrolladas de acue
 rdo a la siguiente modalidad:Fecha de encuentros virtuales por Zoom: 17\, 
 19\, 24 y 26 de noviembre 2020.Horario: 8:30 a.m. a 10:30 a.m.Precio por p
 ersona: $160 + 2% de IVA.Incluye material didáctico y certificado de parti
 cipación en PDF.Facilitadora: Maria Barranco García. Madrid\, España\nToda
 s nuestras capacitaciones pueden ser impartidas en su organización\nInscri
 pciones e información al e-mail info@cedeso.co.crTel: (506) 2225-1007 · Te
 l/Fax: (506) 2253-2774Visite nuestra página www.cedeso.co.crfacebook.com/c
 edesocostarica
DTSTART:20201117T143000Z
DTEND:20201126T163000Z
GEO:00;0
LOCATION:Virtual por Zoom.
ORGANIZER;CN=:info@cedeso.co.cr
SEQUENCE:1
SUMMARY:Cumplimiento Normativo ISO 19600
TRANSP:OPAQUE
URL:https://cedeso.co.cr/eventos-anteriores/343-cumplimiento-normativo-iso-
 19600
END:VEVENT
END:VCALENDAR
