BEGIN:VCALENDAR
VERSION:2.0
PRODID:-//Cedeso//NONSGML kigkonsult.se iCalcreator 2.30.10//
CALSCALE:GREGORIAN
METHOD:PUBLISH
UID:f298bce5-e709-454c-91b1-3f95c46e6bcb
X-WR-CALNAME:iCagenda
X-WR-CALDESC:Event Management Extension for Joomla!
X-WR-RELCALID:3E26604A-50F4-4449-8B3E-E4F4932D05B5
X-WR-TIMEZONE:America/Costa_Rica
BEGIN:VTIMEZONE
TZID:America/Costa_Rica
BEGIN:STANDARD
TZNAME:CST
DTSTART:20190226T060000
TZOFFSETFROM:+0000
TZOFFSETTO:-0600
END:STANDARD
END:VTIMEZONE
BEGIN:VEVENT
UID:b0c6b0b4-6801-4bc4-abb9-f00fa55303b9
DTSTAMP:20260419T191049Z
CATEGORIES:Mejores Prácticas Organizacionales
CLASS:PUBLIC
DESCRIPTION;ALTREP="CID:<FFFF__=0ABBE548DFE235B58f9e8a93d@coffeebean.com>":
 Taller:\nInnovación en época de pandemia\nDescripción de la actividad:La c
 risis actual obliga a las empresas y a los departamentos a reinventarse pa
 ra sobrevivir esta pandemia. Para pasar de la intensión a los hechos en ma
 teria de innovación se requiere conocer metodologías prácticas\, realistas
  y logrables.\nObjetivo general:Proveer a los participantes de cinco metod
 ologías prácticas y modernas para que innoven en sus departamentos\, empre
 sas e instituciones.\nObjetivos específicos:1.¿Entender que es la innovaci
 ón y su importancia hoy en día de cara a la pandemia?2.Aprender a hacer un
  análisis de Modelo de Negocio\, vital para tener claridad y realidad a la
  hora de innovar.3.Instruir sobre el cómo hacer una auditoría de Innovació
 n. ¿Qué tan preparada está su empresa o institución para llevar la innovac
 ión a un nivel de importancia?4.Aprender cinco metodologías efectivas para
  innovar en departamentos\, empresas e instituciones.\nDirigido a:A todos 
 los involucrados y responsables de alinear la organización a una nueva vis
 ión para contrarrestar la crisis generada por la pandemia.\nFecha: 27 de n
 oviembre y 2 de diciembre del 2020.Horario: 8:00 a.m. a 10:30 a.m.Duración
  total: 5 horas.Modalidad: Virtual por plataforma Zoom.Inversión: ¢50.000 
 + 2% de IVA por participante.Incluye: Material y certificado de participac
 ión en PDF.\nFacilitador: MBA Mario Miño.Ingeniero mecánico con un MBA con
  énfasis en Banca y Finanzas\, cuenta con experiencia profesional en difer
 entes industrias como la eléctrica\, química\, de la construcción\, consul
 toría y comercial.Ha laborado para compañías multinacionales y locales\, t
 iene amplio conocimiento en áreas de Manufactura\, Logística\, Supply Chai
 n\, Sistemas de información\, Mercadeo\, Ventas y Finanzas.Con experiencia
  en administración de procesos de Startup\, se ha desenvuelto en el mercad
 o centroamericano y en los últimos años ha ocupado la posición de Gerente 
 General.\nTodas nuestras capacitaciones pueden ser impartidas en su organi
 zación.\nInscripciones e información al e-mail info@cedeso.co.crTel: (506)
  2225-1007 Fax: (506) 2253-2774Visite nuestra página www.cedeso.co.crfaceb
 ook.com/cedesocostarica
DTSTART:20201127T140000Z
DTEND:20201202T163000Z
GEO:00;0
LOCATION:Virtual por Zoom.
ORGANIZER;CN=:info@cedeso.co.cr
SEQUENCE:1
SUMMARY:Innovación en época de pandemia
TRANSP:OPAQUE
URL:https://cedeso.co.cr/eventos-anteriores/349-innovaci%C3%B3n-en-%C3%A9po
 ca-de-pandemia
END:VEVENT
END:VCALENDAR
