BEGIN:VCALENDAR
VERSION:2.0
PRODID:-//Cedeso//NONSGML kigkonsult.se iCalcreator 2.30.10//
CALSCALE:GREGORIAN
METHOD:PUBLISH
UID:9ea6f5cb-8329-4377-80e3-15f33893652e
X-WR-CALNAME:iCagenda
X-WR-CALDESC:Event Management Extension for Joomla!
X-WR-RELCALID:3E26604A-50F4-4449-8B3E-E4F4932D05B5
X-WR-TIMEZONE:America/Costa_Rica
BEGIN:VTIMEZONE
TZID:America/Costa_Rica
BEGIN:STANDARD
TZNAME:CST
DTSTART:20190430T060000
TZOFFSETFROM:+0000
TZOFFSETTO:-0600
END:STANDARD
END:VTIMEZONE
BEGIN:VEVENT
UID:0e2a610b-de0a-4fa7-9ed4-201fb6f361a3
DTSTAMP:20260419T205121Z
CATEGORIES:Operaciones
CLASS:PUBLIC
DESCRIPTION;ALTREP="CID:<FFFF__=0ABBE548DFE235B58f9e8a93d@coffeebean.com>":
 Webinar:\nLa responsabilidad social y sostenible de las organizaciones en 
 el marco del comercio internacional\nObjetivo: Concientizar al colaborador
  para que utilice modelos ajustados a procesos de producción sostenibles y
  sustentables tanto a nivel social como ambiental\, incrementando también 
 el prestigio de su organización.\nTemario:• ¿Qué es una certificación volu
 ntaria?• ¿Por qué son importantes las certificaciones voluntarias?• Aspect
 os trascendentales para obtener una certificación voluntaria.• ¿Por qué ex
 isten los programas de certificación voluntaria?• ¿Por qué obtener una cer
 tificación voluntaria?   - Certificaciones importantes para el comercio in
 ternacional:   - Certificación orgánica.   - Certificación comercio justo.
    - Certificación rainforest.   - Certificación ISO 14001.   - Carbono Ne
 utral.   - Certificación EUREPGAP.• Logística inversa y su repercusión en 
 el medio ambiente.\nMetodología:Uso de presentación de Power Point\, media
 nte un curso interactivo\, basado en experiencias cotidianas que permiten 
 dar un panorama más claro. Se realizarán casos prácticos con el objetivo d
 e que el participante desarrolle sus destrezas con relación al material vi
 sto. Todo el material se desarrolla mediante ejemplos prácticos que permit
 e maximizar el entendimiento y así estimular a los participantes a interpo
 ner casos reales propios de su experiencia.\nFacilitadora: Lic. Yorleny Ji
 ménez RojasGraduada con honores de la Universidad de Costa Rica en la carr
 era de Administración Aduanera y Comercio Exterior. Certificada como espec
 ialista en Supply Chain de la Universidad de Nebrija en España\, especiali
 sta en Gestión de Compras\, Aprovisionamiento y logística de la Escuela de
  Negocios INEAF en España. Actualmente consultora independiente con 20 año
 s de experiencia en manejo y desarrollo de procesos de internacionalizació
 n y logística especialmente para el sector agrícola.Especialista en desarr
 ollo de acompañamientos empresariales en temas de importación\, exportació
 n\, logística internacional\, entre otros.Amplia experiencia laboral a tra
 vés de los años en empresas como CADEXCO\, DESACARGA\, DHL\, Banacol de Co
 sta Rica.Profesora de la Universidad de Costa Rica\, Universidad FUNDEPOS 
 y capacitadora activa en diferentes Cámaras que agremia exportadores\, imp
 ortadores\, empresas PYMES\, entidades estatales\, colegios profesionales\
 , entre otros.\nFecha: 29 de enero 2020.Horario: 8:00 a.m. a 12:00 m.d.Dur
 ación: 4 horas.Medio: Plataforma Zoom.Inversión: ¢40.000 + 2% de IVA por p
 articipante.Incluye: Material didáctico y certificado de participación en 
 PDF.\nTodas nuestras capacitaciones pueden ser impartidas en su organizaci
 ón\nInscripciones e información al e-mail info@cedeso.co.crTel: (506) 2225
 -1007 · Tel/Fax: (506) 2253-2774Visite nuestra página www.cedeso.co.crface
 book.com/cedesocostarica\n 
DTSTART:20210129T140000Z
DTEND:20210129T180000Z
GEO:00;0
LOCATION:Virtual por Zoom.
ORGANIZER;CN=:info@cedeso.co.cr
SEQUENCE:1
SUMMARY:La responsabilidad social y sostenible de las organizaciones en el 
 marco del comercio internacional
TRANSP:OPAQUE
URL:https://cedeso.co.cr/eventos-anteriores/351-la-responsabilidad-social-y
 -sostenible-de-las-organizaciones-en-el-marco-del-comercio-internacional
END:VEVENT
END:VCALENDAR
