BEGIN:VCALENDAR
VERSION:2.0
PRODID:-//Cedeso//NONSGML kigkonsult.se iCalcreator 2.30.10//
CALSCALE:GREGORIAN
METHOD:PUBLISH
UID:84617a72-275a-4a52-b677-b2fee5865e7a
X-WR-CALNAME:iCagenda
X-WR-CALDESC:Event Management Extension for Joomla!
X-WR-RELCALID:3E26604A-50F4-4449-8B3E-E4F4932D05B5
X-WR-TIMEZONE:America/Costa_Rica
BEGIN:VTIMEZONE
TZID:America/Costa_Rica
BEGIN:STANDARD
TZNAME:CST
DTSTART:20190311T060000
TZOFFSETFROM:+0000
TZOFFSETTO:-0600
END:STANDARD
END:VTIMEZONE
BEGIN:VEVENT
UID:814d4a71-0146-4f22-8db9-bb46827b9b57
DTSTAMP:20260419T191638Z
CATEGORIES:Mejores Prácticas Organizacionales
CLASS:PUBLIC
DESCRIPTION;ALTREP="CID:<FFFF__=0ABBE548DFE235B58f9e8a93d@coffeebean.com>":
 Webinar gratuito\nTécnicas y herramientas para el abordaje competente de c
 onflictos en las organizaciones\n \nFecha: jueves 10 de diciembre 2020.\nD
 uración: 2.5 horas.\nHorario: 9:00 a.m. a 11:30 a.m.\nMedio: Plataforma Zo
 om.\nFacilitadora: PhD Rosa Abdelnour\n \nInformación: info@cedeso.co.cr\n
 Teléfono: +506 2225-1007
DTSTART:20201210T150000Z
DTEND:20201210T173000Z
GEO:00;0
LOCATION:Virtual por Zoom.
ORGANIZER;CN=:info@cedeso.co.cr
SEQUENCE:1
SUMMARY:Técnicas y herramientas para el abordaje competente de conflictos e
 n las organizaciones
TRANSP:OPAQUE
URL:https://cedeso.co.cr/eventos-anteriores/352-t%C3%A9cnicas-y-herramienta
 s-para-el-abordaje-competente-de-conflictos-en-las-organizaciones
END:VEVENT
END:VCALENDAR
