BEGIN:VCALENDAR
VERSION:2.0
PRODID:-//Cedeso//NONSGML kigkonsult.se iCalcreator 2.30.10//
CALSCALE:GREGORIAN
METHOD:PUBLISH
UID:1a8d0f57-aebc-4296-bc40-2dbb5591f809
X-WR-CALNAME:iCagenda
X-WR-CALDESC:Event Management Extension for Joomla!
X-WR-RELCALID:3E26604A-50F4-4449-8B3E-E4F4932D05B5
X-WR-TIMEZONE:America/Costa_Rica
BEGIN:VTIMEZONE
TZID:America/Costa_Rica
BEGIN:STANDARD
TZNAME:CST
DTSTART:20190413T060000
TZOFFSETFROM:+0000
TZOFFSETTO:-0600
END:STANDARD
END:VTIMEZONE
BEGIN:VEVENT
UID:da73fb5a-b1db-47f3-8fc0-b21ac0a0209c
DTSTAMP:20260419T191007Z
CATEGORIES:Mejores Prácticas Organizacionales
CLASS:PUBLIC
DESCRIPTION;ALTREP="CID:<FFFF__=0ABBE548DFE235B58f9e8a93d@coffeebean.com>":
 e-Formadores: cómo capacitar en entornos virtuales\n \nHerramientas para d
 esarrollar capacitación en modalidad virtual\n \n \nObjetivo orientativo: 
 las y los participantes podrán explicar\, aplicar y apreciar un conjunto i
 ntegrado de herramientas para desarrollar capacitación empresarial bajo la
  modalidad de virtual.\n \nContenidos y actividades:\n\nConductas de apert
 ura\, movilización grupal virtual (Mentimeter\, Jamboard y Padlet) y engag
 ement de participantes.\nDidáctica\, neurociencia y mediación virtual para
  formadores en empresa.\nDNC basado en evidencias\, ciclo de Kolb y capaci
 tación enfocada en el desempeño de personas y equipos.\nDiseño instruccion
 al en entornos virtuales: modelos ADDIE\, ARCS (motivacional) y metodologí
 as ágiles en capacitación.\nCambio Autodirigido: autodesarrollo e insight 
 de brechas de desempeño.\nFlipped classroom y microtraining: usted y el fu
 turo de la capacitación.\nModelos 10.20.70 y 20.25.55: feedback\, mentoraj
 e\, coaching por “Reto Aprendizaje” y los 8 desafíos del aprendizaje situa
 do.\nStorytelling (narrativas) en capacitación empresarial. Los enfoques d
 idácticos de avanzada para trainers expertos.\n\n \nFecha: 12\, 14\, 19 y 
 21 de enero 2021\nHorario: 8:30 a.m. a 10:30 m.d.\nDuración: 8 horas.\nPla
 taforma: Zoom.\nInversión: ¢80.000 + 2% de IVA por participante.\nIncluye:
  Material didáctico y certificado de participación en PDF.\nFacilitador: E
 nrique Margery Bertoglia.\nDoctor en Educación. TEDx speaker. Director del
  Open Institute. Profesor de la Maestría en Psicología del Trabajo y las O
 rganizaciones (UCR). Director de la revista empresarial Mundo VICA. Profes
 or invitado de las Universidades Autónoma de Querétaro (UAQ\, Méx) y UAGM 
 (Puerto Rico). Representante residente de Entrenadores del Talento (España
 ). Miembro del Observatorio del Juego y del Diplomado Internacional en Ped
 agogía del Juego. Autor de los libros “El Viaje”\, “Herramientas de Coachi
 ng”\, “¡Aléjate de la Escalera!” / “Step away from the ladder!” y “Complej
 idad\, transdisciplinariedad y competencias”.\n \nTodas nuestras capacitac
 iones pueden ser impartidas en su organización.\n \nInscripciones e inform
 ación al e-mail info@cedeso.co.cr\nTel: (506) 2225-1007 Fax: (506) 2253-27
 74\nVisite nuestra página www.cedeso.co.cr\nfacebook.com/cedesocostarica
DTSTART:20210112T143000Z
DTEND:20210121T163000Z
GEO:00;0
LOCATION:virtual por Zoom.
ORGANIZER;CN=:info@cedeso.co.cr
SEQUENCE:1
SUMMARY:e-Formadores: cómo capacitar en entornos virtuales
TRANSP:OPAQUE
URL:https://cedeso.co.cr/eventos-anteriores/355-e-formadores-c%C3%B3mo-capa
 citar-en-entornos-virtuales
END:VEVENT
END:VCALENDAR
