BEGIN:VCALENDAR
VERSION:2.0
PRODID:-//Cedeso//NONSGML kigkonsult.se iCalcreator 2.30.10//
CALSCALE:GREGORIAN
METHOD:PUBLISH
UID:114f3b9e-8f95-4515-b8cb-53500dd90d71
X-WR-CALNAME:iCagenda
X-WR-CALDESC:Event Management Extension for Joomla!
X-WR-RELCALID:3E26604A-50F4-4449-8B3E-E4F4932D05B5
X-WR-TIMEZONE:America/Costa_Rica
BEGIN:VTIMEZONE
TZID:America/Costa_Rica
BEGIN:STANDARD
TZNAME:CST
DTSTART:20190504T060000
TZOFFSETFROM:+0000
TZOFFSETTO:-0600
END:STANDARD
END:VTIMEZONE
BEGIN:VEVENT
UID:58a01d9e-7ad8-4853-8c01-f542c48206a0
DTSTAMP:20260419T202527Z
CATEGORIES:Mejores Prácticas Organizacionales
CLASS:PUBLIC
DESCRIPTION;ALTREP="CID:<FFFF__=0ABBE548DFE235B58f9e8a93d@coffeebean.com>":
 Programa de desarrollo del potencial (PDP)\n \nRecursos urgentes en equipo
 s y personas en la nueva normalidad\n3 talleres de cuatro horas cada uno\n
  \nCurse el programa completo o solo aquellas sesiones de su interés\n \n
 \nIntelemoción: inteligencia emocional para el mundo VUCA\n\n\nCuatro tipo
 s de personas: ¿Qué nos impulsa y qué nos frena? Las cuatro dimensiones de
  la Intelemoción. \nCampo de práctica para cada dimensión: Botones calient
 es\, El Helicóptero\, Habla interior y Caja de Betari.\nIntelemoción en eq
 uipos remotos con Padlet y Mentimeter.\nIntelemoción y capacidades blandas
 : recursos para mejorar la inmunidad al cambio\, motivación\, decisiones\,
  prioridades y comunicación asertiva.\n\n \nFecha: 2 y 9 de febrero 2021.
 \nHorario: 8:30 a.m. a 10:30 a.m.\nDuración: 4 horas.\nPlataforma: Zoom.\n
 Inversión: ¢40.000 + 2% de IVA por participante.\nIncluye: Material didáct
 ico y certificado de participación en PDF.\n \n\n Mentalidad de crecimient
 o\n\n\nModelos mentales: ¿mentalidad fija o de crecimiento? Con instrument
 o de autoevaluación y desarrollo\nLas estrategias para desarrollar el Grow
 th Mindset: ¡Con ejercicio de autoaplicación! \nFortaleciendo la internali
 dad y el sentido de eficacia: estrategias para el Mundo VUCA y la nueva no
 rmalidad.\nFortalecer la curiosidad\, la flexibilidad y el aprendizaje ági
 l: la caja de herramientas de la GM. \nSiete indicadores y comportamientos
  de GM para líderes: una autoevaluación.\n\n \nFecha: 16 y 18 de febrero 2
 021.\nHorario: 8:30 a.m. a 10:30 a.m.\nDuración: 4 horas.\nPlataforma: Zoo
 m.\nInversión: ¢40.000 + 2% de IVA por participante.\nIncluye: Material di
 dáctico y certificado de participación en PDF.\n \n\n Herramientas de resi
 liencia 2021\n\n\nLa resiliencia se aprende: cuatro estrategias de perfil 
 resiliente para aplicar “aquí y ahora” en la “nueva normalidad”.\nAutoeval
 uación de la capacidad de resiliencia y persistencia de cada participante.
 \nResiliencia en el trabajo: nueve estrategias para desarrollar la capacid
 ad de sobreponerse. Trabajo individual/grupal de reconocimiento y aplicaci
 ón de las estrategias.\n10 guías para la acción en equipos resilientes rem
 otos\, con autoevaluación.\n\nFecha: 23 y 25 de febrero del 2021.\nHorario
 : 8:30 a.m. a 10:30 a.m.\nDuración: 4 horas.\nPlataforma: Zoom.\nInversión
 : ¢40.000 + 2% de IVA por participante.\nIncluye: Material didáctico y cer
 tificado de participación en PDF.\n \nFacilitador: Dr. Enrique Margery\n\n
 Doctor en Educación y TEDx speaker.\nProfesor de la Maestría en Psicología
  del Trabajo en la Universidad de Costa Rica. Profesor invitado de la Univ
 ersidad de Querétaro (UAQ\, México) y la Universidad UAGM (Puerto Rico).\n
 Diseña capacitación para desarrollo de soft skills basado en aprendizaje p
 or la experiencia\, GBL y “reto-aprendizaje”.\nCoach especialista en cienc
 ia de la colaboración y manejo de top performers.\nDiseña herramientas par
 a medir el Sentido de Urgencia\, el “termómetro de la colaboración” y la r
 entabilidad de la capacitación\, entre otros.\nAutor de los libros “Comple
 jidad y Competencias”\, “Herramientas de Coaching”\, “El Viaje” (Editorial
  Norma\; uno de los primeros libros de psicología positiva publicados) y '
 Complejidad\, Transdisciplinariedad y Compentencias'\n\n \nTodas nuestras 
 capacitaciones pueden ser impartidas en su organización\n \nInscripciones 
 e Información al e-mail info@cedeso.co.cr\nTel: (506) 2225-1007 · Fax: (50
 6) 2253-2774\nVisite nuestra página www.cedeso.co.cr\nfacebook.com/cedesoc
 ostarica
DTSTART:20210202T143000Z
DTEND:20210225T163000Z
GEO:00;0
LOCATION:Virtual por Zoom.
ORGANIZER;CN=:info@cedeso.co.cr
SEQUENCE:1
SUMMARY:Programa de desarrollo del potencial (PDP)
TRANSP:OPAQUE
URL:https://cedeso.co.cr/eventos-anteriores/357-programa-de-desarrollo-del-
 potencial-pdp
END:VEVENT
END:VCALENDAR
