BEGIN:VCALENDAR
VERSION:2.0
PRODID:-//Cedeso//NONSGML kigkonsult.se iCalcreator 2.30.10//
CALSCALE:GREGORIAN
METHOD:PUBLISH
UID:72d0b02a-6a5e-4785-ae2e-7b45741e8f2b
X-WR-CALNAME:iCagenda
X-WR-CALDESC:Event Management Extension for Joomla!
X-WR-RELCALID:3E26604A-50F4-4449-8B3E-E4F4932D05B5
X-WR-TIMEZONE:America/Costa_Rica
BEGIN:VTIMEZONE
TZID:America/Costa_Rica
BEGIN:STANDARD
TZNAME:CST
DTSTART:20190527T060000
TZOFFSETFROM:+0000
TZOFFSETTO:-0600
END:STANDARD
END:VTIMEZONE
BEGIN:VEVENT
UID:67fa7f26-31c9-4a92-a1ab-3ecaa32a1066
DTSTAMP:20260419T203952Z
CATEGORIES:Mejores Prácticas Organizacionales
CLASS:PUBLIC
DESCRIPTION;ALTREP="CID:<FFFF__=0ABBE548DFE235B58f9e8a93d@coffeebean.com>":
 Taller:\nHabilidades blandas para un liderazgo de impacto\n \nObjetivo: \n
 Ofrecer un espacio de entrenamiento práctico orientado al desarrollo de la
 s habilidades blandas indispensables para ejercer un liderazgo transformac
 ional que impacte de manera asertiva y efectiva en los equipos de trabajo.
 \n \nContenidos:\n\nConociendo mi estilo de liderazgo (Tipos de liderazgo)
 .\n¿Qué se espera de mí como líder? Habilidades indispensables para ejerce
 r un liderazgo de impacto.\nPrincipios básicos de comunicación asertiva.\n
 ¿Cómo delegar y dar instrucciones de forma asertiva?\nEstrategias para dar
  retroalimentación individual\nEl poder de la escucha activa.\nLos errores
  más comunes de los líderes.\nEl desafío del momento presente: Liderando e
 quipos desde la virtualidad y el trabajo remoto.\nHerramientas básicas de 
 administración adecuada del tiempo.\nEstrategias para liderar equipos mult
 igeneracionales.\nMotivación de equipos: ¿cómo lograrla?\nAutocuidado del 
 líder.\n\n \nFecha: 25 y 26 de febrero 2021.\nHorario: 8:00 a.m. a 5:00 p.
 m.\nDuración:16 horas. \nModalidad: Virtual por plataforma Zoom.\nInversió
 n: ¢160.000 + 2% de IVA por participante.\nIncluye: Material didáctico y c
 ertificado de participación en PDF.\n \nFacilitadora: Licda. Gina Sequeira
 \, Psicóloga\, certificada en Business Coaching\, con posgrado de Gamifica
 ción y Técnicas de Ludificación. Estudios de posgrado en Evaluación y Gere
 ncia de Proyectos. Socia Fundadora de Skills Lab. Más de 5 años de experie
 ncia en el diseño de procesos de capacitación vinculados al desarrollo de 
 habilidades blandas y el fortalecimiento de equipos de alto desempeño. Con
 ferencista nacional e internacional.\n \nTodas nuestras capacitaciones pue
 den ser impartidas en su organización.\n \nInscripciones e información al 
 e-mail info@cedeso.co.cr\nTel: (506) 2225-1007 Fax: (506) 2253-2774\nVisit
 e nuestra página www.cedeso.co.cr\nfacebook.com/cedesocostarica
DTSTART:20210225T140000Z
DTEND:20210226T230000Z
GEO:00;0
LOCATION:Virtual por Zoom.
ORGANIZER;CN=:info@cedeso.co.cr
SEQUENCE:1
SUMMARY:Habilidades blandas para un liderazgo de impacto
TRANSP:OPAQUE
URL:https://cedeso.co.cr/eventos-anteriores/358-habilidades-blandas-para-un
 -liderazgo-de-impacto
END:VEVENT
END:VCALENDAR
