BEGIN:VCALENDAR
VERSION:2.0
PRODID:-//Cedeso//NONSGML kigkonsult.se iCalcreator 2.30.10//
CALSCALE:GREGORIAN
METHOD:PUBLISH
UID:3475162d-6369-450a-8059-68b56dd8275e
X-WR-CALNAME:iCagenda
X-WR-CALDESC:Event Management Extension for Joomla!
X-WR-RELCALID:3E26604A-50F4-4449-8B3E-E4F4932D05B5
X-WR-TIMEZONE:America/Costa_Rica
BEGIN:VTIMEZONE
TZID:America/Costa_Rica
BEGIN:STANDARD
TZNAME:CST
DTSTART:20190504T060000
TZOFFSETFROM:+0000
TZOFFSETTO:-0600
END:STANDARD
END:VTIMEZONE
BEGIN:VEVENT
UID:78d56ab5-868d-4f28-8edb-cc3d4174e996
DTSTAMP:20260419T204155Z
CATEGORIES:Mejores Prácticas Organizacionales
CLASS:PUBLIC
DESCRIPTION;ALTREP="CID:<FFFF__=0ABBE548DFE235B58f9e8a93d@coffeebean.com>":
 Taller:\nInteligencia Emocional y Resiliencia: La llave maestra para el 20
 21\nObjetivo:Brindar herramientas prácticas que favorezcan la inteligencia
  emocional y la resiliencia como forma de construir un año 2021 en el que 
 se cumplan las metas personales y laborales de manera exitosa.\nContenidos
 :• Inteligencia emocional: ¿qué es y por qué es importante desarrollarla?•
  Conociendo y gestionando de forma asertiva mis emociones• Principios bási
 cos para establecer relaciones interpersonales sanas: Comunicación asertiv
 a\, escucha activa\, empatía.• Resiliencia: ¿Cómo sobrellevar situaciones 
 difíciles y salir fortalecidos?• Mi año 2021: ¿Crisis u oportunidad?\nFech
 a: 2 de febrero 2021.Horario: 8:00 a.m. a 5:00 p.m.Duración:8 horas. Modal
 idad: Virtual por plataforma Zoom.Inversión: ¢80.000 + 2% de IVA por parti
 cipante.Incluye: Material didáctico y certificado de participación en PDF.
 \nFacilitadora: Licda. Gina Sequeira\, Psicóloga\, certificada en Business
  Coaching\, con posgrado de Gamificación y Técnicas de Ludificación. Estud
 ios de posgrado en Evaluación y Gerencia de Proyectos. Socia Fundadora de 
 Skills Lab. Más de 5 años de experiencia en el diseño de procesos de capac
 itación vinculados al desarrollo de habilidades blandas y el fortalecimien
 to de equipos de alto desempeño. Conferencista nacional e internacional.\n
 Todas nuestras capacitaciones pueden ser impartidas en su organización.\nI
 nscripciones e información al e-mail info@cedeso.co.crTel: (506) 2225-1007
  Fax: (506) 2253-2774Visite nuestra página www.cedeso.co.crfacebook.com/ce
 desocostarica\n 
DTSTART:20210202T140000Z
DTEND:20210202T230000Z
GEO:00;0
LOCATION:Virtual por Zoom.
ORGANIZER;CN=:info@cedeso.co.cr
SEQUENCE:1
SUMMARY:Inteligencia Emocional y Resiliencia: La llave maestra para el 2021
TRANSP:OPAQUE
URL:https://cedeso.co.cr/eventos-anteriores/359-inteligencia-emocional-y-re
 siliencia-la-llave-maestra-para-el-2021
END:VEVENT
END:VCALENDAR
