BEGIN:VCALENDAR
VERSION:2.0
PRODID:-//Cedeso//NONSGML kigkonsult.se iCalcreator 2.30.10//
CALSCALE:GREGORIAN
METHOD:PUBLISH
UID:f0f78856-0501-445e-b563-45006d1b9cb3
X-WR-CALNAME:iCagenda
X-WR-CALDESC:Event Management Extension for Joomla!
X-WR-RELCALID:3E26604A-50F4-4449-8B3E-E4F4932D05B5
X-WR-TIMEZONE:America/Costa_Rica
BEGIN:VTIMEZONE
TZID:America/Costa_Rica
BEGIN:STANDARD
TZNAME:CST
DTSTART:20190420T060000
TZOFFSETFROM:+0000
TZOFFSETTO:-0600
END:STANDARD
END:VTIMEZONE
BEGIN:VEVENT
UID:e88be734-f1f6-406d-999d-92b4dcd5ce78
DTSTAMP:20260419T190324Z
CATEGORIES:Mejores Prácticas Organizacionales
CLASS:PUBLIC
DESCRIPTION;ALTREP="CID:<FFFF__=0ABBE548DFE235B58f9e8a93d@coffeebean.com>":
 Programa de Desarrollo de la Agilidad (PDA)\nUn programa para desarrollar 
 capacidades urgentes para el Mundo VICA3 talleres de cuatro horas cada uno
 \nObjetivo general del Programa: las las y los participantes serán capaces
  de explicar1\, aplicar2 y apreciar3 herramientas para establecer priorida
 des\, detectar comportamientos obstaculizadores y fomentar comportamientos
  orientados a la agilidad y la tenacidad e identificar los obstáculos a la
  ejecución y las mejores prácticas para superarlos.\n1. Manejo de las Prio
 ridades (4 horas)• ¡Priorizar! A trabajar con las 10 capacidades que la co
 mponen.• Diseño de plan de acción personal con las 10 capacidades.• Plan 1
 -3-9: distinciones y manejo de lo urgente y lo importante (con tema nuevo:
  “1-3-9” en equipos remotos).• Reuniones ágiles: reglas de juego\, comport
 amientos positivos y obstáculos que debemos manejar.\nFecha: 19 y 21 de en
 ero del 2021.Horario: 2:00 p.m. a 4:00 p.m.Duración: 4 horas.Plataforma: Z
 oom.Inversión: ¢40.000 + 2% de IVA por participante.Incluye: Material didá
 ctico y certificado de participación en PDF.\n2. Sentido de Urgencia (SU) 
 (4 horas)• Acción ágil y libre de errores. Las cuatro dimensiones del Sent
 ido de Urgencia. • Autoevaluación del SU en sus cuatro dimensiones (instru
 mento exclusivo del Open Institute).• Comportamientos pro y contra Sentido
  de Urgencia en promesas\, agilidad\, tenacidad y manejo de prioridades.• 
 Urgencia e Inmunidad al Cambio: del “cambio por miedo” al “cambio apreciat
 ivo”.\nFecha: 26 y 28 de enero del 2021.Horario: 2:00 p.m. a 4:00 p.m.Dura
 ción: 4 horas.Plataforma: Zoom.Inversión: ¢40.000 + 2% de IVA por particip
 ante.Incluye: Material didáctico y certificado de participación en PDF.\n3
 . Capacidad de Ejecución• Las nueve capacidades asociadas con la Agilidad 
 en personas\, grupos y organizaciones.• Hablando claro de las fallas en la
  ejecución: el triángulo evitación-disciplina-placidez.• Guías para la acc
 ión en Liderazgo para la Ejecución.• Factores de éxito para la ejecución o
 rganizacional: comportamientos alineados y desalineados con las capabiliti
 es\, sincronización y alineamiento.\nFecha: 2 y 4 de febrero del 2021.Hora
 rio: 2:00 p.m. a 4:00 p.m.Duración: 4 horas.Plataforma: Zoom.Inversión: ¢4
 0.000 + 2% de IVA por participante.Incluye: Material didáctico y certifica
 do de participación en PDF.\nFacilitador: Dr. Enrique Margery- Doctor en E
 ducación y TEDx speaker.- Profesor de la Maestría en Psicología del Trabaj
 o en la Universidad de Costa Rica. Profesor invitado de la Universidad de 
 Querétaro (UAQ\, México) y la Universidad UAGM (Puerto Rico).- Diseña capa
 citación para desarrollo de soft skills basado en aprendizaje por la exper
 iencia\, GBL y “reto-aprendizaje”.- Coach especialista en ciencia de la co
 laboración y manejo de top performers.- Diseña herramientas para medir el 
 Sentido de Urgencia\, el “termómetro de la colaboración” y la rentabilidad
  de la capacitación\, entre otros.- Autor de los libros “Complejidad y Com
 petencias”\, “Herramientas de Coaching”\, “El Viaje” (Editorial Norma\; un
 o de los primeros libros de psicología positiva publicados) y 'Complejidad
 \, Transdisciplinariedad y Compentencias'\nTodas nuestras capacitaciones p
 ueden ser impartidas en su organización\nInscripciones e Información al e-
 mail info@cedeso.co.crTel: (506) 2225-1007 · Fax: (506) 2253-2774Visite nu
 estra página www.cedeso.co.crfacebook.com/cedesocostarica\n 
DTSTART:20210119T200000Z
DTEND:20210204T220000Z
GEO:00;0
LOCATION:Virtual por Zoom
ORGANIZER;CN=:info@cedeso.co.cr
SEQUENCE:1
SUMMARY:Programa de Desarrollo de la Agilidad (PDA)
TRANSP:OPAQUE
URL:https://cedeso.co.cr/eventos-anteriores/361-programa-de-desarrollo-de-l
 a-agilidad-pda
END:VEVENT
END:VCALENDAR
